Workbook

Sheet Listado ZAC
A11: PROYECTO: | B11: CONSTRUCCIÓN Y/O REHABILITACIÓN DE CALLES CON PAVIMENTACIÓN, EN ZACATECAS, VARIAS LOCALIDADES, ASENTAMIENTOS VARIOS, EN 12 CALLES, CON MEZCLA ASFÁLTICA PARA BENEFICIO DE LOS HABITANTES.
A12: LUGAR: | B12: ZACATECAS, ZAC.
B15: CALLE | C15: IMPORTE | D15: Carpeta (M3) | E15: Emulsión R.R. (L) | F15: PINTURA (L) | G15: LETRERO ALUSIVO (R)
C16: $ INC. IVA | D16: REHAB. | E16: REHAB. | F16: REHAB.
A18: 13 | B18: MELITON ORTEGA | C18: =+'7.3 M'!G26 -> 0 | D18: =+'7.3 M'!D18 -> 89.53 | E18: =+'7.3 M'!D17 -> 1492.33 | F18: =+'7.3 M'!D21 -> 41 | G18: 1
A19: 14 | B19: PEÑOLES | C19: =+'8.7 P'!G26 -> 0 | D19: =+'8.7 P'!D18 -> 129.35 | E19: =+'8.7 P'!D17 -> 2155.9 | F19: =+'8.7 P'!D21 -> 43 | G19: 1
A20: 15 | B20: HOJALATEROS TRES CRUCES | C20: =+'3 H'!G25 -> 0 | D20: =+'3 H'!D17 -> 297.95 | E20: =+'3 H'!D16 -> 4966.0011 | F20: =+'3 H'!D20 -> 101 | G20: 1
A21: 16 | B21: CERRO DE HORNITOS | C21: =+'8.8. H'!G26 -> 0 | D21: =+'8.8. H'!D17 -> 73.1 | E21: =+'8.8. H'!D16 -> 1219 | F21: =+'8.8. H'!D20 -> 35 | G21: 1
A22: 17 | B22: NIÑOS HEROES | C22: =+'6 NH'!G25 -> 0 | D22: =+'6 NH'!D17 -> 85.19 | E22: =+'6 NH'!D16 -> 1419.81 | F22: =+'6 NH'!D20 -> 49 | G22: 1
A23: 18 | B23: VICTOR ROSALES | C23: =+#REF! -> #REF! | D23: =+#REF! -> #REF! | E23: =+#REF! -> #REF! | F23: =+#REF! -> #REF! | G23: 1
A24: 19 | B24: JUAL ALVAREZ | C24: =+'8.9.A'!G26 -> 0 | D24: =+'8.9.A'!D17 -> 135.52 | E24: =+'8.9.A'!D16 -> 2259 | F24: =+'8.9.A'!D20 -> 45 | G24: 1
A25: 20 | B25: MARTE LAS PALMAS | C25: =+'8.10 M'!G26 -> 0 | D25: =+'8.10 M'!D17 -> 43.51 | E25: =+'8.10 M'!D16 -> 725.1 | F25: =+'8.10 M'!D20 -> 24 | G25: 1
A26: 21 | B26: GRAL. FCO. MUJICA 5 SEÑORES | C26: =+'8.11.F'!G26 -> 0 | D26: =+'8.11.F'!D17 -> 105.5 | E26: =+'8.11.F'!D16 -> 1758.32 | F26: =+'8.11.F'!D20 -> 65 | G26: 1
A27: 22 | B27: BASILIO PEREZ | C27: =+'8.12 B'!G25 -> 0 | D27: =+'8.12 B'!D17 -> 120 | E27: =+'8.12 B'!D16 -> 1999.95 | F27: =+'8.12 B'!D20 -> 35 | G27: 1
A28: 23 | B28: FRANCISCO ZARCO | C28: =+'8.13 Z'!G25 -> 0 | D28: =+'8.13 Z'!D17 -> 58.35 | E28: =+'8.13 Z'!D16 -> 972.58 | F28: =+'8.13 Z'!D20 -> 27 | G28: 1
A29: 24 | B29: ALFAREROS TRES CRUCES | C29: =+'3.2 A'!G25 -> 0 | D29: =+'3.2 A'!D17 -> 38.73 | E29: =+'3.2 A'!D16 -> 645.469 | F29: =+'3.2 A'!D20 -> 7 | G29: 1
A30: 25 | B30: AMAPOLAS | C30: =+'8.14 A'!G25 -> 0 | D30: =+'8.14 A'!D17 -> 56.15 | E30: =+'8.14 A'!D16 -> 935.77 | F30: =+'8.14 A'!D20 -> 25 | G30: 1
A31: 26 | B31: AV. FERROCARRIL | C31: =+'7.2.AF'!G25 -> 0 | D31: =+'7.2.AF'!D17 -> 75.22 | E31: =+'7.2.AF'!D16 -> 1253.62 | F31: =+'7.2.AF'!D20 -> 24 | G31: 1
A32: 27 | B32: CARLOS HINOJOSA | C32: =+'6.2 CR'!G25 -> 0 | D32: =+'6.2 CR'!D17 -> 194.93 | E32: =+'6.2 CR'!D16 -> 3248.83 | F32: =+'6.2 CR'!D20 -> 67 | G32: 1
A33: 28 | B33: 2DA DE INSURGENTES | C33: =+'7.4 2I'!G25 -> 0 | D33: =+'7.4 2I'!D17 -> 84.03 | E33: =+'7.4 2I'!D16 -> 1400.49 | F33: =+'7.4 2I'!D20 -> 31 | G33: 1
A34: 29 | B34: BOLAÑOS | C34: =+'8.15 B'!G25 -> 0 | D34: =+'8.15 B'!D17 -> 140.73 | E34: =+'8.15 B'!D16 -> 2345.51 | F34: =+'8.15 B'!D20 -> 60 | G34: 1
A35: 30 | B35: DE LA CRUZ | C35: =+'7.5 C'!G25 -> 0 | D35: =+'7.5 C'!D17 -> 33.23 | E35: =+'7.5 C'!D16 -> 553.88 | F35: =+'7.5 C'!D20 -> 18 | G35: 1
A36: 31 | B36: LAURO G. CALOCA | C36: =+'7.6. LG'!G25 -> 0 | D36: =+'7.6. LG'!D17 -> 101.47 | E36: =+'7.6. LG'!D16 -> 1691.2 | F36: =+'7.6. LG'!D20 -> 40 | G36: 1
A37: 32 | B37: AHUIZOTE | C37: =+'7.7 A'!G25 -> 0 | D37: =+'7.7 A'!D17 -> 28.12 | E37: =+'7.7 A'!D16 -> 468.67 | F37: =+'7.7 A'!D20 -> 17 | G37: 1
A38: 33 | B38: FIDEL VELAZQUEZ | C38: =+'6.3 FV'!G25 -> 0 | D38: =+'6.3 FV'!D17 -> 122.85 | E38: =+'6.3 FV'!D16 -> 2047.5 | F38: =+'6.3 FV'!D20 -> 45 | G38: 1
A39: 34 | B39: HDA. TAYAHUA | C39: =+'8.16.T'!G25 -> 0 | D39: =+'8.16.T'!D17 -> 58.41 | E39: =+'8.16.T'!D16 -> 973.47 | F39: =+'8.16.T'!D20 -> 30 | G39: 1
A40: 35 | B40: PAMANES ESCOBEDO | C40: =+'8.17 P'!G25 -> 0 | D40: =+'8.17 P'!D17 -> 88.46 | E40: =+'8.17 P'!D16 -> 1474.43 | F40: =+'8.17 P'!D20 -> 42 | G40: 1
C41: =ROUND(SUM(C18:C40),2) -> #REF! | D41: =SUM(D18:D40) -> #REF! | E41: =SUM(E18:E40) -> #REF! | F41: =SUM(F18:F40) -> #REF! | G41: =SUM(G18:G40) -> 23

Sheet PROYECTO 1
A1: GOBIERNO DEL ESTADO DE ZACATECAS
A9: PROYECTO: | B9: REHABILITACIÓN DE CALLE CON PAVIMENTACIÓN DE MEZCLA ASFÁLTICA, EN ZACATECAS, LOCALIDAD ZACATECAS, ASENTAMIENTO VARIOS, EN 11 ZAP, EN 17 CALLES, PARA BENEFICIO DE LA POBLACIÓN.
A10: UBICACIÓN: | B10: ZACATECAS, ZAC.
A12: PRESUPUESTO DE ADQUISICIÓN DE INSUMOS
A14: Código | B14: Concepto | C14: Unidad | D14: Cantidad | E14: Costo Unitario | F14: Importe
B16: PRELIMINARES
A17: 108LETRERO2 | B17: SUMINISTRO DE LETRERO ALUSIVO A LA OBRA A BASE DE PERFIL TUBULAR PTR DE 2"X2" Y LÁMINA LISA EN SECCIÓN DE 1.20 X 1.50 M. Y UNA ALTURA TOTAL DE 2.50 + 0.50 M DE EMPOTRAMIENTO EN EL QUE DEBE INCLUIR: MUNICIPIO, LOCALIDAD, NOMBRE DE LA OBRA, MONTOS DE INVERSIÓN, LA NATURALEZA DL RECURSO (FISM - FISE) Y TOTAL DE BENEFICIARIOS. INLUYE PINTURA Y ROTULACIÓN DE LOGOTIPOS OFICIALES Y EN SU CASO LAS ACCIONES EN VIVIENDAS BENEFICIADAS, LA PLACA O CALCOMANÍA ALUSIVA AL MENOS DE 20 CM POR 40 CM, CON LOS LOGOTIPOS OFICIALES, DONDE DEBERÁN SEÑALAR LA VIVIENDA BENEFICIADA CON LA OBRA O ACCIÓN RECIBIDA Y NATURALEZA DEL RECURSO (FISE/FISM). L.A.B. EN EL SITIO DE LOS TRABAJOS. | C17: PZA | D17: 1 | E17: 3787 | F17: =+ROUND(D17*E17,2) -> 3787
B18: SUBTOTAL PRELIMINARES | F18: =SUM(F17) -> 3787
B19: PAVIMENTO
A20: MASF0003 | B20: EMULSION CATIONICA DE ROMPIMIENTO RAPIDO (ECR) , DE ACUERDO CON LA NORMA DE LA SCT N-CMT-4-05-001 VIGENTE. (PUESTOS EN CABECERA MUNICIPAL CORRESPONDIENTE) | C20: L | D20: 23225.35 | E20: =+#REF! -> #REF! | F20: =+ROUND(D20*E20,2) -> #REF!
A21: MASFPG64-22P | B21: ADQUISICIÓN DE CARPETA DE CONCRETO ASFALTICO CON CEMENTO ASFALTICO GRADO PG 64-22 ELABORADA EN PLANTA MEZCLA EN CALIENTE TIPO DENSA. (MEZCLA ASFÁLTICA SUELTA PUESTA EN CABECERA MUNICIPAL CORRESPONDIENTE). DE ACUERDO CON LA NORMA DE LA SCT N-CMT-4-05-003 VIGENTE. | C21: M3 | D21: ='8 M'!D18+'8.2 C'!D17+'8.3 Z'!D17+'8.4 G'!D17+'8.5 P'!D17+'8.6 T'!D17+'8.7 P'!D18+'8.8. H'!D17+'8.9.A'!D17+'8.10 M'!D17+'8.11.F'!D17+'8.12 B'!D17+'8.13 Z'!D17+'8.14 A'!D17+'8.15 B'!D17+'8.16.T'!D17+'8.17 P'!D17 -> 1393.44 | E21: =+#REF! -> #REF! | F21: =+ROUND(D21*E21,2) -> #REF!
B22: SUBTOTAL PAVIMENTO | F22: =SUM(F20:F21) -> #REF!
B24: SEÑALAMIENTO
A25: MPIN0001 | B25: PINTURA TRAFICO AMARILLO Y/O BLANCO, BASE AGUA, TIPO II, EN TAMBOS DE 200 L O CUBETA DE 19 L, DE ACUERDO A LA NORMA DE LA SICT N·CMT·5·01·001/13, PUESTA EN ALMACENES DE LA SUBSECRETARÍA DE COMUNICACIONES. | C25: L | D25: ='8 M'!D21+'8.2 C'!D20+'8.3 Z'!D20+'8.4 G'!D20+'8.5 P'!D20+'8.6 T'!D20+'8.7 P'!D21+'8.8. H'!D20+'8.9.A'!D20+'8.10 M'!D20+'8.11.F'!D20+'8.12 B'!D20+'8.13 Z'!D20+'8.14 A'!D20+'8.15 B'!D20+'8.16.T'!D20+'8.17 P'!D20 -> 639 | E25: =+#REF! -> #REF! | F25: =+ROUND(D25*E25,2) -> #REF!
B26: SUBTOTAL SEÑALAMIENTO | F26: =SUM(F25) -> #REF!
E29: SUMA: | F29: =+F18+F22+F26 -> #REF!
E30: 16 % I.V.A. | F30: =+ROUND(F29*0.16,2) -> #REF!
E31: TOTAL | F31: =+F29+F30 -> #REF!
A34: C. Eduardo Quintero Pinedo Arq. Manuel Alfonso Acuña Borda | E34: Ing. Carlos Rodríguez Limas
A35: Director de Costos y Presupuestos Subsecretario de Proyectos y Costos | E35: Subdirector de Validación y Costos

Sheet PROYECTO 2
A1: GOBIERNO DEL ESTADO DE ZACATECAS
A9: PROYECTO: | B9: REHABILITACIÓN DE CALLE CON PAVIMENTACIÓN DE MEZCLA ASFÁLTICA, EN ZACATECAS, LOCALIDAD ZACATECAS, ASENTAMIENTO TOMA DE ZACATECAS, ZAP 0896 Y 0909, EN CALLES BRIGADA MADERO, EJERCITO CONSTITUCIONAL, PARA BENEFICIO DE LA POBLACIÓN.
A10: UBICACIÓN: | B10: ZACATECAS, ZAC.
A12: PRESUPUESTO DE ADQUISICIÓN DE INSUMOS
A14: Código | B14: Concepto | C14: Unidad | D14: Cantidad | E14: Costo Unitario | F14: Importe
B16: PRELIMINARES
A17: 108LETRERO2 | B17: SUMINISTRO DE LETRERO ALUSIVO A LA OBRA A BASE DE PERFIL TUBULAR PTR DE 2"X2" Y LÁMINA LISA EN SECCIÓN DE 1.20 X 1.50 M. Y UNA ALTURA TOTAL DE 2.50 + 0.50 M DE EMPOTRAMIENTO EN EL QUE DEBE INCLUIR: MUNICIPIO, LOCALIDAD, NOMBRE DE LA OBRA, MONTOS DE INVERSIÓN, LA NATURALEZA DL RECURSO (FISM - FISE) Y TOTAL DE BENEFICIARIOS. INLUYE PINTURA Y ROTULACIÓN DE LOGOTIPOS OFICIALES Y EN SU CASO LAS ACCIONES EN VIVIENDAS BENEFICIADAS, LA PLACA O CALCOMANÍA ALUSIVA AL MENOS DE 20 CM POR 40 CM, CON LOS LOGOTIPOS OFICIALES, DONDE DEBERÁN SEÑALAR LA VIVIENDA BENEFICIADA CON LA OBRA O ACCIÓN RECIBIDA Y NATURALEZA DEL RECURSO (FISE/FISM). L.A.B. EN EL SITIO DE LOS TRABAJOS. | C17: PZA | D17: 1 | E17: 3787 | F17: =+ROUND(D17*E17,2) -> 3787
B18: SUBTOTAL PRELIMINARES | F18: =SUM(F17) -> 3787
B19: PAVIMENTO
A20: MASF0003 | B20: EMULSION CATIONICA DE ROMPIMIENTO RAPIDO (ECR) , DE ACUERDO CON LA NORMA DE LA SCT N-CMT-4-05-001 VIGENTE. (PUESTOS EN CABECERA MUNICIPAL CORRESPONDIENTE) | C20: L | D20: ='4. A'!D17+'4.2 '!D16 -> 4412.8 | E20: =+#REF! -> #REF! | F20: =+ROUND(D20*E20,2) -> #REF!
A21: MASFPG64-22P | B21: ADQUISICIÓN DE CARPETA DE CONCRETO ASFALTICO CON CEMENTO ASFALTICO GRADO PG 64-22 ELABORADA EN PLANTA MEZCLA EN CALIENTE TIPO DENSA. (MEZCLA ASFÁLTICA SUELTA PUESTA EN CABECERA MUNICIPAL CORRESPONDIENTE). DE ACUERDO CON LA NORMA DE LA SCT N-CMT-4-05-003 VIGENTE. | C21: M3 | D21: ='4. A'!D18+'4.2 '!D17 -> 264.77 | E21: =+#REF! -> #REF! | F21: =+ROUND(D21*E21,2) -> #REF!
B22: SUBTOTAL PAVIMENTO | F22: =SUM(F20:F21) -> #REF!
B24: SEÑALAMIENTO
A25: MPIN0001 | B25: PINTURA TRAFICO AMARILLO Y/O BLANCO, BASE AGUA, TIPO II, EN TAMBOS DE 200 L O CUBETA DE 19 L, DE ACUERDO A LA NORMA DE LA SICT N·CMT·5·01·001/13, PUESTA EN ALMACENES DE LA SUBSECRETARÍA DE COMUNICACIONES. | C25: L | D25: ='4. A'!D21+'4.2 '!D20 -> 86 | E25: =+#REF! -> #REF! | F25: =+ROUND(D25*E25,2) -> #REF!
B26: SUBTOTAL SEÑALAMIENTO | F26: =SUM(F25) -> #REF!
E29: SUMA: | F29: =+F18+F22+F26 -> #REF!
E30: 16 % I.V.A. | F30: =+ROUND(F29*0.16,2) -> #REF!
E31: TOTAL | F31: =+F29+F30 -> #REF!
A34: C. Eduardo Quintero Pinedo Arq. Manuel Alfonso Acuña Borda | E34: Ing. Carlos Rodríguez Limas
A35: Director de Costos y Presupuestos Subsecretario de Proyectos y Costos | E35: Subdirector de Validación y Costos

Sheet PROYECTO 3
A1: GOBIERNO DEL ESTADO DE ZACATECAS
A9: PROYECTO: | B9: REHABILITACIÓN DE CALLES CON PAVIMENTACIÓN DE MEZCLA ASFÁLTICA, EN ZACATECAS, LOCALIDAD ZACATECAS, ASENTAMIENTO BUENAVISTA Y FLORES MAGÓN, ZAP 0152 Y 0684, EN 7 CALLES, PARA BENEFICIO DE LA POBLACIÓN.
A10: UBICACIÓN: | B10: ZACATECAS, ZAC.
A12: PRESUPUESTO DE ADQUISICIÓN DE INSUMOS
A14: Código | B14: Concepto | C14: Unidad | D14: Cantidad | E14: Costo Unitario | F14: Importe
B16: PRELIMINARES
A17: 108LETRERO2 | B17: SUMINISTRO DE LETRERO ALUSIVO A LA OBRA A BASE DE PERFIL TUBULAR PTR DE 2"X2" Y LÁMINA LISA EN SECCIÓN DE 1.20 X 1.50 M. Y UNA ALTURA TOTAL DE 2.50 + 0.50 M DE EMPOTRAMIENTO EN EL QUE DEBE INCLUIR: MUNICIPIO, LOCALIDAD, NOMBRE DE LA OBRA, MONTOS DE INVERSIÓN, LA NATURALEZA DL RECURSO (FISM - FISE) Y TOTAL DE BENEFICIARIOS. INLUYE PINTURA Y ROTULACIÓN DE LOGOTIPOS OFICIALES Y EN SU CASO LAS ACCIONES EN VIVIENDAS BENEFICIADAS, LA PLACA O CALCOMANÍA ALUSIVA AL MENOS DE 20 CM POR 40 CM, CON LOS LOGOTIPOS OFICIALES, DONDE DEBERÁN SEÑALAR LA VIVIENDA BENEFICIADA CON LA OBRA O ACCIÓN RECIBIDA Y NATURALEZA DEL RECURSO (FISE/FISM). L.A.B. EN EL SITIO DE LOS TRABAJOS. | C17: PZA | D17: 1 | E17: 3787 | F17: =+ROUND(D17*E17,2) -> 3787
B18: SUBTOTAL PRELIMINARES | F18: =SUM(F17) -> 3787
B19: PAVIMENTO
A20: MASF0003 | B20: EMULSION CATIONICA DE ROMPIMIENTO RAPIDO (ECR) , DE ACUERDO CON LA NORMA DE LA SCT N-CMT-4-05-001 VIGENTE. (PUESTOS EN CABECERA MUNICIPAL CORRESPONDIENTE) | C20: L | D20: ='7.1R'!D16+'7.3 M'!D17+'7.2.AF'!D16+'7.4 2I'!D16+'7.5 C'!D16+'7.6. LG'!D16+'7.7 A'!D16 -> 8297.98 | E20: =+#REF! -> #REF! | F20: =+ROUND(D20*E20,2) -> #REF!
A21: MASFPG64-22P | B21: ADQUISICIÓN DE CARPETA DE CONCRETO ASFALTICO CON CEMENTO ASFALTICO GRADO PG 64-22 ELABORADA EN PLANTA MEZCLA EN CALIENTE TIPO DENSA. (MEZCLA ASFÁLTICA SUELTA PUESTA EN CABECERA MUNICIPAL CORRESPONDIENTE). DE ACUERDO CON LA NORMA DE LA SCT N-CMT-4-05-003 VIGENTE. | C21: M3 | D21: ='7.1R'!D17+'7.3 M'!D18+'7.2.AF'!D17+'7.4 2I'!D17+'7.5 C'!D17+'7.6. LG'!D17+'7.7 A'!D17 -> 497.87 | E21: =+#REF! -> #REF! | F21: =+ROUND(D21*E21,2) -> #REF!
B22: SUBTOTAL PAVIMENTO | F22: =SUM(F20:F21) -> #REF!
B24: SEÑALAMIENTO
A25: MPIN0001 | B25: PINTURA TRAFICO AMARILLO Y/O BLANCO, BASE AGUA, TIPO II, EN TAMBOS DE 200 L O CUBETA DE 19 L, DE ACUERDO A LA NORMA DE LA SICT N·CMT·5·01·001/13, PUESTA EN ALMACENES DE LA SUBSECRETARÍA DE COMUNICACIONES. | C25: L | D25: ='7.1R'!D20+'7.3 M'!D21+'7.2.AF'!D20+'7.4 2I'!D20+'7.5 C'!D20+'7.6. LG'!D20+'7.7 A'!D20 -> 210 | E25: =+#REF! -> #REF! | F25: =+ROUND(D25*E25,2) -> #REF!
B26: SUBTOTAL SEÑALAMIENTO | F26: =SUM(F25) -> #REF!
E29: SUMA: | F29: =+F18+F22+F26 -> #REF!
E30: 16 % I.V.A. | F30: =+ROUND(F29*0.16,2) -> #REF!
E31: TOTAL | F31: =+F29+F30 -> #REF!
A34: C. Eduardo Quintero Pinedo Arq. Manuel Alfonso Acuña Borda | E34: Ing. Carlos Rodríguez Limas
A35: Director de Costos y Presupuestos Subsecretario de Proyectos y Costos | E35: Subdirector de Validación y Costos

Sheet PROYECTO 4
A1: GOBIERNO DEL ESTADO DE ZACATECAS
A9: PROYECTO: | B9: REHABILITACIÓN DE CALLES CON PAVIMENTACIÓN DE MEZCLA ASFÁLTICA, EN ZACATECAS, LOCALIDAD ZACATECAS, ASENTAMIENTO TRES CRUCES, EN ZAP 0364, CALLE ALFAREROS Y HOJALATEROS, PARA BENEFICIO DE LA POBLACIÓN.
A10: UBICACIÓN: | B10: ZACATECAS, ZAC.
A12: PRESUPUESTO DE ADQUISICIÓN DE INSUMOS
A14: Código | B14: Concepto | C14: Unidad | D14: Cantidad | E14: Costo Unitario | F14: Importe
B16: PRELIMINARES
A17: 108LETRERO2 | B17: SUMINISTRO DE LETRERO ALUSIVO A LA OBRA A BASE DE PERFIL TUBULAR PTR DE 2"X2" Y LÁMINA LISA EN SECCIÓN DE 1.20 X 1.50 M. Y UNA ALTURA TOTAL DE 2.50 + 0.50 M DE EMPOTRAMIENTO EN EL QUE DEBE INCLUIR: MUNICIPIO, LOCALIDAD, NOMBRE DE LA OBRA, MONTOS DE INVERSIÓN, LA NATURALEZA DL RECURSO (FISM - FISE) Y TOTAL DE BENEFICIARIOS. INLUYE PINTURA Y ROTULACIÓN DE LOGOTIPOS OFICIALES Y EN SU CASO LAS ACCIONES EN VIVIENDAS BENEFICIADAS, LA PLACA O CALCOMANÍA ALUSIVA AL MENOS DE 20 CM POR 40 CM, CON LOS LOGOTIPOS OFICIALES, DONDE DEBERÁN SEÑALAR LA VIVIENDA BENEFICIADA CON LA OBRA O ACCIÓN RECIBIDA Y NATURALEZA DEL RECURSO (FISE/FISM). L.A.B. EN EL SITIO DE LOS TRABAJOS. | C17: PZA | D17: 1 | E17: 3787 | F17: =+ROUND(D17*E17,2) -> 3787
B18: SUBTOTAL PRELIMINARES | F18: =SUM(F17) -> 3787
B19: PAVIMENTO
A20: MASF0003 | B20: EMULSION CATIONICA DE ROMPIMIENTO RAPIDO (ECR) , DE ACUERDO CON LA NORMA DE LA SCT N-CMT-4-05-001 VIGENTE. (PUESTOS EN CABECERA MUNICIPAL CORRESPONDIENTE) | C20: L | D20: 5611.47 | E20: =+#REF! -> #REF! | F20: =+ROUND(D20*E20,2) -> #REF!
A21: MASFPG64-22P | B21: ADQUISICIÓN DE CARPETA DE CONCRETO ASFALTICO CON CEMENTO ASFALTICO GRADO PG 64-22 ELABORADA EN PLANTA MEZCLA EN CALIENTE TIPO DENSA. (MEZCLA ASFÁLTICA SUELTA PUESTA EN CABECERA MUNICIPAL CORRESPONDIENTE). DE ACUERDO CON LA NORMA DE LA SCT N-CMT-4-05-003 VIGENTE. | C21: M3 | D21: ='3 H'!D17+'3.2 A'!D17 -> 336.68 | E21: =+#REF! -> #REF! | F21: =+ROUND(D21*E21,2) -> #REF!
B22: SUBTOTAL PAVIMENTO | F22: =SUM(F20:F21) -> #REF!
B24: SEÑALAMIENTO
A25: MPIN0001 | B25: PINTURA TRAFICO AMARILLO Y/O BLANCO, BASE AGUA, TIPO II, EN TAMBOS DE 200 L O CUBETA DE 19 L, DE ACUERDO A LA NORMA DE LA SICT N·CMT·5·01·001/13, PUESTA EN ALMACENES DE LA SUBSECRETARÍA DE COMUNICACIONES. | C25: L | D25: ='3 H'!D20+'3.2 A'!D20 -> 108 | E25: =+#REF! -> #REF! | F25: =+ROUND(D25*E25,2) -> #REF!
B26: SUBTOTAL SEÑALAMIENTO | F26: =SUM(F25) -> #REF!
E29: SUMA: | F29: =+F18+F22+F26 -> #REF!
E30: 16 % I.V.A. | F30: =+ROUND(F29*0.16,2) -> #REF!
E31: TOTAL | F31: =+F29+F30 -> #REF!
A34: C. Eduardo Quintero Pinedo Arq. Manuel Alfonso Acuña Borda | E34: Ing. Carlos Rodríguez Limas
A35: Director de Costos y Presupuestos Subsecretario de Proyectos y Costos | E35: Subdirector de Validación y Costos

Sheet PROYECTO 5
A1: GOBIERNO DEL ESTADO DE ZACATECAS
A9: PROYECTO: | B9: REHABILITACIÓN DE CALLE CON PAVIMENTACIÓN DE MEZCLA ASFÁLTICA, EN ZACATECAS, LOCALIDAD ZACATECAS, ASENTAMIENTO VARIOS, EN 3 ZAP, EN 3 CALLES, PARA BENEFICIO DE LA POBLACIÓN.
A10: UBICACIÓN: | B10: ZACATECAS, ZAC.
A12: PRESUPUESTO DE ADQUISICIÓN DE INSUMOS
A14: Código | B14: Concepto | C14: Unidad | D14: Cantidad | E14: Costo Unitario | F14: Importe
B16: PRELIMINARES
A17: 108LETRERO2 | B17: SUMINISTRO DE LETRERO ALUSIVO A LA OBRA A BASE DE PERFIL TUBULAR PTR DE 2"X2" Y LÁMINA LISA EN SECCIÓN DE 1.20 X 1.50 M. Y UNA ALTURA TOTAL DE 2.50 + 0.50 M DE EMPOTRAMIENTO EN EL QUE DEBE INCLUIR: MUNICIPIO, LOCALIDAD, NOMBRE DE LA OBRA, MONTOS DE INVERSIÓN, LA NATURALEZA DL RECURSO (FISM - FISE) Y TOTAL DE BENEFICIARIOS. INLUYE PINTURA Y ROTULACIÓN DE LOGOTIPOS OFICIALES Y EN SU CASO LAS ACCIONES EN VIVIENDAS BENEFICIADAS, LA PLACA O CALCOMANÍA ALUSIVA AL MENOS DE 20 CM POR 40 CM, CON LOS LOGOTIPOS OFICIALES, DONDE DEBERÁN SEÑALAR LA VIVIENDA BENEFICIADA CON LA OBRA O ACCIÓN RECIBIDA Y NATURALEZA DEL RECURSO (FISE/FISM). L.A.B. EN EL SITIO DE LOS TRABAJOS. | C17: PZA | D17: 1 | E17: 3787 | F17: =+ROUND(D17*E17,2) -> 3787
B18: SUBTOTAL PRELIMINARES | F18: =SUM(F17) -> 3787
B19: PAVIMENTO
A20: MASF0003 | B20: EMULSION CATIONICA DE ROMPIMIENTO RAPIDO (ECR) , DE ACUERDO CON LA NORMA DE LA SCT N-CMT-4-05-001 VIGENTE. (PUESTOS EN CABECERA MUNICIPAL CORRESPONDIENTE) | C20: L | D20: ='6 NH'!D16+'6.2 CR'!D16+'6.3 FV'!D16 -> 6716.14 | E20: =+#REF! -> #REF! | F20: =+ROUND(D20*E20,2) -> #REF!
A21: MASFPG64-22P | B21: ADQUISICIÓN DE CARPETA DE CONCRETO ASFALTICO CON CEMENTO ASFALTICO GRADO PG 64-22 ELABORADA EN PLANTA MEZCLA EN CALIENTE TIPO DENSA. (MEZCLA ASFÁLTICA SUELTA PUESTA EN CABECERA MUNICIPAL CORRESPONDIENTE). DE ACUERDO CON LA NORMA DE LA SCT N-CMT-4-05-003 VIGENTE. | C21: M3 | D21: ='6 NH'!D17+'6.2 CR'!D17+'6.3 FV'!D17 -> 402.97 | E21: =+#REF! -> #REF! | F21: =+ROUND(D21*E21,2) -> #REF!
B22: SUBTOTAL PAVIMENTO | F22: =SUM(F20:F21) -> #REF!
B24: SEÑALAMIENTO
A25: MPIN0001 | B25: PINTURA TRAFICO AMARILLO Y/O BLANCO, BASE AGUA, TIPO II, EN TAMBOS DE 200 L O CUBETA DE 19 L, DE ACUERDO A LA NORMA DE LA SICT N·CMT·5·01·001/13, PUESTA EN ALMACENES DE LA SUBSECRETARÍA DE COMUNICACIONES. | C25: L | D25: ='6 NH'!D20+'6.2 CR'!D20+'6.3 FV'!D20 -> 161 | E25: =+#REF! -> #REF! | F25: =+ROUND(D25*E25,2) -> #REF!
B26: SUBTOTAL SEÑALAMIENTO | F26: =SUM(F25) -> #REF!
E29: SUMA: | F29: =+F18+F22+F26 -> #REF!
E30: 16 % I.V.A. | F30: =+ROUND(F29*0.16,2) -> #REF!
E31: TOTAL | F31: =+F29+F30 -> #REF!
A34: C. Eduardo Quintero Pinedo Arq. Manuel Alfonso Acuña Borda | E34: Ing. Carlos Rodríguez Limas
A35: Director de Costos y Presupuestos Subsecretario de Proyectos y Costos | E35: Subdirector de Validación y Costos

Sheet RESUMEN
A1: GOBIERNO DEL ESTADO DE ZACATECAS
A5: LICITACIÓN No: | B5: EA-932063953-SOP050-2023
A6: PROYECTO: | B6: ADQUISICION DE INSUMOS PARA LA CONSTRUCCIÓN Y REHABILITACIÓN CON PAVIMENTACIÓN DE MEZCLA ASFÁLTICA EN ZACATECAS, LOCALIDADES VARIAS, EN CALLES VARIAS INCLUYE: 3,477.99 M3 DE MEZCLA ASFÁLTICA, 57,968.22 LTS DE EMULSIÓN DE ROMPIMIENTO RÁPIDO, 2,254.56 LTS DE EMULSIÓN ROMPIMIENTO LENTO Y 1,401 LTS DE PINTURA DE TRÁFICO.
A7: UBICACIÓN: | B7: ZACATECAS, ZAC.
A9: RESUMEN DEL LISTADO DE ADQUISICIÓN DE INSUMOS
A11: Código | B11: Concepto | C11: Unidad | D11: Cantidad | E11: Costo Unitario | F11: Importe
A13: 1 | B13: REHABILITACIÓN DE CALLE CON PAVIMENTACIÓN, DE MEZCLA ASFÁLTICA, EN ZACATECAS, LOCALIDAD ZACATECAS, ASENTAMIENTO VILLAS DEL PADRE, ZAP 1729, EN CALLE MISIONEROS, PARA BENEFICIO DE LA POBLACIÓN. | C13: LOTE | D13: 1
A14: 2 | B14: REHABILITACIÓN DE CALLE CON PAVIMENTACIÓN DE MEZCLA ASFÁLTICA, EN ZACATECAS, LOCALIDAD LA PIMIENTA, CALLE DEL PROGRESO, PARA BENEFICIO DE LA POBLACIÓN. | C14: LOTE | D14: 1
A15: 3.1 | B15: REHABILITACIÓN DE CALLE CON PAVIMENTACIÓN, EN ZACATECAS, LOCALIDAD ZACATECAS, ASENTAMIENTO TRES CRUCES, ZAP 0364, CALLE CALLE HOJALATEROS, CON MEZCLA ASFALTICA EN 4,966.00 M2 PARA BENEFICIO DE 10 VIVIENDAS. | C15: LOTE | D15: 1
A16: 3.2 | B16: REHABILITACIÓN DE CALLE CON PAVIMENTACIÓN, EN ZACATECAS, LOCALIDAD ZACATECAS, ASENTAMIENTO TRES CRUCES, ZAP 0364, CALLE ALFAREROS, CON MEZCLA ASFALTICA EN 645.47 M2 PARA BENEFICIO DE 8 VIVIENDAS | C16: LOTE | D16: 1
A17: 4.1 | B17: REHABILITACIÓN DE CALLE CON PAVIMENTACIÓN EN ZACATECAS, LOCALIDAD ZACATECAS ASENTAMIENTO TOMA DE ZACATECAS ZAP 0909, CALLE BRIGADA MADERO, CON MEZCLA ASFÁLTICA EN 2027.85 M2 PARA BENEFICIO DE 5 VIVIENDAS. | C17: LOTE | D17: 1
A18: 4.2 | B18: REHABILITACIÓN DE CALLE CON PAVIMENTACIÓN EN ZACATECAS, LOCALIDAD ZACATECAS ASENTAMIENTO TOMA DE ZACATECAS ZAP 0896, CALLE EJERCITO CONSTITUCIONAL, CON MEZCLA ASFÁLTICA EN 2,384.95 M2 PARA BENEFICIO DE 7 VIVIENDAS. | C18: LOTE | D18: 1
A19: 5 | B19: REHABILITACIÓN DE CALLE CON PAVIMENTACIÓN DE MEZCLA ASFÁLTICA, EN ZACATECAS, LOCALIDAD ZACATECAS. ASENTAMIENTO EL ORITO, ZAP 1150, EN CALLE VILLA HERMOSA, PARA BENEFICIO DE LA POBLACIÓN. | C19: LOTE | D19: 1
A20: 6.1 | B20: REHABILITACIÓN DE CALLE CON PAVIMENTACIÓN, EN ZACATECAS, LOCALIDAD ZACATECAS, ASENTAMIENTO FCO. E. GARCIA, ZAP 0701, CALLE NIÑOS HEROES, CON MEZCLA ASFALTICA EN 1,419.81 M2 PARA BENEFICIO DE 5 VIVIENDAS | C20: LOTE | D20: 1
A21: 6.2 | B21: REHABILITACIÓN DE CALLE CON PAVIMENTACIÓN, EN ZACATECAS, LOCALIDAD ZACATECAS, ASENTAMIENTO CTM, ZAP 0415, CALLE CARLOS HINOJOSA PETIT, CON MEZCLA ASFALTICA EN 3,248.83 M2 PARA BENEFICIO DE 4 VIVIENDAS | C21: LOTE | D21: 1
A22: 6.3 | B22: REHABILITACIÓN DE CALLE CON PAVIMENTACIÓN, EN ZACATECAS, LOCALIDAD ZACATECAS , ASENTAMIENTO ALMA OBRERA, ZAP 1127, CALLE FIDEL VELÁZQUEZ , CON MEZCLA ASFALTICA EN 2,047.50 M2 PARA BENEFICIO DE 8 VIVIENDAS | C22: LOTE | D22: 1
A23: 7.1 | B23: REHABILITACIÓN DE CALLE CON PAVIMENTACIÓN EN ZACATECAS, LOCALIDAD ZACATECAS ASENTAMIENTO FLORES MAGON, ZAP 0152 CALLE RUBEN DARÍO, CON MEZCLA ASFÁLTICA EN 1,437.79 M2 PARA BENEFICIO DE 6 VIVIENDAS. | C23: LOTE | D23: 1
A24: 7.2 | B24: REHABILITACIÓN DE CALLE CON PAVIMENTACIÓN, EN ZACATECAS, LOCALIDAD ZACATECAS, ASENTAMIENTO FLORES MAGON, ZAP 0152, CALLE AV. FERROCARRIL, CON MEZCLA ASFALTICA EN 1,253.62 M2 PARA BENEFICIO DE 6 VIVIENDAS | C24: LOTE | D24: 1
... A47: 9 | B47: REHABILITACIÓN DE CALLE CON PAVIMENTACIÓN DE MEZCLA ASFALTICA, EN ZACATECAS, LOCALIDAD ZACATECAS, ASENTAMIENTO CARLOS HINOJOSA PETIT ZAP 1771, CALLE VÍCTOR ROSALES, OARA BENEFICIO DE LA POBLACIÓN | C47: LOTE | D47: 1
E48: SUBTOTAL
E49: 16 % I.V.A.
E50: TOTAL
E51: (IMPORTE TOTAL CON LETRA)
A53: NOTA: EN PAPELERIA MEBRETADA DE LA EMPRESA Y FIRMADO POR EL REPRESENTANTE LEGAL
A54: LOS BIENES SERÁN ENTREGADOS CONFORME LO REQUIERA EL ÁREA SOLICITANTE RESPETANDO EL PERIODO SEÑALADO

Sheet 1. M
A1: GOBIERNO DEL ESTADO DE ZACATECAS
A8: LICITACIÓN No: | B8: EA-932063953-SOP050-2023
A9: PROYECTO: | B9: REHABILITACIÓN DE CALLE CON PAVIMENTACIÓN, DE MEZCLA ASFÁLTICA, EN ZACATECAS, LOCALIDAD ZACATECAS, ASENTAMIENTO VILLAS DEL PADRE, ZAP 1729, EN CALLE MISIONEROS, PARA BENEFICIO DE LA POBLACIÓN.
A10: UBICACIÓN: | B10: ZACATECAS, ZAC.
A12: PRESUPUESTO DE ADQUISICIÓN DE INSUMOS
A14: Código | B14: Concepto | C14: Unidad | D14: Cantidad | E14: Costo con Número | F14: Costo con letra | G14: Importe
B15: PAVIMENTO
A16: MASF0003 | B16: EMULSION CATIONICA DE ROMPIMIENTO RAPIDO (ECR) , DE ACUERDO CON LA NORMA DE LA SCT N-CMT-4-05-001 VIGENTE. (PUESTOS EN EL SITIO DE LOS TRABAJOS) | C16: L | D16: 4698.84
A17: MASFPG64-22P | B17: ADQUISICIÓN DE CARPETA DE CONCRETO ASFALTICO CON CEMENTO ASFALTICO GRADO PG 64-22 ELABORADA EN PLANTA MEZCLA EN CALIENTE TIPO DENSA. (MEZCLA ASFÁLTICA SUELTA PUESTA EN EL SITIO DE LOS TRABAJOS). DE ACUERDO CON LA NORMA DE LA SCT N-CMT-4-05-003 VIGENTE. | C17: M3 | D17: 281.93
B18: SUBTOTAL PAVIMENTO
B19: SEÑALAMIENTO
A20: MPIN0001 | B20: PINTURA TRAFICO AMARILLO Y/O BLANCO, BASE AGUA, TIPO II, EN TAMBOS DE 200 L O CUBETA DE 19 L, DE ACUERDO A LA NORMA DE LA SICT N·CMT·5·01·001/13, PUESTA EN ALMACENES DE LA SUBSECRETARÍA DE COMUNICACIONES. | C20: L | D20: 120
B21: SUBTOTAL SEÑALAMIENTO
E23: SUBTOTAL
E24: 16 % I.V.A.
E25: TOTAL
E26: (IMPORTE TOTAL CON LETRA)
A27: NOTA: EN PAPELERIA MEBRETADA DE LA EMPRESA Y FIRMADO POR EL REPRESENTANTE LEGAL
A28: LOS BIENES SERÁN ENTREGADOS CONFORME LO REQUIERA EL ÁREA SOLICITANTE RESPETANDO EL PERIODO SEÑALADO

Sheet 2 P
A1: GOBIERNO DEL ESTADO DE ZACATECAS
A8: LICITACIÓN No: | B8: EA-932063953-SOP050-2023
A9: PROYECTO: | B9: REHABILITACIÓN DE CALLE CON PAVIMENTACIÓN DE MEZCLA ASFÁLTICA, EN ZACATECAS, LOCALIDAD LA PIMIENTA, CALLE DEL PROGRESO, PARA BENEFICIO DE LA POBLACIÓN.
A10: UBICACIÓN: | B10: ZACATECAS, ZAC.
A12: PRESUPUESTO DE ADQUISICIÓN DE INSUMOS
A14: Código | B14: Concepto | C14: Unidad | D14: Cantidad | E14: Costo con Número | F14: Costo con letra | G14: Importe
B15: PAVIMENTO
A16: MASF0003 | B16: EMULSION CATIONICA DE ROMPIMIENTO RAPIDO (ECR) , DE ACUERDO CON LA NORMA DE LA SCT N-CMT-4-05-001 VIGENTE. (PUESTOS EN EL SITIO DE LOS TRABAJOS) | C16: L | D16: 1160.08
A17: MASFPG64-22P | B17: ADQUISICIÓN DE CARPETA DE CONCRETO ASFALTICO CON CEMENTO ASFALTICO GRADO PG 64-22 ELABORADA EN PLANTA MEZCLA EN CALIENTE TIPO DENSA. (MEZCLA ASFÁLTICA SUELTA PUESTA EN EL SITIO DE LOS TRABAJOS). DE ACUERDO CON LA NORMA DE LA SCT N-CMT-4-05-003 VIGENTE. | C17: M3 | D17: 69.6
B18: SUBTOTAL PAVIMENTO
B19: SEÑALAMIENTO
A20: MPIN0001 | B20: PINTURA TRAFICO AMARILLO Y/O BLANCO, BASE AGUA, TIPO II, EN TAMBOS DE 200 L O CUBETA DE 19 L, DE ACUERDO A LA NORMA DE LA SICT N·CMT·5·01·001/13, PUESTA EN ALMACENES DE LA SUBSECRETARÍA DE COMUNICACIONES. | C20: L | D20: 6
B21: SUBTOTAL SEÑALAMIENTO
E23: SUBTOTAL
E24: 16 % I.V.A.
E25: TOTAL
E26: (IMPORTE TOTAL CON LETRA)
A27: NOTA: EN PAPELERIA MEBRETADA DE LA EMPRESA Y FIRMADO POR EL REPRESENTANTE LEGAL
A28: LOS BIENES SERÁN ENTREGADOS CONFORME LO REQUIERA EL ÁREA SOLICITANTE RESPETANDO EL PERIODO SEÑALADO

Sheet 3 H
A1: GOBIERNO DEL ESTADO DE ZACATECAS
A8: LICITACIÓN No: | B8: EA-932063953-SOP050-2023
A9: PROYECTO: | B9: REHABILITACIÓN DE CALLE CON PAVIMENTACIÓN, EN ZACATECAS, LOCALIDAD ZACATECAS, ASENTAMIENTO TRES CRUCES, ZAP 0364, CALLE CALLE HOJALATEROS, CON MEZCLA ASFALTICA EN 4,966.00 M2 PARA BENEFICIO DE 10 VIVIENDAS.
A10: UBICACIÓN: | B10: ZACATECAS, ZAC.
A12: PRESUPUESTO DE ADQUISICIÓN DE INSUMOS
A14: Código | B14: Concepto | C14: Unidad | D14: Cantidad | E14: Costo con Número | F14: Costo con letra | G14: Importe
B15: PAVIMENTO
A16: MASF0003 | B16: EMULSION CATIONICA DE ROMPIMIENTO RAPIDO (ECR) , DE ACUERDO CON LA NORMA DE LA SCT N-CMT-4-05-001 VIGENTE. (PUESTOS EN EL SITIO DE LOS TRABAJOS) | C16: L | D16: 4966.0011
A17: MASFPG64-22P | B17: ADQUISICIÓN DE CARPETA DE CONCRETO ASFALTICO CON CEMENTO ASFALTICO GRADO PG 64-22 ELABORADA EN PLANTA MEZCLA EN CALIENTE TIPO DENSA. (MEZCLA ASFÁLTICA SUELTA PUESTA EN EL SITIO DE LOS TRABAJOS). DE ACUERDO CON LA NORMA DE LA SCT N-CMT-4-05-003 VIGENTE. | C17: M3 | D17: 297.95
B18: TOTAL PAVIMENTO
B19: SEÑALAMIENTO
A20: MPIN0001 | B20: PINTURA TRAFICO AMARILLO Y/O BLANCO, BASE AGUA, TIPO II, EN TAMBOS DE 200 L O CUBETA DE 19 L, DE ACUERDO A LA NORMA DE LA SICT N·CMT·5·01·001/13, PUESTA EN ALMACENES DE LA SUBSECRETARÍA DE COMUNICACIONES. | C20: L | D20: =89+12 -> 101
B21: TOTAL SEÑALAMIENTO
E23: SUBTOTAL
E24: 16 % I.V.A.
E25: TOTAL
E26: (IMPORTE TOTAL CON LETRA)
A27: NOTA: EN PAPELERIA MEBRETADA DE LA EMPRESA Y FIRMADO POR EL REPRESENTANTE LEGAL
A28: LOS BIENES SERÁN ENTREGADOS CONFORME LO REQUIERA EL ÁREA SOLICITANTE RESPETANDO EL PERIODO SEÑALADO

Sheet 3.2 A
A1: GOBIERNO DEL ESTADO DE ZACATECAS
A8: LICITACIÓN No: | B8: EA-932063953-SOP050-2023
A9: PROYECTO: | B9: REHABILITACIÓN DE CALLE CON PAVIMENTACIÓN, EN ZACATECAS, LOCALIDAD ZACATECAS, ASENTAMIENTO TRES CRUCES, ZAP 0364, CALLE ALFAREROS, CON MEZCLA ASFALTICA EN 645.47 M2 PARA BENEFICIO DE 8 VIVIENDAS
A10: UBICACIÓN: | B10: ZACATECAS, ZAC.
A12: PRESUPUESTO DE ADQUISICIÓN DE INSUMOS
A14: Código | B14: Concepto | C14: Unidad | D14: Cantidad | E14: Costo con Número | F14: Costo con letra | G14: Importe
B15: PAVIMENTO
A16: MASF0003 | B16: EMULSION CATIONICA DE ROMPIMIENTO RAPIDO (ECR) , DE ACUERDO CON LA NORMA DE LA SCT N-CMT-4-05-001 VIGENTE. (PUESTOS EN EL SITIO DE LOS TRABAJOS) | C16: L | D16: 645.469
A17: MASFPG64-22P | B17: ADQUISICIÓN DE CARPETA DE CONCRETO ASFALTICO CON CEMENTO ASFALTICO GRADO PG 64-22 ELABORADA EN PLANTA MEZCLA EN CALIENTE TIPO DENSA. (MEZCLA ASFÁLTICA SUELTA PUESTA EN EL SITIO DE LOS TRABAJOS). DE ACUERDO CON LA NORMA DE LA SCT N-CMT-4-05-003 VIGENTE. | C17: M3 | D17: 38.73
B18: TOTAL PAVIMENTO
B19: SEÑALAMIENTO
A20: MPIN0001 | B20: PINTURA TRAFICO AMARILLO Y/O BLANCO, BASE AGUA, TIPO II, EN TAMBOS DE 200 L O CUBETA DE 19 L, DE ACUERDO A LA NORMA DE LA SICT N·CMT·5·01·001/13, PUESTA EN ALMACENES DE LA SUBSECRETARÍA DE COMUNICACIONES. | C20: L | D20: 7
B21: TOTAL SEÑALAMIENTO
E23: SUBTOTAL
E24: 16 % I.V.A.
E25: TOTAL
E26: (IMPORTE TOTAL CON LETRA)
A27: NOTA: EN PAPELERIA MEBRETADA DE LA EMPRESA Y FIRMADO POR EL REPRESENTANTE LEGAL
A28: LOS BIENES SERÁN ENTREGADOS CONFORME LO REQUIERA EL ÁREA SOLICITANTE RESPETANDO EL PERIODO SEÑALADO

Sheet 4. A
A1: GOBIERNO DEL ESTADO DE ZACATECAS
A8: LICITACIÓN No: | B8: EA-932063953-SOP050-2023
A9: PROYECTO: | B9: REHABILITACIÓN DE CALLE CON PAVIMENTACIÓN EN ZACATECAS, LOCALIDAD ZACATECAS ASENTAMIENTO TOMA DE ZACATECAS ZAP 0909, CALLE BRIGADA MADERO, CON MEZCLA ASFÁLTICA EN 2027.85 M2 PARA BENEFICIO DE 5 VIVIENDAS.
A10: UBICACIÓN: | B10: ZACATECAS, ZAC.
A12: PRESUPUESTO DE ADQUISICIÓN DE INSUMOS
A14: Código | B14: Concepto | C14: Unidad | D14: Cantidad | E14: Costo con Número | F14: Costo con letra | G14: Importe
B16: PAVIMENTO
A17: MASF0003 | B17: EMULSION CATIONICA DE ROMPIMIENTO RAPIDO (ECR) , DE ACUERDO CON LA NORMA DE LA SCT N-CMT-4-05-001 VIGENTE. (PUESTOS EN EL SITIO DE LOS TRABAJOS) | C17: L | D17: 2027.85
A18: MASFPG64-22P | B18: ADQUISICIÓN DE CARPETA DE CONCRETO ASFALTICO CON CEMENTO ASFALTICO GRADO PG 64-22 ELABORADA EN PLANTA MEZCLA EN CALIENTE TIPO DENSA. (MEZCLA ASFÁLTICA SUELTA PUESTA EN EL SITIO DE LOS TRABAJOS). DE ACUERDO CON LA NORMA DE LA SCT N-CMT-4-05-003 VIGENTE. | C18: M3 | D18: 121.67
B19: TOTAL PAVIMENTO
B20: SEÑALAMIENTO
A21: MPIN0001 | B21: PINTURA TRAFICO AMARILLO Y/O BLANCO, BASE AGUA, TIPO II, EN TAMBOS DE 200 L O CUBETA DE 19 L, DE ACUERDO A LA NORMA DE LA SICT N·CMT·5·01·001/13, PUESTA EN ALMACENES DE LA SUBSECRETARÍA DE COMUNICACIONES. | C21: L | D21: 45
B22: TOTAL SEÑALAMIENTO
E24: SUBTOTAL
E25: 16 % I.V.A.
E26: TOTAL
E27: (IMPORTE TOTAL CON LETRA)
A28: NOTA: EN PAPELERIA MEBRETADA DE LA EMPRESA Y FIRMADO POR EL REPRESENTANTE LEGAL
A29: LOS BIENES SERÁN ENTREGADOS CONFORME LO REQUIERA EL ÁREA SOLICITANTE RESPETANDO EL PERIODO SEÑALADO

Sheet 4.2 
A1: GOBIERNO DEL ESTADO DE ZACATECAS
A8: LICITACIÓN No: | B8: EA-932063953-SOP050-2023
A9: PROYECTO: | B9: REHABILITACIÓN DE CALLE CON PAVIMENTACIÓN EN ZACATECAS, LOCALIDAD ZACATECAS ASENTAMIENTO TOMA DE ZACATECAS ZAP 0896, CALLE EJERCITO CONSTITUCIONAL, CON MEZCLA ASFÁLTICA EN 2,384.95 M2 PARA BENEFICIO DE 7 VIVIENDAS.
A10: UBICACIÓN: | B10: ZACATECAS, ZAC.
A12: PRESUPUESTO DE ADQUISICIÓN DE INSUMOS
A14: Código | B14: Concepto | C14: Unidad | D14: Cantidad | E14: Costo con Número | F14: Costo con letra | G14: Importe
B15: PAVIMENTO
A16: MASF0003 | B16: EMULSION CATIONICA DE ROMPIMIENTO RAPIDO (ECR) , DE ACUERDO CON LA NORMA DE LA SCT N-CMT-4-05-001 VIGENTE. (PUESTOS EN EL SITIO DE LOS TRABAJOS) | C16: L | D16: 2384.95
A17: MASFPG64-22P | B17: ADQUISICIÓN DE CARPETA DE CONCRETO ASFALTICO CON CEMENTO ASFALTICO GRADO PG 64-22 ELABORADA EN PLANTA MEZCLA EN CALIENTE TIPO DENSA. (MEZCLA ASFÁLTICA SUELTA PUESTA EN EL SITIO DE LOS TRABAJOS). DE ACUERDO CON LA NORMA DE LA SCT N-CMT-4-05-003 VIGENTE. | C17: M3 | D17: 143.1
B18: SUBTOTAL PAVIMENTO
B19: SEÑALAMIENTO
A20: MPIN0001 | B20: PINTURA TRAFICO AMARILLO Y/O BLANCO, BASE AGUA, TIPO II, EN TAMBOS DE 200 L O CUBETA DE 19 L, DE ACUERDO A LA NORMA DE LA SICT N·CMT·5·01·001/13, PUESTA EN ALMACENES DE LA SUBSECRETARÍA DE COMUNICACIONES. | C20: L | D20: 41
B21: SUBTOTAL SEÑALAMIENTO
E24: SUBTOTAL
E25: 16 % I.V.A.
E26: TOTAL
E27: (IMPORTE TOTAL CON LETRA)
A28: NOTA: EN PAPELERIA MEBRETADA DE LA EMPRESA Y FIRMADO POR EL REPRESENTANTE LEGAL
A29: LOS BIENES SERÁN ENTREGADOS CONFORME LO REQUIERA EL ÁREA SOLICITANTE RESPETANDO EL PERIODO SEÑALADO

Sheet 5 VH
A1: GOBIERNO DEL ESTADO DE ZACATECAS
A8: LICITACIÓN No: | B8: EA-932063953-SOP050-2023
A9: PROYECTO: | B9: REHABILITACIÓN DE CALLE CON PAVIMENTACIÓN DE MEZCLA ASFÁLTICA, EN ZACATECAS, LOCALIDAD ZACATECAS. ASENTAMIENTO EL ORITO, ZAP 1150, EN CALLE VILLA HERMOSA, PARA BENEFICIO DE LA POBLACIÓN.
A10: UBICACIÓN: | B10: ZACATECAS, ZAC.
A12: PRESUPUESTO DE ADQUISICIÓN DE INSUMOS
A14: Código | B14: Concepto | C14: Unidad | D14: Cantidad | E14: Costo con Número | F14: Costo con letra | G14: Importe
B15: PAVIMENTO
A16: MASF0003 | B16: EMULSION CATIONICA DE ROMPIMIENTO RAPIDO (ECR) , DE ACUERDO CON LA NORMA DE LA SCT N-CMT-4-05-001 VIGENTE. (PUESTOS EN EL SITIO DE LOS TRABAJOS) | C16: L | D16: 2519.35
A17: MASFPG64-22P | B17: ADQUISICIÓN DE CARPETA DE CONCRETO ASFALTICO CON CEMENTO ASFALTICO GRADO PG 64-22 ELABORADA EN PLANTA MEZCLA EN CALIENTE TIPO DENSA. (MEZCLA ASFÁLTICA SUELTA PUESTA EN EL SITIO DE LOS TRABAJOS). DE ACUERDO CON LA NORMA DE LA SCT N-CMT-4-05-003 VIGENTE. | C17: M3 | D17: 151.16
B18: TOTAL PAVIMENTO
B19: SEÑALAMIENTO
A20: MPIN0001 | B20: PINTURA TRAFICO AMARILLO Y/O BLANCO, BASE AGUA, TIPO II, EN TAMBOS DE 200 L O CUBETA DE 19 L, DE ACUERDO A LA NORMA DE LA SICT N·CMT·5·01·001/13, PUESTA EN ALMACENES DE LA SUBSECRETARÍA DE COMUNICACIONES. | C20: L | D20: 67
B21: TOTAL SEÑALAMIENTO
E23: SUBTOTAL
E24: 16 % I.V.A.
E25: TOTAL
E26: (IMPORTE TOTAL CON LETRA)
A27: NOTA: EN PAPELERIA MEBRETADA DE LA EMPRESA Y FIRMADO POR EL REPRESENTANTE LEGAL
A28: LOS BIENES SERÁN ENTREGADOS CONFORME LO REQUIERA EL ÁREA SOLICITANTE RESPETANDO EL PERIODO SEÑALADO

Sheet 6 NH
A1: GOBIERNO DEL ESTADO DE ZACATECAS
A8: LICITACIÓN No: | B8: EA-932063953-SOP050-2023
A9: PROYECTO: | B9: REHABILITACIÓN DE CALLE CON PAVIMENTACIÓN, EN ZACATECAS, LOCALIDAD ZACATECAS, ASENTAMIENTO FCO. E. GARCIA, ZAP 0701, CALLE NIÑOS HEROES, CON MEZCLA ASFALTICA EN 1,419.81 M2 PARA BENEFICIO DE 5 VIVIENDAS
A10: UBICACIÓN: | B10: ZACATECAS, ZAC.
A12: PRESUPUESTO DE ADQUISICIÓN DE INSUMOS
A14: Código | B14: Concepto | C14: Unidad | D14: Cantidad | E14: Costo con Número | F14: Costo con letra | G14: Importe
B15: PAVIMENTO
A16: MASF0003 | B16: EMULSION CATIONICA DE ROMPIMIENTO RAPIDO (ECR) , DE ACUERDO CON LA NORMA DE LA SCT N-CMT-4-05-001 VIGENTE. (PUESTOS EN EL SITIO DE LOS TRABAJOS) | C16: L | D16: 1419.81
A17: MASFPG64-22P | B17: ADQUISICIÓN DE CARPETA DE CONCRETO ASFALTICO CON CEMENTO ASFALTICO GRADO PG 64-22 ELABORADA EN PLANTA MEZCLA EN CALIENTE TIPO DENSA. (MEZCLA ASFÁLTICA SUELTA PUESTA EN EL SITIO DE LOS TRABAJOS). DE ACUERDO CON LA NORMA DE LA SCT N-CMT-4-05-003 VIGENTE. | C17: M3 | D17: 85.19
B18: SUBTOTAL PAVIMENTO
B19: SEÑALAMIENTO
A20: MPIN0001 | B20: PINTURA TRAFICO AMARILLO Y/O BLANCO, BASE AGUA, TIPO II, EN TAMBOS DE 200 L O CUBETA DE 19 L, DE ACUERDO A LA NORMA DE LA SICT N·CMT·5·01·001/13, PUESTA EN ALMACENES DE LA SUBSECRETARÍA DE COMUNICACIONES. | C20: L | D20: 49
B21: SUBTOTAL SEÑALAMIENTO
E24: SUBTOTAL
E25: 16 % I.V.A.
E26: TOTAL
E27: (IMPORTE TOTAL CON LETRA)
A28: NOTA: EN PAPELERIA MEBRETADA DE LA EMPRESA Y FIRMADO POR EL REPRESENTANTE LEGAL
A29: LOS BIENES SERÁN ENTREGADOS CONFORME LO REQUIERA EL ÁREA SOLICITANTE RESPETANDO EL PERIODO SEÑALADO

Sheet 6.2 CR
A1: GOBIERNO DEL ESTADO DE ZACATECAS
A8: LICITACIÓN No: | B8: EA-932063953-SOP050-2023
A9: PROYECTO: | B9: REHABILITACIÓN DE CALLE CON PAVIMENTACIÓN, EN ZACATECAS, LOCALIDAD ZACATECAS, ASENTAMIENTO CTM, ZAP 0415, CALLE CARLOS HINOJOSA PETIT, CON MEZCLA ASFALTICA EN 3,248.83 M2 PARA BENEFICIO DE 4 VIVIENDAS
A10: UBICACIÓN: | B10: ZACATECAS, ZAC.
A12: PRESUPUESTO DE ADQUISICIÓN DE INSUMOS
A14: Código | B14: Concepto | C14: Unidad | D14: Cantidad | E14: Costo con Número | F14: Costo con letra | G14: Importe
B15: PAVIMENTO
A16: MASF0003 | B16: EMULSION CATIONICA DE ROMPIMIENTO RAPIDO (ECR) , DE ACUERDO CON LA NORMA DE LA SCT N-CMT-4-05-001 VIGENTE. (PUESTOS EN EL SITIO DE LOS TRABAJOS) | C16: L | D16: 3248.83
A17: MASFPG64-22P | B17: ADQUISICIÓN DE CARPETA DE CONCRETO ASFALTICO CON CEMENTO ASFALTICO GRADO PG 64-22 ELABORADA EN PLANTA MEZCLA EN CALIENTE TIPO DENSA. (MEZCLA ASFÁLTICA SUELTA PUESTA EN EL SITIO DE LOS TRABAJOS). DE ACUERDO CON LA NORMA DE LA SCT N-CMT-4-05-003 VIGENTE. | C17: M3 | D17: 194.93
B18: TOTAL PAVIMENTO
B19: SEÑALAMIENTO
A20: MPIN0001 | B20: PINTURA TRAFICO AMARILLO Y/O BLANCO, BASE AGUA, TIPO II, EN TAMBOS DE 200 L O CUBETA DE 19 L, DE ACUERDO A LA NORMA DE LA SICT N·CMT·5·01·001/13, PUESTA EN ALMACENES DE LA SUBSECRETARÍA DE COMUNICACIONES. | C20: L | D20: 67
B21: TOTAL SEÑALAMIENTO
E23: SUBTOTAL
E24: 16 % I.V.A.
E25: TOTAL
E26: (IMPORTE TOTAL CON LETRA)
A27: NOTA: EN PAPELERIA MEBRETADA DE LA EMPRESA Y FIRMADO POR EL REPRESENTANTE LEGAL
A28: LOS BIENES SERÁN ENTREGADOS CONFORME LO REQUIERA EL ÁREA SOLICITANTE RESPETANDO EL PERIODO SEÑALADO

Sheet 6.3 FV
A1: GOBIERNO DEL ESTADO DE ZACATECAS
A8: LICITACIÓN No: | B8: EA-932063953-SOP050-2023
A9: PROYECTO: | B9: REHABILITACIÓN DE CALLE CON PAVIMENTACIÓN, EN ZACATECAS, LOCALIDAD ZACATECAS , ASENTAMIENTO ALMA OBRERA, ZAP 1127, CALLE FIDEL VELÁZQUEZ , CON MEZCLA ASFALTICA EN 2,047.50 M2 PARA BENEFICIO DE 8 VIVIENDAS.
A10: UBICACIÓN: | B10: ZACATECAS, ZAC.
A12: PRESUPUESTO DE ADQUISICIÓN DE INSUMOS
A14: Código | B14: Concepto | C14: Unidad | D14: Cantidad | E14: Costo con Número | F14: Costo con letra | G14: Importe
B15: PAVIMENTO
A16: MASF0003 | B16: EMULSION CATIONICA DE ROMPIMIENTO RAPIDO (ECR) , DE ACUERDO CON LA NORMA DE LA SCT N-CMT-4-05-001 VIGENTE. (PUESTOS EN EL SITIO DE LOS TRABAJOS) | C16: L | D16: 2047.5
A17: MASFPG64-22P | B17: ADQUISICIÓN DE CARPETA DE CONCRETO ASFALTICO CON CEMENTO ASFALTICO GRADO PG 64-22 ELABORADA EN PLANTA MEZCLA EN CALIENTE TIPO DENSA. (MEZCLA ASFÁLTICA SUELTA PUESTA EN EL SITIO DE LOS TRABAJOS). DE ACUERDO CON LA NORMA DE LA SCT N-CMT-4-05-003 VIGENTE. | C17: M3 | D17: 122.85
B18: TOTAL PAVIMENTO
B19: SEÑALAMIENTO
A20: MPIN0001 | B20: PINTURA TRAFICO AMARILLO Y/O BLANCO, BASE AGUA, TIPO II, EN TAMBOS DE 200 L O CUBETA DE 19 L, DE ACUERDO A LA NORMA DE LA SICT N·CMT·5·01·001/13, PUESTA EN ALMACENES DE LA SUBSECRETARÍA DE COMUNICACIONES. | C20: L | D20: 45
B21: TOTAL SEÑALAMIENTO
E24: SUBTOTAL
E25: 16 % I.V.A.
E26: TOTAL
E27: (IMPORTE TOTAL CON LETRA)
A28: NOTA: EN PAPELERIA MEBRETADA DE LA EMPRESA Y FIRMADO POR EL REPRESENTANTE LEGAL
A29: LOS BIENES SERÁN ENTREGADOS CONFORME LO REQUIERA EL ÁREA SOLICITANTE RESPETANDO EL PERIODO SEÑALADO

Sheet 7.1R
A1: GOBIERNO DEL ESTADO DE ZACATECAS
A8: LICITACIÓN No: | B8: EA-932063953-SOP050-2023
A9: PROYECTO: | B9: REHABILITACIÓN DE CALLE CON PAVIMENTACIÓN EN ZACATECAS, LOCALIDAD ZACATECAS ASENTAMIENTO FLORES MAGON, ZAP 0152 CALLE RUBEN DARÍO, CON MEZCLA ASFÁLTICA EN 1,437.79 M2 PARA BENEFICIO DE 6 VIVIENDAS.
A10: UBICACIÓN: | B10: ZACATECAS, ZAC.
A12: PRESUPUESTO DE ADQUISICIÓN DE INSUMOS
A14: Código | B14: Concepto | C14: Unidad | D14: Cantidad | E14: Costo con Número | F14: Costo con letra | G14: Importe
B15: PAVIMENTO
A16: MASF0003 | B16: EMULSION CATIONICA DE ROMPIMIENTO RAPIDO (ECR) , DE ACUERDO CON LA NORMA DE LA SCT N-CMT-4-05-001 VIGENTE. (PUESTOS EN EL SITIO DE LOS TRABAJOS) | C16: L | D16: 1437.79
A17: MASFPG64-22P | B17: ADQUISICIÓN DE CARPETA DE CONCRETO ASFALTICO CON CEMENTO ASFALTICO GRADO PG 64-22 ELABORADA EN PLANTA MEZCLA EN CALIENTE TIPO DENSA. (MEZCLA ASFÁLTICA SUELTA PUESTA EN EL SITIO DE LOS TRABAJOS). DE ACUERDO CON LA NORMA DE LA SCT N-CMT-4-05-003 VIGENTE. | C17: M3 | D17: 86.27
B18: SUBTOTAL PAVIMENTO
B19: SEÑALAMIENTO
A20: MPIN0001 | B20: PINTURA TRAFICO AMARILLO Y/O BLANCO, BASE AGUA, TIPO II, EN TAMBOS DE 200 L O CUBETA DE 19 L, DE ACUERDO A LA NORMA DE LA SICT N·CMT·5·01·001/13, PUESTA EN ALMACENES DE LA SUBSECRETARÍA DE COMUNICACIONES. | C20: L | D20: 39
B21: SUBTOTAL SEÑALAMIENTO
E25: SUBTOTAL
E26: 16 % I.V.A.
E27: TOTAL
E28: (IMPORTE TOTAL CON LETRA)
A29: NOTA: EN PAPELERIA MEBRETADA DE LA EMPRESA Y FIRMADO POR EL REPRESENTANTE LEGAL
A30: LOS BIENES SERÁN ENTREGADOS CONFORME LO REQUIERA EL ÁREA SOLICITANTE RESPETANDO EL PERIODO SEÑALADO

Sheet 7.2.AF
A1: GOBIERNO DEL ESTADO DE ZACATECAS
A8: LICITACIÓN No: | B8: EA-932063953-SOP050-2023
A9: PROYECTO: | B9: REHABILITACIÓN DE CALLE CON PAVIMENTACIÓN, EN ZACATECAS, LOCALIDAD ZACATECAS, ASENTAMIENTO FLORES MAGON, ZAP 0152, CALLE AV. FERROCARRIL, CON MEZCLA ASFALTICA EN 1,253.62 M2 PARA BENEFICIO DE 6 VIVIENDAS.
A10: UBICACIÓN: | B10: ZACATECAS, ZAC.
A12: PRESUPUESTO DE ADQUISICIÓN DE INSUMOS
A14: Código | B14: Concepto | C14: Unidad | D14: Cantidad | E14: Costo con Número | F14: Costo con letra | G14: Importe
B15: PAVIMENTO
A16: MASF0003 | B16: EMULSION CATIONICA DE ROMPIMIENTO RAPIDO (ECR) , DE ACUERDO CON LA NORMA DE LA SCT N-CMT-4-05-001 VIGENTE. (PUESTOS EN EL SITIO DE LOS TRABAJOS) | C16: L | D16: 1253.62
A17: MASFPG64-22P | B17: ADQUISICIÓN DE CARPETA DE CONCRETO ASFALTICO CON CEMENTO ASFALTICO GRADO PG 64-22 ELABORADA EN PLANTA MEZCLA EN CALIENTE TIPO DENSA. (MEZCLA ASFÁLTICA SUELTA PUESTA EN EL SITIO DE LOS TRABAJOS). DE ACUERDO CON LA NORMA DE LA SCT N-CMT-4-05-003 VIGENTE. | C17: M3 | D17: 75.22
B18: TOTAL PAVIMENTO
B19: SEÑALAMIENTO
A20: MPIN0001 | B20: PINTURA TRAFICO AMARILLO Y/O BLANCO, BASE AGUA, TIPO II, EN TAMBOS DE 200 L O CUBETA DE 19 L, DE ACUERDO A LA NORMA DE LA SICT N·CMT·5·01·001/13, PUESTA EN ALMACENES DE LA SUBSECRETARÍA DE COMUNICACIONES. | C20: L | D20: 24
B21: TOTAL SEÑALAMIENTO
E24: SUBTOTAL
E25: 16 % I.V.A.
E26: TOTAL
E27: (IMPORTE TOTAL CON LETRA)
A28: NOTA: EN PAPELERIA MEBRETADA DE LA EMPRESA Y FIRMADO POR EL REPRESENTANTE LEGAL
A29: LOS BIENES SERÁN ENTREGADOS CONFORME LO REQUIERA EL ÁREA SOLICITANTE RESPETANDO EL PERIODO SEÑALADO

Sheet 7.3 M
A1: GOBIERNO DEL ESTADO DE ZACATECAS
A8: LICITACIÓN No: | B8: EA-932063953-SOP050-2023
A9: PROYECTO: | B9: REHABILITACIÓN DE CALLE CON PAVIMENTACIÓN,EN ZACATECAS, LOCALIDAD ZACATECAS, ASENTAMIENTO PANFILO NATERA , ZAP 0152, CALLE MELITÓN ORTEGA, CON MEZCLA ASFALTICA EN 1,492.33 M2 PARA BENEFICIO DE 5 VIVIENDAS.
A10: UBICACIÓN: | B10: ZACATECAS, ZAC.
A12: PRESUPUESTO DE ADQUISICIÓN DE INSUMOS
A14: Código | B14: Concepto | C14: Unidad | D14: Cantidad | E14: Costo con Número | F14: Costo con letra | G14: Importe
B16: PAVIMENTO
A17: MASF0003 | B17: EMULSION CATIONICA DE ROMPIMIENTO RAPIDO (ECR) , DE ACUERDO CON LA NORMA DE LA SCT N-CMT-4-05-001 VIGENTE. (PUESTOS EN EL SITIO DE LOS TRABAJOS) | C17: L | D17: 1492.33
A18: MASFPG64-22P | B18: ADQUISICIÓN DE CARPETA DE CONCRETO ASFALTICO CON CEMENTO ASFALTICO GRADO PG 64-22 ELABORADA EN PLANTA MEZCLA EN CALIENTE TIPO DENSA. (MEZCLA ASFÁLTICA SUELTA PUESTA EN EL SITIO DE LOS TRABAJOS). DE ACUERDO CON LA NORMA DE LA SCT N-CMT-4-05-003 VIGENTE. | C18: M3 | D18: 89.53
B19: SUBTOTAL PAVIMENTO
B20: SEÑALAMIENTO
A21: MPIN0001 | B21: PINTURA TRAFICO AMARILLO Y/O BLANCO, BASE AGUA, TIPO II, EN TAMBOS DE 200 L O CUBETA DE 19 L, DE ACUERDO A LA NORMA DE LA SICT N·CMT·5·01·001/13, PUESTA EN ALMACENES DE LA SUBSECRETARÍA DE COMUNICACIONES. | C21: L | D21: 41
B22: SUBTOTAL SEÑALAMIENTO
E26: SUBTOTAL
E27: 16 % I.V.A.
E28: TOTAL
E29: (IMPORTE TOTAL CON LETRA)
A30: NOTA: EN PAPELERIA MEBRETADA DE LA EMPRESA Y FIRMADO POR EL REPRESENTANTE LEGAL
A31: LOS BIENES SERÁN ENTREGADOS CONFORME LO REQUIERA EL ÁREA SOLICITANTE RESPETANDO EL PERIODO SEÑALADO

Sheet 7.4 2I
A1: GOBIERNO DEL ESTADO DE ZACATECAS
A8: LICITACIÓN No: | B8: EA-932063953-SOP050-2023
A9: PROYECTO: | B9: REHABILITACIÓN DE CALLE CON PAVIMENTACIÓN, EN ZACATECAS, LOCALIDAD ZACATECAS, ASENTAMIENTO FLORES MAGON, ZAP 0152, CALLE 2DA DE INSURGENTES, CON MEZCLA ASFALTICA EN 1,400.49 M2 PARA BENEFICIO DE 4 VIVIENDAS.
A10: UBICACIÓN: | B10: ZACATECAS, ZAC.
A12: PRESUPUESTO DE ADQUISICIÓN DE INSUMOS
A14: Código | B14: Concepto | C14: Unidad | D14: Cantidad | E14: Costo con Número | F14: Costo con letra | G14: Importe
B15: PAVIMENTO
A16: MASF0003 | B16: EMULSION CATIONICA DE ROMPIMIENTO RAPIDO (ECR) , DE ACUERDO CON LA NORMA DE LA SCT N-CMT-4-05-001 VIGENTE. (PUESTOS EN EL SITIO DE LOS TRABAJOS) | C16: L | D16: 1400.49
A17: MASFPG64-22P | B17: ADQUISICIÓN DE CARPETA DE CONCRETO ASFALTICO CON CEMENTO ASFALTICO GRADO PG 64-22 ELABORADA EN PLANTA MEZCLA EN CALIENTE TIPO DENSA. (MEZCLA ASFÁLTICA SUELTA PUESTA EN EL SITIO DE LOS TRABAJOS). DE ACUERDO CON LA NORMA DE LA SCT N-CMT-4-05-003 VIGENTE. | C17: M3 | D17: 84.03
B18: TOTAL PAVIMENTO
B19: SEÑALAMIENTO
A20: MPIN0001 | B20: PINTURA TRAFICO AMARILLO Y/O BLANCO, BASE AGUA, TIPO II, EN TAMBOS DE 200 L O CUBETA DE 19 L, DE ACUERDO A LA NORMA DE LA SICT N·CMT·5·01·001/13, PUESTA EN ALMACENES DE LA SUBSECRETARÍA DE COMUNICACIONES. | C20: L | D20: 31
B21: TOTAL SEÑALAMIENTO
E23: SUBTOTAL
E24: 16 % I.V.A.
E25: TOTAL
E26: (IMPORTE TOTAL CON LETRA)
A27: NOTA: EN PAPELERIA MEBRETADA DE LA EMPRESA Y FIRMADO POR EL REPRESENTANTE LEGAL
A28: LOS BIENES SERÁN ENTREGADOS CONFORME LO REQUIERA EL ÁREA SOLICITANTE RESPETANDO EL PERIODO SEÑALADO

Sheet 7.5 C
A1: GOBIERNO DEL ESTADO DE ZACATECAS
A8: LICITACIÓN No: | B8: EA-932063953-SOP050-2023
A9: PROYECTO: | B9: REHABILITACIÓN DE CALLE CON PAVIMENTACIÓN,EN ZACATECAS, LOCALIDAD ZACATECAS, ASENTAMIENTO FLORES MAGON, ZAP 0152, CALLE DE LA CRUZ, CON MEZCLA ASFALTICA EN 553.88 M2 PARA BENEFICIO DE 6 VIVIENDAS.
A10: UBICACIÓN: | B10: ZACATECAS, ZAC.
A12: PRESUPUESTO DE ADQUISICIÓN DE INSUMOS
A14: Código | B14: Concepto | C14: Unidad | D14: Cantidad | E14: Costo con Número | F14: Costo con letra | G14: Importe
B15: PAVIMENTO
A16: MASF0003 | B16: EMULSION CATIONICA DE ROMPIMIENTO RAPIDO (ECR) , DE ACUERDO CON LA NORMA DE LA SCT N-CMT-4-05-001 VIGENTE. (PUESTOS EN EL SITIO DE LOS TRABAJOS) | C16: L | D16: 553.88
A17: MASFPG64-22P | B17: ADQUISICIÓN DE CARPETA DE CONCRETO ASFALTICO CON CEMENTO ASFALTICO GRADO PG 64-22 ELABORADA EN PLANTA MEZCLA EN CALIENTE TIPO DENSA. (MEZCLA ASFÁLTICA SUELTA PUESTA EN EL SITIO DE LOS TRABAJOS). DE ACUERDO CON LA NORMA DE LA SCT N-CMT-4-05-003 VIGENTE. | C17: M3 | D17: 33.23
B18: TOTAL PAVIMENTO
B19: SEÑALAMIENTO
A20: MPIN0001 | B20: PINTURA TRAFICO AMARILLO Y/O BLANCO, BASE AGUA, TIPO II, EN TAMBOS DE 200 L O CUBETA DE 19 L, DE ACUERDO A LA NORMA DE LA SICT N·CMT·5·01·001/13, PUESTA EN ALMACENES DE LA SUBSECRETARÍA DE COMUNICACIONES. | C20: L | D20: 18
B21: TOTAL SEÑALAMIENTO
E23: SUBTOTAL
E24: 16 % I.V.A.
E25: TOTAL
E26: (IMPORTE TOTAL CON LETRA)
A27: NOTA: EN PAPELERIA MEBRETADA DE LA EMPRESA Y FIRMADO POR EL REPRESENTANTE LEGAL
A28: LOS BIENES SERÁN ENTREGADOS CONFORME LO REQUIERA EL ÁREA SOLICITANTE RESPETANDO EL PERIODO SEÑALADO

Sheet 7.6. LG
A1: GOBIERNO DEL ESTADO DE ZACATECAS
A8: LICITACIÓN No: | B8: EA-932063953-SOP050-2023
A9: PROYECTO: | B9: REHABILITACIÓN DE CALLE CON PAVIMENTACIÓN, EN ZACATECAS, LOCALIDAD ZACATECAS, ASENTAMIENTO BUENAVISTA, ZAP 0684, CALLE LAURO G. CALOCA, CON MEZCLA ASFALTICA EN 1,691.20 M2 PARA BENEFICIO DE 8 VIVIENDAS.
A10: UBICACIÓN: | B10: ZACATECAS, ZAC.
A12: PRESUPUESTO DE ADQUISICIÓN DE INSUMOS
A14: Código | B14: Concepto | C14: Unidad | D14: Cantidad | E14: Costo con Número | F14: Costo con letra | G14: Importe
B15: PAVIMENTO
A16: MASF0003 | B16: EMULSION CATIONICA DE ROMPIMIENTO RAPIDO (ECR) , DE ACUERDO CON LA NORMA DE LA SCT N-CMT-4-05-001 VIGENTE. (PUESTOS EN EL SITIO DE LOS TRABAJOS) | C16: L | D16: 1691.2
A17: MASFPG64-22P | B17: ADQUISICIÓN DE CARPETA DE CONCRETO ASFALTICO CON CEMENTO ASFALTICO GRADO PG 64-22 ELABORADA EN PLANTA MEZCLA EN CALIENTE TIPO DENSA. (MEZCLA ASFÁLTICA SUELTA PUESTA EN EL SITIO DE LOS TRABAJOS). DE ACUERDO CON LA NORMA DE LA SCT N-CMT-4-05-003 VIGENTE. | C17: M3 | D17: 101.47
B18: TOTAL PAVIMENTO
B19: SEÑALAMIENTO
A20: MPIN0001 | B20: PINTURA TRAFICO AMARILLO Y/O BLANCO, BASE AGUA, TIPO II, EN TAMBOS DE 200 L O CUBETA DE 19 L, DE ACUERDO A LA NORMA DE LA SICT N·CMT·5·01·001/13, PUESTA EN ALMACENES DE LA SUBSECRETARÍA DE COMUNICACIONES. | C20: L | D20: 40
B21: TOTAL SEÑALAMIENTO
E24: SUBTOTAL
E25: 16 % I.V.A.
E26: TOTAL
E27: (IMPORTE TOTAL CON LETRA)
A28: NOTA: EN PAPELERIA MEBRETADA DE LA EMPRESA Y FIRMADO POR EL REPRESENTANTE LEGAL
A29: LOS BIENES SERÁN ENTREGADOS CONFORME LO REQUIERA EL ÁREA SOLICITANTE RESPETANDO EL PERIODO SEÑALADO

Sheet 7.7 A
A1: GOBIERNO DEL ESTADO DE ZACATECAS
A8: LICITACIÓN No: | B8: EA-932063953-SOP050-2023
A9: PROYECTO: | B9: REHABILITACIÓN DE CALLE CON PAVIMENTACIÓN, EN ZACATECAS, LOCALIDAD ZACATECAS, ASENTAMIENTO FLORES MAGON, ZAP 0152, CALLE DEL AHUIZOTE, CON MEZCLA ASFALTICA EN 468.67 M2 PARA BENEFICIO DE 5 VIVIENDAS.
A10: UBICACIÓN: | B10: ZACATECAS, ZAC.
A12: PRESUPUESTO DE ADQUISICIÓN DE INSUMOS
A14: Código | B14: Concepto | C14: Unidad | D14: Cantidad | E14: Costo con Número | F14: Costo con letra | G14: Importe
B15: PAVIMENTO
A16: MASF0003 | B16: EMULSION CATIONICA DE ROMPIMIENTO RAPIDO (ECR) , DE ACUERDO CON LA NORMA DE LA SCT N-CMT-4-05-001 VIGENTE. (PUESTOS EN EL SITIO DE LOS TRABAJOS) | C16: L | D16: 468.67
A17: MASFPG64-22P | B17: ADQUISICIÓN DE CARPETA DE CONCRETO ASFALTICO CON CEMENTO ASFALTICO GRADO PG 64-22 ELABORADA EN PLANTA MEZCLA EN CALIENTE TIPO DENSA. (MEZCLA ASFÁLTICA SUELTA PUESTA EN EL SITIO DE LOS TRABAJOS). DE ACUERDO CON LA NORMA DE LA SCT N-CMT-4-05-003 VIGENTE. | C17: M3 | D17: 28.12
B18: TOTAL PAVIMENTO
B19: SEÑALAMIENTO
A20: MPIN0001 | B20: PINTURA TRAFICO AMARILLO Y/O BLANCO, BASE AGUA, TIPO II, EN TAMBOS DE 200 L O CUBETA DE 19 L, DE ACUERDO A LA NORMA DE LA SICT N·CMT·5·01·001/13, PUESTA EN ALMACENES DE LA SUBSECRETARÍA DE COMUNICACIONES. | C20: L | D20: 17
B21: TOTAL SEÑALAMIENTO
E25: SUBTOTAL
E26: 16 % I.V.A.
E27: TOTAL
E28: (IMPORTE TOTAL CON LETRA)
A29: NOTA: EN PAPELERIA MEBRETADA DE LA EMPRESA Y FIRMADO POR EL REPRESENTANTE LEGAL
A30: LOS BIENES SERÁN ENTREGADOS CONFORME LO REQUIERA EL ÁREA SOLICITANTE RESPETANDO EL PERIODO SEÑALADO

Sheet 8 M
A1: GOBIERNO DEL ESTADO DE ZACATECAS
A8: LICITACIÓN No: | B8: EA-932063953-SOP050-2023
A9: PROYECTO: | B9: REHABILITACIÓN DE CALLE CON PAVIMENTACIÓN EN ZACATECAS, LOCALIDAD ZACATECAS ASENTAMIENTO EMILIANO ZAPATA ZAP 1678, CALLE 5 DE MAYO, CON MEZCLA ASFÁLTICA EN 843.41 M2 PARA BENEFICIO DE 3 VIVIENDAS.
A10: UBICACIÓN: | B10: ZACATECAS, ZAC.
A12: PRESUPUESTO DE ADQUISICIÓN DE INSUMOS
A14: Código | B14: Concepto | C14: Unidad | D14: Cantidad | E14: Costo con Número | F14: Costo con letra | G14: Importe
B16: PAVIMENTO
A17: MASF0003 | B17: EMULSION CATIONICA DE ROMPIMIENTO RAPIDO (ECR) , DE ACUERDO CON LA NORMA DE LA SCT N-CMT-4-05-001 VIGENTE. (PUESTOS EN EL SITIO DE LOS TRABAJOS) | C17: L | D17: 843.408
A18: MASFPG64-22P | B18: ADQUISICIÓN DE CARPETA DE CONCRETO ASFALTICO CON CEMENTO ASFALTICO GRADO PG 64-22 ELABORADA EN PLANTA MEZCLA EN CALIENTE TIPO DENSA. (MEZCLA ASFÁLTICA SUELTA PUESTA EN EL SITIO DE LOS TRABAJOS). DE ACUERDO CON LA NORMA DE LA SCT N-CMT-4-05-003 VIGENTE. | C18: M3 | D18: 50.6
B19: SUBTOTAL PAVIMENTO
B20: SEÑALAMIENTO
A21: MPIN0001 | B21: PINTURA TRAFICO AMARILLO Y/O BLANCO, BASE AGUA, TIPO II, EN TAMBOS DE 200 L O CUBETA DE 19 L, DE ACUERDO A LA NORMA DE LA SICT N·CMT·5·01·001/13, PUESTA EN ALMACENES DE LA SUBSECRETARÍA DE COMUNICACIONES. | C21: L | D21: 23
B22: SUBTOTAL SEÑALAMIENTO
E24: SUBTOTAL
E25: 16 % I.V.A.
E26: TOTAL
E27: (IMPORTE TOTAL CON LETRA)
A28: NOTA: EN PAPELERIA MEBRETADA DE LA EMPRESA Y FIRMADO POR EL REPRESENTANTE LEGAL
A29: LOS BIENES SERÁN ENTREGADOS CONFORME LO REQUIERA EL ÁREA SOLICITANTE RESPETANDO EL PERIODO SEÑALADO

Sheet 8.2 C
A1: GOBIERNO DEL ESTADO DE ZACATECAS
A8: LICITACIÓN No: | B8: EA-932063953-SOP050-2023
A9: PROYECTO: | B9: REHABILITACIÓN DE CALLE CON PAVIMENTACIÓN EN ZACATECAS, LOCALIDAD ZACATECAS ASENTAMIENTO ESTRELLA DE ORO ZAP 1038, CALLE CENTRAL, CON MEZCLA ASFÁLTICA EN 807.36 M2 PARA BENEFICIO DE 5 VIVIENDAS.
A10: UBICACIÓN: | B10: ZACATECAS, ZAC.
A12: PRESUPUESTO DE ADQUISICIÓN DE INSUMOS
A14: Código | B14: Concepto | C14: Unidad | D14: Cantidad | E14: Costo con Número | F14: Costo con letra | G14: Importe
B15: PAVIMENTO
A16: MASF0003 | B16: EMULSION CATIONICA DE ROMPIMIENTO RAPIDO (ECR) , DE ACUERDO CON LA NORMA DE LA SCT N-CMT-4-05-001 VIGENTE. (PUESTOS EN EL SITIO DE LOS TRABAJOS) | C16: L | D16: 807.36
A17: MASFPG64-22P | B17: ADQUISICIÓN DE CARPETA DE CONCRETO ASFALTICO CON CEMENTO ASFALTICO GRADO PG 64-22 ELABORADA EN PLANTA MEZCLA EN CALIENTE TIPO DENSA. (MEZCLA ASFÁLTICA SUELTA PUESTA EN EL SITIO DE LOS TRABAJOS). DE ACUERDO CON LA NORMA DE LA SCT N-CMT-4-05-003 VIGENTE. | C17: M3 | D17: 48.44
B18: TOTAL PAVIMENTO
B19: SEÑALAMIENTO
A20: MPIN0001 | B20: PINTURA TRAFICO AMARILLO Y/O BLANCO, BASE AGUA, TIPO II, EN TAMBOS DE 200 L O CUBETA DE 19 L, DE ACUERDO A LA NORMA DE LA SICT N·CMT·5·01·001/13, PUESTA EN ALMACENES DE LA SUBSECRETARÍA DE COMUNICACIONES. | C20: L | D20: 24
B21: TOTAL SEÑALAMIENTO
E24: SUBTOTAL
E25: 16 % I.V.A.
E26: TOTAL
E27: (IMPORTE TOTAL CON LETRA)
A28: NOTA: EN PAPELERIA MEBRETADA DE LA EMPRESA Y FIRMADO POR EL REPRESENTANTE LEGAL
A29: LOS BIENES SERÁN ENTREGADOS CONFORME LO REQUIERA EL ÁREA SOLICITANTE RESPETANDO EL PERIODO SEÑALADO

Sheet 8.3 Z
A1: GOBIERNO DEL ESTADO DE ZACATECAS
A8: LICITACIÓN No: | B8: EA-932063953-SOP050-2023
A9: PROYECTO: | B9: REHABILITACIÓN DE CALLE CON PAVIMENTACIÓN EN ZACATECAS, LOCALIDAD ZACATECAS ASENTAMIENTO EMILIANO ZAPATA ZAP 1678, CALLE EMILIANO ZAPATA, CON MEZCLA ASFÁLTICA EN 956.05 M2 PARA BENEFICIO DE 13 VIVIENDAS.
A10: UBICACIÓN: | B10: ZACATECAS, ZAC.
A12: PRESUPUESTO DE ADQUISICIÓN DE INSUMOS
A14: Código | B14: Concepto | C14: Unidad | D14: Cantidad | E14: Costo con Número | F14: Costo con letra | G14: Importe
B15: PAVIMENTO
A16: MASF0003 | B16: EMULSION CATIONICA DE ROMPIMIENTO RAPIDO (ECR) , DE ACUERDO CON LA NORMA DE LA SCT N-CMT-4-05-001 VIGENTE. (PUESTOS EN EL SITIO DE LOS TRABAJOS) | C16: L | D16: 956.05
A17: MASFPG64-22P | B17: ADQUISICIÓN DE CARPETA DE CONCRETO ASFALTICO CON CEMENTO ASFALTICO GRADO PG 64-22 ELABORADA EN PLANTA MEZCLA EN CALIENTE TIPO DENSA. (MEZCLA ASFÁLTICA SUELTA PUESTA EN EL SITIO DE LOS TRABAJOS). DE ACUERDO CON LA NORMA DE LA SCT N-CMT-4-05-003 VIGENTE. | C17: M3 | D17: 57.36
B18: SUBTOTAL PAVIMENTO
B19: SEÑALAMIENTO
A20: MPIN0001 | B20: PINTURA TRAFICO AMARILLO Y/O BLANCO, BASE AGUA, TIPO II, EN TAMBOS DE 200 L O CUBETA DE 19 L, DE ACUERDO A LA NORMA DE LA SICT N·CMT·5·01·001/13, PUESTA EN ALMACENES DE LA SUBSECRETARÍA DE COMUNICACIONES. | C20: L | D20: 34
B21: SUBTOTAL SEÑALAMIENTO
E25: SUBTOTAL
E26: 16 % I.V.A.
E27: TOTAL
E28: (IMPORTE TOTAL CON LETRA)
A29: NOTA: EN PAPELERIA MEBRETADA DE LA EMPRESA Y FIRMADO POR EL REPRESENTANTE LEGAL
A30: LOS BIENES SERÁN ENTREGADOS CONFORME LO REQUIERA EL ÁREA SOLICITANTE RESPETANDO EL PERIODO SEÑALADO

Sheet 8.4 G
A1: GOBIERNO DEL ESTADO DE ZACATECAS
A8: LICITACIÓN No: | B8: EA-932063953-SOP050-2023
A9: PROYECTO: | B9: REHABILITACIÓN DE CALLE CON PAVIMENTACIÓN EN ZACATECAS, LOCALIDAD ZACATECAS ASENTAMIENTO JARDINES DEL SOL ZAP 0792, CALLE GLADIOLAS, CON MEZCLA ASFÁLTICA EN 1,217.31 M2 PARA BENEFICIO DE 13 VIVIENDAS.
A10: UBICACIÓN: | B10: ZACATECAS, ZAC.
A12: PRESUPUESTO DE ADQUISICIÓN DE INSUMOS
A14: Código | B14: Concepto | C14: Unidad | D14: Cantidad | E14: Costo con Número | F14: Costo con letra | G14: Importe
B15: PAVIMENTO
A16: MASF0003 | B16: EMULSION CATIONICA DE ROMPIMIENTO RAPIDO (ECR) , DE ACUERDO CON LA NORMA DE LA SCT N-CMT-4-05-001 VIGENTE. (PUESTOS EN EL SITIO DE LOS TRABAJOS) | C16: L | D16: 1217.31
A17: MASFPG64-22P | B17: ADQUISICIÓN DE CARPETA DE CONCRETO ASFALTICO CON CEMENTO ASFALTICO GRADO PG 64-22 ELABORADA EN PLANTA MEZCLA EN CALIENTE TIPO DENSA. (MEZCLA ASFÁLTICA SUELTA PUESTA EN EL SITIO DE LOS TRABAJOS). DE ACUERDO CON LA NORMA DE LA SCT N-CMT-4-05-003 VIGENTE. | C17: M3 | D17: 73.04
B18: SUBTOTAL PAVIMENTO
B19: SEÑALAMIENTO
A20: MPIN0001 | B20: PINTURA TRAFICO AMARILLO Y/O BLANCO, BASE AGUA, TIPO II, EN TAMBOS DE 200 L O CUBETA DE 19 L, DE ACUERDO A LA NORMA DE LA SICT N·CMT·5·01·001/13, PUESTA EN ALMACENES DE LA SUBSECRETARÍA DE COMUNICACIONES. | C20: L | D20: 40
B21: SUBTOTAL SEÑALAMIENTO
E24: SUBTOTAL
E25: 16 % I.V.A.
E26: TOTAL
E27: (IMPORTE TOTAL CON LETRA)
A28: NOTA: EN PAPELERIA MEBRETADA DE LA EMPRESA Y FIRMADO POR EL REPRESENTANTE LEGAL
A29: LOS BIENES SERÁN ENTREGADOS CONFORME LO REQUIERA EL ÁREA SOLICITANTE RESPETANDO EL PERIODO SEÑALADO

Sheet 8.5 P
A1: GOBIERNO DEL ESTADO DE ZACATECAS
A8: LICITACIÓN No: | B8: EA-932063953-SOP050-2023
A9: PROYECTO: | B9: REHABILITACIÓN DE CALLE CON PAVIMENTACIÓN EN ZACATECAS, LOCALIDAD ZACATECAS ASENTAMIENTO HUERTA VIEJA, ZAP 0788 CALLE PARRA, CON MEZCLA ASFÁLTICA EN 1590.54 M2 PARA BENEFICIO DE 6 VIVIENDAS.
A10: UBICACIÓN: | B10: ZACATECAS, ZAC.
A12: PRESUPUESTO DE ADQUISICIÓN DE INSUMOS
A14: Código | B14: Concepto | C14: Unidad | D14: Cantidad | E14: Costo con Número | F14: Costo con letra | G14: Importe
B15: PAVIMENTO
A16: MASF0003 | B16: EMULSION CATIONICA DE ROMPIMIENTO RAPIDO (ECR) , DE ACUERDO CON LA NORMA DE LA SCT N-CMT-4-05-001 VIGENTE. (PUESTOS EN EL SITIO DE LOS TRABAJOS) | C16: L | D16: 1590.54
A17: MASFPG64-22P | B17: ADQUISICIÓN DE CARPETA DE CONCRETO ASFALTICO CON CEMENTO ASFALTICO GRADO PG 64-22 ELABORADA EN PLANTA MEZCLA EN CALIENTE TIPO DENSA. (MEZCLA ASFÁLTICA SUELTA PUESTA EN EL SITIO DE LOS TRABAJOS). DE ACUERDO CON LA NORMA DE LA SCT N-CMT-4-05-003 VIGENTE. | C17: M3 | D17: 95.43
B18: SUBTOTAL PAVIMENTO
B19: SEÑALAMIENTO
A20: MPIN0001 | B20: PINTURA TRAFICO AMARILLO Y/O BLANCO, BASE AGUA, TIPO II, EN TAMBOS DE 200 L O CUBETA DE 19 L, DE ACUERDO A LA NORMA DE LA SICT N·CMT·5·01·001/13, PUESTA EN ALMACENES DE LA SUBSECRETARÍA DE COMUNICACIONES. | C20: L | D20: 56
B21: SUBTOTAL SEÑALAMIENTO
E24: SUBTOTAL
E25: 16 % I.V.A.
E26: TOTAL
E27: (IMPORTE TOTAL CON LETRA)
A28: NOTA: EN PAPELERIA MEBRETADA DE LA EMPRESA Y FIRMADO POR EL REPRESENTANTE LEGAL
A29: LOS BIENES SERÁN ENTREGADOS CONFORME LO REQUIERA EL ÁREA SOLICITANTE RESPETANDO EL PERIODO SEÑALADO

Sheet 8.6 T
A1: GOBIERNO DEL ESTADO DE ZACATECAS
A8: LICITACIÓN No: | B8: EA-932063953-SOP050-2023
A9: PROYECTO: | B9: REHABILITACIÓN DE CALLE CON PAVIMENTACIÓN EN ZACATECAS, LOCALIDAD ZACATECAS ASENTAMIENTO J.G. ORTEGA, ZAP 0400 CALLE TENOCHTITLÁN, CON MEZCLA ASFÁLTICA EN 991.65 M2 PARA BENEFICIO DE 5 VIVIENDAS.
A10: UBICACIÓN: | B10: ZACATECAS, ZAC.
A12: PRESUPUESTO DE ADQUISICIÓN DE INSUMOS
A14: Código | B14: Concepto | C14: Unidad | D14: Cantidad | E14: Costo con Número | F14: Costo con letra | G14: Importe
B15: PAVIMENTO
A16: MASF0003 | B16: EMULSION CATIONICA DE ROMPIMIENTO RAPIDO (ECR) , DE ACUERDO CON LA NORMA DE LA SCT N-CMT-4-05-001 VIGENTE. (PUESTOS EN EL SITIO DE LOS TRABAJOS) | C16: L | D16: 991.65
A17: MASFPG64-22P | B17: ADQUISICIÓN DE CARPETA DE CONCRETO ASFALTICO CON CEMENTO ASFALTICO GRADO PG 64-22 ELABORADA EN PLANTA MEZCLA EN CALIENTE TIPO DENSA. (MEZCLA ASFÁLTICA SUELTA PUESTA EN EL SITIO DE LOS TRABAJOS). DE ACUERDO CON LA NORMA DE LA SCT N-CMT-4-05-003 VIGENTE. | C17: M3 | D17: 59.49
B18: TOTAL PAVIMENTO
B19: SEÑALAMIENTO
A20: MPIN0001 | B20: PINTURA TRAFICO AMARILLO Y/O BLANCO, BASE AGUA, TIPO II, EN TAMBOS DE 200 L O CUBETA DE 19 L, DE ACUERDO A LA NORMA DE LA SICT N·CMT·5·01·001/13, PUESTA EN ALMACENES DE LA SUBSECRETARÍA DE COMUNICACIONES. | C20: L | D20: 31
B21: TOTAL SEÑALAMIENTO
E23: SUBTOTAL
E24: 16 % I.V.A.
E25: TOTAL
E26: (IMPORTE TOTAL CON LETRA)
A27: NOTA: EN PAPELERIA MEBRETADA DE LA EMPRESA Y FIRMADO POR EL REPRESENTANTE LEGAL
A28: LOS BIENES SERÁN ENTREGADOS CONFORME LO REQUIERA EL ÁREA SOLICITANTE RESPETANDO EL PERIODO SEÑALADO

Sheet 8.7 P
A1: GOBIERNO DEL ESTADO DE ZACATECAS
A8: LICITACIÓN No: | B8: EA-932063953-SOP050-2023
A9: PROYECTO: | B9: REHABILITACIÓN DE CALLE CON PAVIMENTACIÓN, EN ZACATECAS, LOCALIDAD ZACATECAS, ASENTAMIENTO CINCO SEÑORES, ZAP 067A, CALLE PEÑOLES, CON MEZCLA ASFALTICA EN 2,155.90 M2 PARA BENEFICIO DE 15 VIVIENDAS.
A10: UBICACIÓN: | B10: ZACATECAS, ZAC.
A12: PRESUPUESTO DE ADQUISICIÓN DE INSUMOS
A14: Código | B14: Concepto | C14: Unidad | D14: Cantidad | E14: Costo con Número | F14: Costo con letra | G14: Importe
B16: PAVIMENTO
