Workbook
Name area: #REF!
Name cargo: #REF!
Name cargocontacto: #REF!
Name cargoresponsabledelaobra: #REF!
Name cargovendedor: #REF!
Name ciudad: #REF!
Name ciudadcliente: #REF!
Name ciudaddelaobra: #REF!
Name cmic: #REF!
Name codigodelaobra: #REF!
Name codigopostalcliente: #REF!
Name codigopostaldelaobra: #REF!
Name codigovendedor: #REF!
Name colonia: #REF!
Name coloniacliente: #REF!
Name coloniadelaobra: #REF!
Name contactocliente: #REF!
Name decimalesredondeo: #REF!
Name departamento: #REF!
Name direccioncliente: #REF!
Name direcciondeconcurso: #REF!
Name direcciondelaobra: #REF!
Name domicilio: #REF!
Name email: #REF!
Name emailcliente: #REF!
Name emaildelaobra: #REF!
Name estado: #REF!
Name estadodelaobra: #REF!
Name fechaconvocatoria: #REF!
Name fechadeconcurso: #REF!
Name fechainicio: #REF!
Name fechaterminacion: #REF!
Name imss: #REF!
Name infonavit: #REF!
Name mailcontacto: #REF!
Name mailvendedor: #REF!
Name nombrecliente: #REF!
Name nombredelaobra: #REF!
Name nombrevendedor: #REF!
Name numconvocatoria: #REF!
Name numerodeconcurso: #REF!
Name plazocalculado: #REF!
Name plazoreal: #REF!
Name porcentajeivapresupuesto: #REF!
Name primeramoneda: #REF!
Name razonsocial: #REF!
Name remateprimeramoneda: #REF!
Name rematesegundamoneda: #REF!
Name responsable: #REF!
Name responsabledelaobra: #REF!
Name rfc: #REF!
Name segundamoneda: #REF!
Name telefono: #REF!
Name telefonocliente: #REF!
Name telefonocontacto: #REF!
Name telefonodelaobra: #REF!
Name telefonovendedor: #REF!
Name tipodelicitacion: #REF!
Name totalpresupuestoprimeramoneda: #REF!
Name totalpresupuestosegundamoneda: #REF!

Sheet NEZA
A1: GOBIERNO DEL ESTADO DE ZACATECAS
A9: Licitación No. | B9: EO-932063953-SOP061-2023
A10: Obra: | B10: MODERNIZACIÓN Y AMPLIACIÓN DE LA VIALIDAD NEZAHUALCOYOTL CON UNA LONGITUD DE 1.66 KM. (0+000 - 1+664) MEDIANTE CONSTRUCCIÓN DE TERRACERÍAS, ESTRUCTURAS Y OBRAS DE DRENAJE, PAVIMENTOS, PUENTE PEATONAL Y SEÑALAMIENTO EN EL MUNICIPIO DE ZACATERCAS, ZAC. PARA MEJORAR LA MOVILIDAD DE LAS HABITANTES Y LOS HABITANTES
A11: Lugar: | B11: ZACATECAS, ZAC.
A13: PRESUPUESTO DE OBRA
A15: Código | B15: Concepto | C15: Unidad | D15: Cantidad | E15: P. Unitario | F15: P. Unitario con Letra | G15: Importe
B16: VIALIDAD NEZAHUALCOYOLT
B17: DEMOLICIONES
A18: 00000031U | B18: DEMOLICION DE CARPETA ASFALTICA CON EQUIPO MECANICO SIN RECUPERACION. INCLUYE: ACARREOS LOCALES, CARGA, ACARREO FUERA DE LA OBRA, MANO DE OBRA, HERRAMIENTA TODO LO NECESARIO PARA SU CORRECTA EJECUCIÓN. | C18: M3 | D18: 1120
A19: 00000026OV | B19: DEMOLICIÓN DE CONCRETO HIDRÁULICO. POR UNIDAD DE OBRA TERMINADA, (INCISO N.CTR.CAR.1.02.013/00) DE LAS NORMAS DE CONSTRUCCION DE CARRETERAS DE LA S.C.T. INCLUYE ACARREO DE MATERIAL FUERA DE LA OBRA. | C19: M3 | D19: 654
B20: TOTAL DEMOLICIONES
B21: PRELIMINARES
A22: 01000176V | B22: TRAZO Y NIVELACIÓN DE TERRENO ESTABLECIENDO REFERENCIAS PROVISIONALES Y/O DEFINITIVAS, CON EQUIPO TOPOGRÁFICO. INCLUYE: PERSONAL TÉCNICO, ESTACAS, MOJONERAS, LOCALIZACIÓN DE ENTRE EJES, BANCOS DE NIVEL, SEÑALAMIENTO, EQUIPO, HERRAMIENTA, MANO DE OBRA Y TODO LO NECESARIO PARA LA CORRECTA EJECUCIÓN DE LOS TRABAJOS. | C22: M2 | D22: 16800
A23: 00151610MP | B23: REUBICACION DE POSTE DE RED ELECTRICA Y/O ALUMBRADO. INCLUYE: MANO DE OBRA, EQUIPO, HERRAMIENTA Y TODO LO NECESARIO PARA SU EJECUCION. | C23: PZA | D23: 25
A24: 00151615MP | B24: REUBICACION DE POSTE DE TELEFONIA. INCLUYE: MANO DE OBRA, EQUIPO, HERRAMIENTA Y TODO LO NECESARIO PARA SU EJECUCION. | C24: PZA | D24: 30
A25: 00220010J | B25: REUBICACIÓN DE LETREROS Y SEÑALES EXISTENTES DE ACUERDO A PROYECTO. INCLUYE. MATERIAL, MANO DE OBRA, HERRAMIENTA Y TODO LO NECESARIO PARA SU EJECUCIÓN. | C25: PZA | D25: 8
A26: 16000205 | B26: ELABORACION DE BASE TRONCO PIRAMIDAL CUADRANGULAR DE CONCRETO F´c= 200 KG/CM2, DE BASE SUPERIOR DE 0.40 X 0.40 M. Y BASE INFERIOR DE 0.80 X 0.80 X 0.80 M. DE ALTURA. INCLUYE: ESTABILIZADOR DE VOLUMEN NO METALICO FESTERGROUT NM 800, ANCLAS DE 3/4" DE 0.70 M. DE LONGITUD CON CUERDA CORRIDA PARA ANCLAJE DE POSTES, MATERIALES, MANO DE OBRA, HERRAMIENTA Y TODO LO NECESARIO PARA SU EJECUCION. | C26: PZA | D26: 25
A27: 1801REVG10 | B27: RETIRO, RESGUARDO Y TRANSPLANTE VEGETACION EXISTENTE DE ESPECIE ÁRBOL, PODANDO 1/3 DEL FOLLAJE BAJO PARA COMPENSAR LAS RAICES QUE PERDERÁ, COLOCÁNDOLOS EN CONTENEDEROS PARA UBICARLOS EN EL AREA DE RESGUARDO INDICADA POR SUPERVISIÓN MANTENIÉNDOLAS HIDRATADAS, SE TRANSPLANTARAN EN TIERRA PREVIAMENTE HÚMEDA ANTES DE LA EXCAVACIÓN UTILIZANDO UNA ENRAIZADDORA QUIMICA,. LA CEPA SE RELLENARÁ CON 40% DE TIERRA LAMA DE LA REGION, 40% DE ARENA LAVADA DE RIO Y 20% DE HUMUS O COMPOSTA. INCLUYE: MANIOBRAS, MANO DE OBRA, MATERIALES, HERRAMIENTA Y TODO LO NECESARIO PARA SU EJECUCIÓN. | C27: PZA | D27: 31
B28: TOTAL PRELIMINARES
B29: TERRACERÍAS
A30: 21000017F | B30: EXCAVACION EN CORTES POR UNIDAD DE OBRA TERMINADA (INCISO N. CTR. CAR. 1.01.003/11 DE LAS NORMAS DE CONSTRUCCION DE SCT). | C30: M3 | D30: 7897
A31: 21000048 | B31: COMPACTACION DEL TERRENO NATURAL EN EL AREA DE DESPLANTE DE LOS TERRAPLENES PARA NOVENTA POR CIENTO (90%) | C31: M3 | D31: 1301
A32: 21000190 | B32: FORMACION DE TERRAPLEN COMPACTADO AL NOVENTA POR CIENTO (90%) POR UNIDAD DE OBRA TERMINADA.( INCISO N. CTR. CAR. 1.01.009/16) DE LA NORMATIVA DE SCT. UTILIZANDO MATERIAL PROCEDENTE DE BANCO. | C32: M3 | D32: 1115
A33: 21000189B | B33: FORMACION DE CAPA SUBRASANTE COMPACTADA AL CIEN POR CIENTO (100%) POR UNIDAD DE OBRA TERMINADA. NORMA N. CTR. CAR. 1.01.009/16 DE LA NORMATIVA DE SCT. UTILIZANDO MATERIAL PROCEDENTE DE BANCO. | C33: M3 | D33: 8591
A34: 24903005 | B34: EXCAVACION PARA ESTRUCTURAS POR UNIDAD DE OBRA TERMINADA (INCISO N.CTR.CAR.1.01.007/11) DE LAS NORMAS DE CONSTRUCCION DE CARRETERAS DE LA S.C.T. CUALESQUIERA QUE SEA SU CLASIFICACION Y PROFUNDIDAD. | C34: M3 | D34: 325
A35: 22000062S | B35: RELLENOS. POR UNIDAD DE OBRA TERMINADA (INICISO N-CTR-CAR-1-01-011/20) DE EXCAVACIONES PARA ESTRUCTURAS, OBRAS DE DRENAJE Y SUBDRENAJE, CUÑAS DE TERRAPLENES CONTIGUOS A ESTRUCTURAS, ASÍ COMO EN TRINCHERAS ESTABILIZADORAS. CON MATERIAL SELECCIONADO O NO DE ACUERDO A LO REQUERIDO DE PIEDRA DE LA REGIÓN. | C35: M3 | D35: 315
B36: TOTAL TERRACERÍAS
B37: ESTRUCTURAS Y OBRAS DE DRENAJE
A38: 22000216T | B38: CONCRETO HIDRAULICO SIMPLE DE F´C= 100 KG/CM2. POR UNIDAD DE OBRA TERMINADA (INCISO N.CTR.CAR.1.02.003/00) DE LAS NORMAS DE CONSTRUCCION DE CARRETERAS DE LA S.C.T. EN PLANTILLAS. | C38: M3 | D38: 6
A39: 24903022 | B39: CONCRETO HIDRAULICO PREMEZCLADO F'c=250 Kg/cm2 R.N. POR UNIDAD DE OBRA TERMINADA (INCISO N.CTR.CAR.1.02.003/00) DE LAS NORMAS DE CONSTRUCCION DE CARRETERAS DE LA S.C.T., TAMAÑO MAXIMO DE 3/4", REVENIMIENTO DE 10cms. EN MUROS, MUROS DE ESTRIBOS, ALEROS, CORONAS, PANTALLAS Y BANCOS. ACABADO APARENTE DE ACUERDO A PROYECTO. | C39: M3 | D39: 46
A40: 249030070T | B40: CONCRETO HIDRAULICO F'c= 250 Kg/cm2 POR UNIDAD DE OBRA TERMINADA (INCISO N.CTR.CAR.1.02.003/04) DE LAS NORMAS DE CONSTRUCCION DE CARRETERAS DE LA S.C.T., TAMAÑO MAXIMO DE 3/4", REVENIMIENTO DE ACUERDO A PROYECTO. EN OBRAS DE DRENAJE, SEGUN PROYECTO. INCLUYE TODO LO NECESARIO PARA SU EJECUCIÓN. (CABEZOTES Y LOSAS) | C40: M3 | D40: 12.5
A41: 24903014OD | B41: ACERO DE REFUERZO POR UNIDAD DE OBRA TERMINADA, (INCISO N.CTR.CAR.1.02.004/02) DE LAS NORMAS DE CONSTRUCCION DE CARRETERAS DE LA S.C.T., VARILLAS GRADO 42 (Fy=4200 Kg/cm2) CUALQUIER DIAMETRO. EN OBRAS DE DRENAJE Y ESTRUCTURAS. | C41: KG | D41: 2363
A42: 13210010 | B42: LAVADERO A BASE DE CONCRETO SIMPLE Fc´= 150 KG/CM2 DE ACUERDO A PROYECTO. TERMINADO PULIDO. INCLUYE AFINE DE TALUD, EXCAVACION PARA DENTELLON, CIMBRADO, DESCIMBRADO Y COLADO, MATERIALES, DESPERDICIOS, MANO DE OBRA Y HERRAMIENTA. | C42: M3 | D42: 15
B43: TOTAL ESTRUCTURAS Y OBRAS DE DRENAJE
B45: CAMELLÓN CENTRAL
A46: 21000189C | B46: FORMACION DE TERRAPLEN COMPACTADO AL NOVENTA Y CINCO POR CIENTO (95%) POR UNIDAD DE OBRA TERMINADA. NORMA N. CTR. CAR. 1.01.009/16 DE LA NORMATIVA DE SCT. UTILIZANDO MATERIAL PROCEDENTE DE BANCO (EN CAMELLÓN CENTRAL). | C46: M3 | D46: 1383
A47: 17000224J | B47: GUARNICION A BASE DE CONCRETO HIDRAULICO SIMPLE DE F'C= 250 KG, COLADAS EN EL LUGAR EN SECCION TRAPEZOIDAL DE 20 A 15 X 40 CM. DE ALTURA, CON CIMBRA METALICA INCLUYE: EXCAVACION, AFINE Y COMPACTACION, CIMBRADO, DESCIMBRADO, CURADO, MATERIALES, DESPERDICIOS, MANO DE OBRA Y HERRAMIENTA. (JUNTAS CONSTRUCTIVAS A CADA 3.00 MTS.) | C47: M | D47: 6150
A48: 17000250VN | B48: BANQUETA A BASE DE CONCRETO HIDRAULICO PREMEZCLADO DE F'C= 200 KG/CM2 DE 10 CM DE ESPESOR ARMADO CON MALLA ELECTROSOLDADA 6 X 6- 10/10. POR UNIDAD DE OBRA TERMIBNADA (INCISO N.CTR.CAR.1.02.010/00) DE LAS NORMAS DE CONSTRUCCION DE LA S.C.T. | C48: M2 | D48: 7600
A49: 06000340VA | B49: MARCAS EN GUARNICIONES POR UNIDAD DE OBRA TERMINADA DE ACUERDO AL INCISO N.CTR.CAR.1.07.02/00 DE LA NORMA DE CONSTRUCCION DE LA SCT. | C49: M | D49: 6150
B50: TOTAL CAMELLÓN CENTRAL
...

Sheet RESUMEN
A1: GOBIERNO DEL ESTADO DE ZACATECAS
A8: Licitación No. | B8: EO-932063953-SOP061-2023
A9: Obra: | B9: MODERNIZACIÓN Y AMPLIACIÓN DE LA VIALIDAD NEZAHUALCOYOTL CON UNA LONGITUD DE 1.66 KM. (0+000 - 1+664) MEDIANTE CONSTRUCCIÓN DE TERRACERÍAS, ESTRUCTURAS Y OBRAS DE DRENAJE, PAVIMENTOS, PUENTE PEATONAL Y SEÑALAMIENTO EN EL MUNICIPIO DE ZACATERCAS, ZAC. PARA MEJORAR LA MOVILIDAD DE LAS HABITANTES Y LOS HABITANTES
A10: Lugar: | B10: ZACATECAS, ZAC.
A12: RESUMEN DEL PRESUPUESTO
B14: Partidas | D14: Importe
B15: VIALIDAD NEZAHUALCOYOLT | D15: 0
B16: DEMOLICIONES
B17: PRELIMINARES
B18: TERRACERÍAS
B19: ESTRUCTURAS Y OBRAS DE DRENAJE
B20: CAMELLÓN CENTRAL
B21: MUROS DE CONTENCIÓN
B22: PAVIMENTOS
B23: SEÑALAMIENTO VERTICAL
B24: SEÑALAMIENTO HORIZONTAL
B25: MEDIA TENSIÓN Y ALUMBRADO
B26: JARDINERÍA
B27: TOTAL VIALIDAD NEZAHUALCOYOTL
B29: PUENTE PEATONAL | D29: 0
B30: CIMENTACIÓN E INICIO DE RAMPAS
B31: ESTRUCTURA
B32: TOTAL PUENTE PEATONAL
B34: PARADERO DE AUTOBUSES (2) | D34: 0
B35: PRELIMINARES
B36: CIMENTACIÓN
B37: ESTRUCTURA METÁLICA
B38: PAVIMENTOS
B39: COMPLEMENTARIAS
B40: SEÑALAMIENTO
B41: TOTAL PARADERO DE AUTOBUSES (2)
B43: REUBICACION DE RED DE AGUA POTABLE TRAMO TRANSITO PESADO - CENTRO DE SALUD CALLE NETZAHUALCOYOTL
B44: =+NEZA!B171 -> CONSTRUCCIÓN DE REUBICACIÓN DE RED DE DISTRIBUCIÓN
B45: =+NEZA!B172 -> PRELIMINARES
B46: =+NEZA!B176 -> EXCAVACIONES
B47: =+NEZA!B180 -> PLANTILLAS
B48: =+NEZA!B184 -> ACARREOS
B49: =+NEZA!B188 -> INSTALACIÓN Y PRUEBA DE TUBERIA DE PVC HIDRÁULICO Y Fo.Fo.
B50: =+NEZA!B226 -> SUMINISTROS
B51: =+NEZA!B258 -> TOTAL CONSTRUCCIÓN DE REUBICACIÓN DE RED DE DISTRIBUCIÓN
...
