Workbook
Name area: #REF!
Name area: #REF!
Name area: #REF!
Name area: #REF!
Name area: #REF!
Name area: #REF!
Name cargo: #REF!
Name cargo: #REF!
Name cargo: #REF!
Name cargo: #REF!
Name cargo: #REF!
Name cargo: #REF!
Name cargocontacto: #REF!
Name cargocontacto: #REF!
Name cargocontacto: #REF!
Name cargocontacto: #REF!
Name cargocontacto: #REF!
Name cargocontacto: #REF!
Name cargoresponsabledelaobra: #REF!
Name cargoresponsabledelaobra: #REF!
Name cargoresponsabledelaobra: #REF!
Name cargoresponsabledelaobra: #REF!
Name cargoresponsabledelaobra: #REF!
Name cargoresponsabledelaobra: #REF!
Name cargovendedor: #REF!
Name cargovendedor: #REF!
Name cargovendedor: #REF!
Name cargovendedor: #REF!
Name cargovendedor: #REF!
Name cargovendedor: #REF!
Name ciudad: #REF!
Name ciudad: #REF!
Name ciudad: #REF!
Name ciudad: #REF!
Name ciudad: #REF!
Name ciudad: #REF!
Name ciudadcliente: #REF!
Name ciudadcliente: #REF!
Name ciudadcliente: #REF!
Name ciudadcliente: #REF!
Name ciudadcliente: #REF!
Name ciudadcliente: #REF!
Name ciudaddelaobra: #REF!
Name ciudaddelaobra: #REF!
Name ciudaddelaobra: #REF!
Name ciudaddelaobra: #REF!
Name ciudaddelaobra: #REF!
Name ciudaddelaobra: #REF!
Name cmic: #REF!
Name cmic: #REF!
Name cmic: #REF!
Name cmic: #REF!
Name cmic: #REF!
Name cmic: #REF!
Name codigodelaobra: #REF!
Name codigodelaobra: #REF!
Name codigodelaobra: #REF!
Name codigodelaobra: #REF!
Name codigodelaobra: #REF!
Name codigodelaobra: #REF!

Sheet RES ECO 2
A9: LICITACIÓN No: EA-932063953-SOP020-2025
B10: "ADQUISICION DE MATERIALES PARA LA REALIZACION DE ACCIONES EN DIFERENTES ESPACIOS Y EDIFICIOS PUBLICOS DE CIUDAD ADMINISTRATIVA, ASI COMO EN DIFERENTES VIALIDADES EN LOS MUNICIPIOS DE GUADALUPE Y ZACATECAS. 2025"
B11: RESUMEN DE LOS BIENES POR PARTIDAS
A14: No. | B14: Concepto | G14: importe con letra | I14: importe con número
A16: 1.- | B16: MATERIALES DE CONSTRUCCION | I16: =G16*1.16 -> 0
B17: ='ECO 2 P1 MC'!B22 -> CEMENTO Y PRODUCTOS DE CONCRETO | I17: =G17*1.16 -> 0
B18: ='ECO 2 P1 MC'!B31 -> CAL, YESO Y PRODUCTOS DE YESO | I18: =G18*1.16 -> 0
B19: ='ECO 2 P1 MC'!B40 -> MADERAS Y PRODUCTOS DE MADERA | I19: =G19*1.16 -> 0
B20: ='ECO 2 P1 MC'!B57 -> ARTICULOS METALICOS PARA LA CONSTRUCCIÓN. | I20: =G20*1.16 -> 0
B21: ='ECO 2 P1 MC'!B104 -> MATERIALES COMPLEMENTARIOS (HIDRAULICO Y SANITARIO) | I21: =G21*1.16 -> 0
A22: 2.- | B22: MATERIAL ELECTRICO | I22: =G22*1.16 -> 0
A23: 3.- | B23: OTROS MATERIALES Y ARTICULOS DE DE CONSTRUCCIÓN Y REPARACIÓN. | I23: =G23*1.16 -> 0
A24: 4.- | B24: REFACCIONES ACCESORIOS Y HERRAMIENTAS | I24: =G24*1.16 -> 0
B25: ='ECO 2 PA HRA'!B37 -> REFACCIONES Y ACCESORIOS MENORES DE EDIFICIOS | I25: =G25*1.16 -> 0
I26: =G26*1.16 -> 0
I27: =SUM(I16:I26) -> 0
C28: SUBTOTAL | G28: =SUM(G16:G26) -> 0
C30: IMPORTE DEL PRESUPUESTO | G30: =SUM(G28) -> 0
D31: 16% IVA | G31: =G30*0.16 -> 0
D32: TOTAL | G32: =SUM(G30:G31) -> 0
F33: IMPORTE TOTAL CON LETRA
A34: NOTA: EN PAPELERIA MEBRETADA DE LA EMPRESA Y FIRMADO POR EL REPRESENTANTE LEGAL

Sheet ECO 2 P1 MC
A5: LICITACIÓN No: EA-932063953-SOP020-2025
B6: "ADQUISICION DE MATERIALES PARA LA REALIZACION DE ACCIONES EN DIFERENTES ESPACIOS Y EDIFICIOS PUBLICOS DE CIUDAD ADMINISTRATIVA, ASI COMO EN DIFERENTES VIALIDADES EN LOS MUNICIPIOS DE GUADALUPE Y ZACATECAS. 2025"
G7: ECONÓMICO No. 2 MC
B8: LISTADO DE BIENES
A10: Código | B10: Concepto | C10: Unidad | D10: Cantidad | E10: Costo Unitario | F10: Costo Unitario con letra | G10: Importe
B12: 1. MATERIALES DE CONSTRUCCION
A13: 1.1 | B13: ARENA DE RIO (M3) DE ACUERDO A NORMA MEXICANA NMX-C-111-ONNCCE-2018 INDUSTRIA DE LA CONSTRUCCIÓN, AGREGADOS PARA CONCRETO HIDRÁULICO-ESPECIFICACIONES Y MÉTODOS DE ENSAYO | C13: M3 | D13: 210 | G13: =D13*E13 -> 0
A14: 1.2 | B14: GRAVA CANTO RODADO T.M.A. 3/4" DE ACUERDO A NORMA MEXICANA NMX-C-111-ONNCCE-2018 INDUSTRIA DE LA CONSTRUCCIÓN, AGREGADOS PARA CONCRETO HIDRÁULICO-ESPECIFICACIONES Y MÉTODOS DE ENSAYO | C14: M3 | D14: 75 | G14: =D14*E14 -> 0
A15: 1.3 | B15: GRAVA TRITURADA 3/4" DE ACUERDO A NORMA MEXICANA NMX-C-111-ONNCCE-2018 INDUSTRIA DE LA CONSTRUCCIÓN, AGREGADOS PARA CONCRETO HIDRÁULICO-ESPECIFICACIONES Y MÉTODOS DE ENSAYO | C15: M3 | D15: 63 | G15: =D15*E15 -> 0
A16: 1.4 | B16: MARMOLINA, SACO DE 50 KGS. | C16: BULTO | D16: 30 | G16: =D16*E16 -> 0
A17: 1.5 | B17: PIEDRA DE LOSA IRREGULAR (VIAJE CON 7.00 M3) | C17: VIAJE | D17: 18 | G17: =D17*E17 -> 0
A18: 1.6 | B18: PIEDRA DE MAMPOSTERIA DE ACUERDO A NORMA MEXICANA NMX-C-549-ONNCCE-2018 INDUSTRIA DE LA CONSTRUCCIÓN, MAMPOSTERÍA, TERMINOLOGÍA | C18: M3 | D18: 16 | G18: =D18*E18 -> 0
B20: SUBTOTAL DE MATERIALES DE CONSTRUCCION | G20: =SUM(G13:G19) -> 0
A22: 1.7 | B22: CEMENTO Y PRODUCTOS DE CONCRETO
A23: 1.7.1 | B23: CEMENTO BLANCO MARCA CEMEX DE 25 KGS O SIMILAR EN CALIDAD Y ESPECIFICACIONES, DE ACUERDO A LA NORMA MEXICANA NMX-C-414-ONNCCE-2017, "INDUSTRIA DE LA CONSTRUCCIÓN,CEMENTANTES HIDRÁULICOS, ESPECIFICACIONES Y MÉTODOS DE ENSAYO | C23: BULTO | D23: 15 | G23: =D23*E23 -> 0
A24: 1.7.2 | B24: CEMENTO BLANCO MARCA CEMEX DE 50 KGS O SIMILAR EN CALIDAD Y ESPECIFICACIONES, DE ACUERDO A LA NORMA MEXICANA NMX-C-414-ONNCCE-2017, "INDUSTRIA DE LA CONSTRUCCIÓN,CEMENTANTES HIDRÁULICOS, ESPECIFICACIONES Y MÉTODOS DE ENSAYO | C24: BULTO | D24: 35 | G24: =D24*E24 -> 0
A25: 1.7.3 | B25: CEMENTO GRIS MARCA CEMEX S/50 KGS O SIMILAR EN CALIDAD Y ESPECIFICACIONES TECNICAS DE ACUERDO A LA NORMA MEXICANA NMX-C-414-ONNCCE-2017, "INDUSTRIA DE LA CONSTRUCCIÓN-CEMENTANTES HIDRÁULICOS -ESPECIFICACIONES Y MÉTODOS DE ENSAYO | C25: BULTO | D25: 720 | G25: =D25*E25 -> 0
A26: 1.7.4 | B26: MORTERO S/50 KGS MARCA APASCO SIMILAR EN CALIDAD DE ACUERDO A LA NORMA MEXICANA NMX-C-021-ONNCCE-2015 INDUSTRIA DE LA CONSTRUCCIÓN, CEMENTO PARA ALBAÑILERÍA (MORTERO), ESPECIFICACIONES Y MÉTODOS DE ENSAYO | C26: BULTO | D26: 160 | G26: =D26*E26 -> 0
A27: 1.7.5 | B27: PEGAPISO BULTO DE 20 KGS MARCA PERDURA PARA MARMOL, CERÁMICA Y CANTERA O SIMILAR EN CALIDAD Y ESPECIFICACION DE ACUERDO A LA NORMA MEXICANA NMX-C-420-1-ONNCCE-2017 INDUSTRIA DE LA CONSTRUCCIÓN-MEZCLAS ADHESIVAS PARA INSTALACIÓN DE RECUBRIMIENTOS CERÁMICOS Y PIEDRAS NATURALES-ESPECIFICACIONES Y MÉTODOS DE PRUEBA PARTE 1: BASE CEMENTANTES HIDRÁULICOS | C27: BULTO | D27: 65 | G27: =D27*E27 -> 0
B29: SUBTOTAL DE CEMENTO Y PRODUCTOS DE CONCRETO | G29: =SUM(G23:G28) -> 0
A31: 1.8 | B31: CAL, YESO Y PRODUCTOS DE YESO
A32: 1.8.1 | B32: CALHIDRA S/25 KGS DE ACUERDO A LA NORMA MEXICANA NMX-C-003-ONNCCE-2018, "INDUSTRIA DE LA CONSTRUCCIÓN, CAL HIDRATADA, ESPECIFICACIONES Y MÉTODOS DE ENSAYO | C32: BULTO | D32: 520 | G32: =D32*E32 -> 0
A33: 1.8.2 | B33: COMPUESTO READY MIX PARA TABLAROCA MARCA PANEL REY O SIMILAR EN CALIDAD Y ESPECIFICACIONES CAJA CON 25 KGS DE ACUERDO A LA NORMA ASTM C-475-12. | C33: CAJA | D33: 60 | G33: =D33*E33 -> 0
A34: 1.8.3 | B34: PANEL DE YESO REGULAR 1.22M X 2.44M X 1/2" DE ACUERDO A LA NORMA OFICFIAL MEXICANA NMX-C-234-ONNCCE-2015, INDUSTRIA DE LA CONSTRUCCIÓN, FIBROCEMENTO, PLACAS PLANAS SIN COMPRIMIR NT-ESPECIFICACIONES Y MÉTODOS DE ENSAYO | C34: PZA | D34: 50 | G34: =D34*E34 -> 0
A35: 1.8.4 | B35: PLAFÓN DE YESO ANTIHONGOS 61 X 61 MARCA PANEL REY O SIMILAR DE ACUERDO A LA NORMA MEXICANA NMX-C-174-1977 PLACAS DE YESO PARA PLAFONES | C35: PZA | D35: 50 | G35: =D35*E35 -> 0
A36: 1.8.5 | B36: YESO IMPERIAL S/40 KILOS DE ACUERDO A LA NORMA OFICFIAL MEXICANA NOM-018-ENER-2011, AISLANTES TERMICOS PARA EDIFICACIONES. CARACTERISTICAS Y METODOS DE PRUEBA | C36: BULTO | D36: 40 | G36: =D36*E36 -> 0
B38: SUBTOTAL DE CAL, YESO Y PRODUCTOS DE YESO | G38: =SUM(G32:G37) -> 0
A40: 1.9 | B40: MADERAS Y PRODUCTOS DE MADERA
A41: 1.9.1 | B41: HOJAS DE CIMBRAPLAY DE 16 MM DE 1.22 X 2.44 MTS. | C41: PZA | D41: 30 | G41: =D41*E41 -> 0
A42: 1.9.2 | B42: HOJA DE TRIPLAY DE PINO DE 1.22M X 2.44M X 12MM | C42: PZA | D42: 35 | G42: =D42*E42 -> 0
A43: 1.9.3 | B43: HOJAS DE MDF DE 12 MM | C43: PZA | D43: 65 | G43: =D43*E43 -> 0
A44: 1.9.4 | B44: MADERA DE PINO CON CORTEZA ACABADO NATURAL DIVIDIDA EN PIEZAS DE 1.20 MTS X 0.30CM | C44: KGS | D44: 9000 | G44: =D44*E44 -> 0
A45: 1.9.5 | B45: MADERA DE PINO 7/8"X8" X 16´ | C45: PZA | D45: 40 | G45: =D45*E45 -> 0
A46: 1.9.6 | B46: MADERA DE PINO DE PRIMERA CALIDAD 4'X8'X19 MM (TRIPLAY DE 19 MM) | C46: PZA | D46: 60 | G46: =D46*E46 -> 0
A47: 1.9.7 | B47: POLIN DE MADERA DE PINO DE 2” X 4” X 16’ | C47: PZA | D47: 50 | G47: =D47*E47 -> 0
A48: 1.9.8 | B48: POLIN DE MADERA DE PINO 3" X 3" X 8´ DE ACUERDO A LA NORMA OFICIAL MEXICANA NMX-C-239-ONNCCE-2014 INDUSTRIA DE LA CONSTRUCCIÓN-MADERA-ESPECIFICACIONES Y MÉTODOS DE ENSAYO PARA LA CALIFICACIÓN Y CLASIFICACIÓN VISUAL DE MADERA DIMENSIONADA DE PINO PARA USOS ESTRUCTURALES | C48: PZA | D48: 30 | G48: =D48*E48 -> 0
A49: 1.9.9 | B49: POLINES DE MADERA DE 4" X 4" X 10' | C49: PZA | D49: 20 | G49: =D49*E49 -> 0
A50: 1.9.10 | B50: POLINES DE MADERA DE PINO DE 4X4X16 | C50: PZA | D50: 90 | G50: =D50*E50 -> 0
A51: 1.9.11 | B51: TABLA DE BANAK DE 8" X 1" X 10' DE PRIMERA | C51: PZA | D51: 20 | G51: =D51*E51 -> 0
A52: 1.9.12 | B52: TABLA DE PINO DE SEGUNDA DE DE 8” X 7/8” X 8’ | C52: PZA | D52: 80 | G52: =D52*E52 -> 0
...

Sheet ECO 2 P2 ME
A5: LICITACIÓN No: EA-932063953-SOP020-2025
B6: "ADQUISICION DE MATERIALES PARA LA REALIZACION DE ACCIONES EN DIFERENTES ESPACIOS Y EDIFICIOS PUBLICOS DE CIUDAD ADMINISTRATIVA, ASI COMO EN DIFERENTES VIALIDADES EN LOS MUNICIPIOS DE GUADALUPE Y ZACATECAS. 2025"
G7: ECONÓMICO No. 2 ME
B8: LISTADO DE BIENES
A10: Código | B10: Concepto | C10: Unidad | D10: Cantidad | E10: Costo Unitario | F10: Costo Unitario con letra | G10: Importe
B12: 2. MATERIAL ELECTRICO
A13: 2.1 | B13: ANCLA DE 3/4 " DE DIAMETRO DE 90 CM DE LONG. CON CUERDA CORRODA PARA ANCLAJE DE POSTES ARMADO Y SOLDADO CON BARILLA CORRUGADA DE 3/8" | C13: PZA | D13: 18 | G13: =D13*E13 -> 0
A14: 2.2 | B14: APAGADOR SENCILLO BTICINO O SIMILAR EN CALIDAD DE ACUERDO A NORMA OFICIAL MEXICANA NOM-003-SCFI-2014, "PRODUCTOS ELÉCTRICOS-ESPECIFICACIONES DE SEGURIDAD. | C14: PZA | D14: 205 | G14: =D14*E14 -> 0
A15: 2.3 | B15: APAGADOR DOBLE BLANCO | C15: PZA | D15: 35 | G15: =D15*E15 -> 0
A16: 2.4 | B16: BASE PARA FOTOCELDA 2024 MARCA SQUARE D, DE ACUERDO A LA NORMA OFICIAL MEXICANA NOM-227/ANCE. | C16: PZA | D16: 260 | G16: =D16*E16 -> 0
A17: 2.5 | B17: BASE PARA MEDIDOR TRIFASICA 7 MORDAZAS 100 AMP DE ACUERDO A LA NORMA OFICIAL MEXICANA NOM-001-SEDE-2012, INSTALACIONES ELECTRICAS (UTILIZACION) | C17: PZA | D17: 6 | G17: =D17*E17 -> 0
A18: 2.6 | B18: BOBINA DE CABLE UTP ALTA CATEGORIA (ROLLO DE 305 ML) | C18: PZA | D18: 24 | G18: =D18*E18 -> 0
A19: 2.7 | B19: CABLE AWG CALIBRE DE 2 X 12 USO RUDO IUSA O SIMILAR EN CALIDAD Y ESPECIFICACIONES TECNICAS. ROLLO DE 100 M | C19: ROLLO | D19: 17 | G19: =D19*E19 -> 0
A20: 2.8 | B20: CABLE AWG CALIBRE 3X12 USO RUDO DE COBRE MARCA CONDUMEX O SIMILAR EN CALIDAD DE ACUERDO A LA NORMA NOM-063-SCFI-2002 CONDUCTORES - ALAMBRES DE COBRE DURO PARA USOS ELÉCTRICOS - ESPECIFICACIONES ROLLO CON 100 MTS | C20: ROLLO | D20: 12 | G20: =D20*E20 -> 0
A21: 2.9 | B21: CABLE AWG CALIBRE 3 X 14 USO RUDO IUSA O SIMILAR EN CALIDAD DE ACUERDO A LA NORMA NOM-063-SCFI-2002 CONDUCTORES - ALAMBRES DE COBRE DURO PARA USOS ELÉCTRICOS - ESPECIFICACIONES, ROLLO DE 100 M | C21: ROLLO | D21: 13 | G21: =D21*E21 -> 0
A22: 2.1 | B22: CABLE AWG CALIBRE 4X12 USO RUDO DE COBRE MARCA CONDUMEX O SIMILAR. DE ACUERDO A LA NORMA NOM-063-SCFI-2002 CONDUCTORES - ALAMBRES DE COBRE DURO PARA USOS ELÉCTRICOS - ESPECIFICACIONES ROLLO DE 100 MTS. | C22: ROLLO | D22: 11 | G22: =D22*E22 -> 0
A23: 2.11 | B23: CABLE DE ALUMINIO AEREO 2+1 CALIBRE NO. 6 AWG 600 VOLTS ROLLO DE 300 MTS | C23: ROLLO | D23: 25 | G23: =D23*E23 -> 0
A24: 2.12 | B24: CABLE DE ALUMINIO CAL. 6 UNIPOLAR DE ACUERDO A LA NORMA NOM-063-SCFI-2002 CONDUCTORES, ALAMBRES DE COBRE DURO PARA USOS ELÉCTRICOS, ESPECIFICACIONES | C24: M.L. | D24: 2500 | G24: =D24*E24 -> 0
... A77: 2.65 | B77: TUBO POLIFLEX DE 1/2" ROLLO DE 20 MTS DE ACUERDO A LA NORMA MEXICANA NMX-J-542-ANCE-2006 TUBO CORRUGADO (FLEXIBLE) NO METALICO PARA LA PROTECCION DE CONDUCTORES ELECTRICOS, ESPECIFICACIONES Y METODOS DE PRUEBA | C77: ROLLO | D77: 5 | G77: =D77*E77 -> 0
B79: SUBTOTAL MATERIAL ELECTRICO | G79: =SUM(G13:G78) -> 0
B81: NOTA 2: "LAS MARCAS SEÑALADAS EN EL LISTADO DE BIENES A COTIZAR SON ÚNICAMENTE DE REFERENCIA POR LO QUE PODRÁN COTIZAR MARCAS SIMILARES SIEMPRE Y CUANDO ESTAS CUMPLAN CON LAS CARACTERÍSTICAS MÍNIMAS SOLICITADAS DE ACUERDO CON EL ARTÍCULO 91 DE LA LEY DE ADQUISICIONES ÚLTIMO PÁRRAFO DEL REGLAMENTO DE LA LEY DE ADQUISICIONES, ARRENDAMIENTOS Y SERVICIOS DEL ESTADO DE ZACATECAS Y SUS MUNICIPIOS.
F82: SUBTOTAL
F83: 16 %IVA
F84: TOTAL
F85: (IMPORTE TOTAL CON LETRA)
A87: NOTA: EN PAPELERIA MEBRETADA DE LA EMPRESA Y FIRMADO POR EL REPRESENTANTE LEGAL

Sheet ECO 2 P3 OMC
A5: LICITACIÓN No: EA-932063953-SOP020-2025
B6: "ADQUISICION DE MATERIALES PARA LA REALIZACION DE ACCIONES EN DIFERENTES ESPACIOS Y EDIFICIOS PUBLICOS DE CIUDAD ADMINISTRATIVA, ASI COMO EN DIFERENTES VIALIDADES EN LOS MUNICIPIOS DE GUADALUPE Y ZACATECAS. 2025"
G7: ECONÓMICO No. 2 OMC
B8: LISTADO DE BIENES
A10: Código | B10: Concepto | C10: Unidad | D10: Cantidad | E10: Costo Unitario | F10: Costo Unitario con letra | G10: Importe
B12: 3. OTROS MATERIALES Y ARTICULOS DE DE CONSTRUCCIÓN Y REPARACIÓN.
A13: 3.1 | B13: ACEITE DE LINAZA CRUDA PARA MADERA, BIDON DE 20 LTS. UNIVERSAL MADERA CRUDA, MCA MLC O SIMILAR | C13: PZA. | D13: 3 | G13: =D13*E13 -> 0
A14: 3.2 | B14: ACEITE DE TREMENTINA RECTIFICADA BIDON DE 20 LTS. | C14: PZA | D14: 1 | G14: =D14*E14 -> 0
A15: 3.3 | B15: ADITIVO PARA CONCRETO FESTERBOND 19L O SIMILAR EN CALIDAD DE ACUERDO A NORMA ASTM C-1059-99 TIPO II | C15: PZA | D15: 4 | G15: =D15*E15 -> 0
A16: 3.4 | B16: AGUARRAS TIPO INDUSTRIAL | C16: LTS | D16: 20 | G16: =D16*E16 -> 0
A17: 3.5 | B17: BANDA DE LIJA PARA MADERA GRANO #60 4" X 24" MARCA TRUPER O SIMILAR | C17: PZA | D17: 15 | G17: =D17*E17 -> 0
A18: 3.6 | B18: BANDA DE LIJA PARA MADERA GRANO #100 4" X 24" MARCA TRUPER O SIMILAR | C18: PZA | D18: 15 | G18: =D18*E18 -> 0
A19: 3.7 | B19: BARNIZ DE POLIURETANO UB-0700 SAYER LACK DE ACUERDO A LA NORMA OFICIAL MEXICANA NOM-008-SSA1-1993 SALUD AMBIENTAL. PINTURAS Y BARNICES. PREPARACION DE EXTRACCIONES ACIDAS DE PINTURAS LIQUIDAS LIQUIDAS O EN POLVO PARA LA DETERMINACION DE PLOMO SOLUBLE Y OTROS METODOS | C19: LITROS | D19: 2 | G19: =D19*E19 -> 0
A20: 3.8 | B20: BARNIZ SELLADOR MATE PARA CONCRETO SEMIX CUBETA DE 19 LTS DE ACUERDO A LA NORMA OFICIAL MEXICANA NOM-008-SSA1-1993 SALUD AMBIENTAL. PINTURAS Y BARNICES. PREPARACION DE EXTRACCIONES ACIDAS DE PINTURAS LIQUIDAS LIQUIDAS O EN POLVO PARA LA DETERMINACION DE PLOMO SOLUBLE Y OTROS METODOS | C20: CUBETA | D20: 1 | G20: =D20*E20 -> 0
A21: 3.9 | B21: CATALIZADOR PARA POLIURETANO DE 1LT TRANSPARENTE UC-1000 MARCA SAYER LACK | C21: PZA. | D21: 25 | G21: =D21*E21 -> 0
A22: 3.1 | B22: CERA DE ABEJA EN CUÑETE | C22: KGS | D22: 20 | G22: =D22*E22 -> 0
A23: 3.11 | B23: CINTA MASKIN- TAPE DE 3" | C23: PZA | D23: 10 | G23: =D23*E23 -> 0
A24: 3.12 | B24: DILUYENTE PARA POLYLACK CRISTAL DE ACUERDO A LA NORMA OFICIAL MEXICANA NOM-008-SSA1-1993 SALUD AMBIENTAL. PINTURAS Y BARNICES. PREPARACION DE EXTRACCIONES ACIDAS DE PINTURAS LIQUIDAS LIQUIDAS O EN POLVO PARA LA DETERMINACION DE PLOMO SOLUBLE Y OTROS METODOS | C24: LTS | D24: 22 | G24: =D24*E24 -> 0
... A83: 3.71 | B83: TINTA AL ALCOHOL CAOBA CLASICO MARCA COMEX | C83: LTS | D83: 30 | G83: =D83*E83 -> 0
B85: SUBTOTAL DE OTROS MATERIALES Y ARTICULOS DE CONSTRUCCÍON Y REPARACIÓN. | G85: =SUM(G13:G84) -> 0
B88: NOTA 2: "LAS MARCAS SEÑALADAS EN EL LISTADO DE BIENES A COTIZAR SON ÚNICAMENTE DE REFERENCIA POR LO QUE PODRÁN COTIZAR MARCAS SIMILARES SIEMPRE Y CUANDO ESTAS CUMPLAN CON LAS CARACTERÍSTICAS MÍNIMAS SOLICITADAS DE ACUERDO CON EL ARTÍCULO 91 DE LA LEY DE ADQUISICIONES ÚLTIMO PÁRRAFO DEL REGLAMENTO DE LA LEY DE ADQUISICIONES, ARRENDAMIENTOS Y SERVICIOS DEL ESTADO DE ZACATECAS Y SUS MUNICIPIOS. | F88: SUBTOTAL
F89: 16 %IVA
F90: TOTAL
F91: (IMPORTE TOTAL CON LETRA)
A93: NOTA: EN PAPELERIA MEBRETADA DE LA EMPRESA Y FIRMADO POR EL REPRESENTANTE LEGAL

Sheet ECO 2 PA HRA
A5: LICITACIÓN No: EA-932063953-SOP020-2025
B6: "ADQUISICION DE MATERIALES PARA LA REALIZACION DE ACCIONES EN DIFERENTES ESPACIOS Y EDIFICIOS PUBLICOS DE CIUDAD ADMINISTRATIVA, ASI COMO EN DIFERENTES VIALIDADES EN LOS MUNICIPIOS DE GUADALUPE Y ZACATECAS. 2025"
G7: ECONÓMICO No. 2 HRA
B8: LISTADO DE BIENES
A10: Código | B10: Concepto | C10: Unidad | D10: Cantidad | E10: Costo Unitario | F10: Costo Unitario con letra | G10: Importe
B12: 4.- REFACCIONES ACCESORIOS Y HERRAMIENTAS
A13: 4.1 | B13: CINTA DE PAPEL EN ROLLO PARA UNIONES DE TABLAROCA 3" MARCA PANEL REY O SIMILAR | C13: ROLLO | D13: 30 | G13: =D13*E13 -> 0
A14: 4.2 | B14: FLOTA DE ESPONGA PARA ACABADOS | C14: PZA | D14: 7 | G14: =D14*E14 -> 0
A15: 4.3 | B15: FUMIGADOR DE MOCHILA CAPACIDAD DE 20 LTS. MCA. TRUPPER O SIMILAR EN CALIDAD Y ESPECIFICACIONES | C15: PZA | D15: 13 | G15: =D15*E15 -> 0
A16: 4.4 | B16: HILO DE ALBAÑIL DE POLIPROPILENO | C16: MANOJO | D16: 1 | G16: =D16*E16 -> 0
A17: 4.5 | B17: HILO REDONDOS PARA DESBROSADORA CARRETE DE 437METROS | C17: PZA | D17: 95 | G17: =D17*E17 -> 0
A18: 4.6 | B18: LIJA PARA LIJADORA ORBITAL 4" DEL NÚMERO 80-100 | C18: PZA | D18: 51 | G18: =D18*E18 -> 0
A19: 4.7 | B19: LIJA PARA LIJADORA ORBITAL 4" DEL NÚMERO 120 | C19: PZA | D19: 50 | G19: =D19*E19 -> 0
A20: 4.8 | B20: LIJA PARA LIJADORA ORBITAL 4" DEL NÚMERO 200 | D20: 35 | G20: =D20*E20 -> 0
A21: 4.9 | B21: LIMPIA BOQUILLA OXICORTE | D21: 5 | G21: =D21*E21 -> 0
A22: 4.1 | B22: MANGUERA INDUSTRIAL DE 1" (GOMA NEGRA) ROLLO 50M | C22: PZA | D22: 20 | G22: =D22*E22 -> 0
A23: 4.11 | B23: MANGUERA REFORZADA DE 3/4" PARA RIEGO | C23: M.L. | D23: 150 | G23: =D23*E23 -> 0
A24: 4.12 | B24: MANGUERA TRAMADA DE 1/2" ROLLO DE 50 MTS | C24: ROLLO | D24: 4 | G24: =D24*E24 -> 0
A25: 4.13 | B25: ROLLO DE MANGUERA DE JEBE Y LONA DE 1´´ DE 50 M | C25: ROLLO | D25: 5 | G25: =D25*E25 -> 0
A26: 4.14 | B26: ROLLO DE UN CABO DE MECATE DE IXTLE HENEKEN 2 KILOS | C26: ROLLO | D26: 10 | G26: =D26*E26 -> 0
A27: 4.15 | B27: SOGA (KG) | C27: KG | D27: 50 | G27: =D27*E27 -> 0
A28: 4.16 | B28: SOLDADURA 6011 1/8 | C28: KGS | D28: 90 | G28: =D28*E28 -> 0
A29: 4.17 | B29: Soldadura 6013 DE 1/8" | C29: KGS | D29: 40 | G29: =D29*E29 -> 0
A30: 4.18 | B30: SOLDADURA 7018 DE 1/8" INFRA | C30: KGS | D30: 20 | G30: =D30*E30 -> 0
A31: 4.19 | B31: TAQUETE DE PLÁSTICO 1/4"" MARCA FIERO O SIMILAR BOLSA CON /100 PZA. | C31: BOLSA | D31: 10 | G31: =D31*E31 -> 0
A32: 4.2 | B32: TAQUETE EXPANSIVO DE 3/8 x 3" | C32: PZA | D32: 100 | G32: =D32*E32 -> 0
A33: 4.21 | B33: TAQUETE PARA TABLAROCA 1/2" MARCA FIERO MODELO 42008 | C33: PZA | D33: 500 | G33: =D33*E33 -> 0
B35: SUB TOTAL REFACCIONES ACCESORIOS Y HERRAMIENTAS | G35: =SUM(G13:G34) -> 0
A37: 4.22 | B37: REFACCIONES Y ACCESORIOS MENORES DE EDIFICIOS
A38: 4.22.1 | B38: JALADERA HANDY HOME 7106 TIPO BARRA NIQUEL SATINADO 05907090 | C38: PZA | D38: 5 | G38: =D38*E38 -> 0
A39: 4.22.2 | B39: JALDERA TIPO BARRA HANDY HOME NIQUEL SATINADO DE 18CM | C39: PZA | D39: 5 | G39: =D39*E39 -> 0
A40: 4.22.3 | B40: JALDERA TIPO BARRA HANDY HOME NIQUEL SATINADO DE 21CM | C40: PZA | D40: 5 | G40: =D40*E40 -> 0
A41: 4.22.4 | B41: JALDERA TIPO BARRA HANDY HOME NIQUEL SATINADO DE 25CM | C41: PZA | D41: 5 | G41: =D41*E41 -> 0
B43: SUBTOTAL DE REFACCIONES Y ACCESORIOS MENORES DE EDIFICIOS. | G43: =SUM(G38:G42) -> 0
B46: NOTA 2: "LAS MARCAS SEÑALADAS EN EL LISTADO DE BIENES A COTIZAR SON ÚNICAMENTE DE REFERENCIA POR LO QUE PODRÁN COTIZAR MARCAS SIMILARES SIEMPRE Y CUANDO ESTAS CUMPLAN CON LAS CARACTERÍSTICAS MÍNIMAS SOLICITADAS DE ACUERDO CON EL ARTÍCULO 91 DE LA LEY DE ADQUISICIONES ÚLTIMO PÁRRAFO DEL REGLAMENTO DE LA LEY DE ADQUISICIONES, ARRENDAMIENTOS Y SERVICIOS DEL ESTADO DE ZACATECAS Y SUS MUNICIPIOS. | F46: SUBTOTAL
F47: 16 %IVA
F48: TOTAL
F49: (IMPORTE TOTAL CON LETRA)
A52: NOTA: EN PAPELERIA MEBRETADA DE LA EMPRESA Y FIRMADO POR EL REPRESENTANTE LEGAL

Sheet ECO 3
J8: ECONÓMICO No. 3
A9: LICITACIÓN No: EA-932063953-SOP020-2025
B10: "ADQUISICION DE MATERIALES PARA LA REALIZACION DE ACCIONES EN DIFERENTES ESPACIOS Y EDIFICIOS PUBLICOS DE CIUDAD ADMINISTRATIVA, ASI COMO EN DIFERENTES VIALIDADES EN LOS MUNICIPIOS DE GUADALUPE Y ZACATECAS. 2025"
B11: PROGRAMA DE ENTREGA DE LOS BIENES
A14: No. | B14: Concepto | G14: Unidad | H14: Cantidad | I14: F. incio | J14: F. Termino | K14: MES 1 | O14: MES 2 | S14: MES 3 | W14: MES 4 | AA14: MES 5 | AE14: MES 6 | AI14: MES 7
K15: 1 | L15: 2 | M15: 3 | N15: 4 | O15: 1 | P15: 2 | Q15: 3 | R15: 4 | S15: 1 | T15: 2 | U15: 3 | V15: 4 | W15: 1 | X15: 2 | Y15: 3 | Z15: 4 | AA15: 1 | AB15: 2 | AC15: 3 | AD15: 4 | AE15: 1 | AF15: 2 | AG15: 3 | AH15: 4 | AI15: 1 | AJ15: 2 | AK15: 3 | AL15: 4
A16: 1.- | B16: MATERIALES DE CONSTRUCCION
B17: ='ECO 2 P1 MC'!B22 -> CEMENTO Y PRODUCTOS DE CONCRETO
B18: ='ECO 2 P1 MC'!B31 -> CAL, YESO Y PRODUCTOS DE YESO
B19: ='ECO 2 P1 MC'!B40 -> MADERAS Y PRODUCTOS DE MADERA
B20: ='ECO 2 P1 MC'!B57 -> ARTICULOS METALICOS PARA LA CONSTRUCCIÓN.
B21: ='ECO 2 P1 MC'!B104 -> MATERIALES COMPLEMENTARIOS (HIDRAULICO Y SANITARIO)
A22: 2.- | B22: MATERIAL ELECTRICO
A23: 3.- | B23: OTROS MATERIALES Y ARTICULOS DE DE CONSTRUCCIÓN Y REPARACIÓN.
A24: 4.- | B24: REFACCIONES ACCESORIOS Y HERRAMIENTAS
B25: ='ECO 2 PA HRA'!B37 -> REFACCIONES Y ACCESORIOS MENORES DE EDIFICIOS
B28: NOTA 1: EL LUGAR Y ENTREGA DE LOS BIENES SERA CONFORME LO REQUIERA EL ÁREA SOLICITANTE EN LOS ESPACIOS Y EDIFICIOS PÚBLICOS, ASÍ COMO EN DIFERENTES VIALIDADES EN LOS MUNICIPIOS DE GUADALUPE Y ZACATECAS; DENTRO DEL PLAZO ESTABLECIDO EN EL CUADRO GENERAL DE DATOS
A32: NOTA: EN PAPELERIA MEBRETADA DE LA EMPRESA Y FIRMADO POR EL REPRESENTANTE LEGAL
