Workbook

Sheet RESUMEN
B8: RAZÓN SOCIAL DEL LICITANTE:
B10: (DATOS COMPLETOS DE LA EMPRESA) **BORRAR ESTE TEXTO**
A16: Documento A21
A17: Licitación estatal número: INZACE-932045994-E18-2026
A18: Fecha:
A19: RESUMEN
A20: DESCRIPCION GENERAL DE LOS TRABAJOS:
A21: CONSTRUCCIÓN DE AULA DE USOS MÚLTIPLES Y REHABILITACIÓN DE IMPERMEABILIZACIÓN DE LOS EDIFICIOS "A", "C", "D", "F", "H", "G", "J", "I" EN LA ESCUELA PRIMARIA "VÍCTOR ROSALES" CLAVE 32DPR0077D,UBICADA EN CALERA DE VICTOR DE ROSALES, ZACATECAS.
A23: PARTIDA 1 | B23: =+PRESUPUESTO!B12 -> EDIFICIO
A24: =+PRESUPUESTO!A13 -> CONSTRUCCION DE AULA DE COMPUTO ESTRUCTURA REGIONAL 12.00X8.00 M
A25: Subpartida | B25: =+PRESUPUESTO!B14 -> 01 CIMENTACION
A26: Subpartida | B26: =+PRESUPUESTO!B31 -> 02 ESTRUCTURA
A27: Subpartida | B27: =+PRESUPUESTO!B42 -> 03 ALBAÑILERIA Y ACABADOS
A28: Subpartida | B28: =+PRESUPUESTO!B63 -> 04 CANCELERIA
A29: Subpartida | B29: =+PRESUPUESTO!B68 -> 05 INSTALACIONES
B30: SUBTOTAL PARTIDA 1
A31: PARTIDA 2 | B31: =+PRESUPUESTO!B78 -> EDIFICIO "A"
A32: Subpartida | B32: =+PRESUPUESTO!B79 -> 00 PRELIMINARES
A33: Subpartida | B33: =+PRESUPUESTO!B83 -> 03 ALBAÑILERIA Y ACABADOS
B34: SUBTOTAL PARTIDA 2
A36: PARTIDA 3 | B36: =+PRESUPUESTO!B91 -> EDIFICIO "C"
A37: Subpartida | B37: =+PRESUPUESTO!B92 -> 00 PRELIMINARES
A38: Subpartida | B38: =+PRESUPUESTO!B95 -> 03 ALBAÑILERIA Y ACABADOS
B39: SUBTOTAL PARTIDA 3
A41: PARTIDA 4 | B41: =+PRESUPUESTO!B102 -> EDIFICIO "D"
A42: Subpartida | B42: =+PRESUPUESTO!B103 -> 00 PRELIMINARES
A43: Subpartida | B43: =+PRESUPUESTO!B106 -> 03 ALBAÑILERIA Y ACABADOS
B44: SUBTOTAL PARTIDA 4
A46: PARTIDA 5 | B46: EDIFICIO "F"
A47: Subpartida | B47: =+PRESUPUESTO!B114 -> 00 PRELIMINARES
A48: Subpartida | B48: =+PRESUPUESTO!B117 -> 03 ALBAÑILERIA Y ACABADOS
B49: SUBTOTAL PARTIDA 5
A51: PARTIDA 6 | B51: EDIFICIO "H"
A52: Subpartida | B52: =+PRESUPUESTO!B125 -> 00 PRELIMINARES
A53: Subpartida | B53: =+PRESUPUESTO!B128 -> 03 ALBAÑILERIA Y ACABADOS
B54: SUBTOTAL PARTIDA 6
A56: PARTIDA 7 | B56: EDIFICIO "G"
A57: Subpartida | B57: =+PRESUPUESTO!B136 -> 00 PRELIMINARES
A58: Subpartida | B58: =+PRESUPUESTO!B139 -> 03 ALBAÑILERIA Y ACABADOS
B59: SUBTOTAL PARTIDA 7
...

Sheet PRESUPUESTO
C1: RAZÓN SOCIAL DEL LICITANTE:
E3: (DATOS COMPLETOS DE LA EMPRESA) **BORRAR ESTE TEXTO**
B7: Documento A21 | C7: DESCRIPCION GENERAL DE LOS TRABAJOS:
A8: Licitación estatal número: INZACE-932045994-E18-2026 | C8: CONSTRUCCIÓN DE AULA DE USOS MÚLTIPLES Y REHABILITACIÓN DE IMPERMEABILIZACIÓN DE LOS EDIFICIOS "A", "C", "D", "F", "H", "G", "J", "I" EN LA ESCUELA PRIMARIA "VÍCTOR ROSALES" CLAVE 32DPR0077D,UBICADA EN CALERA DE VICTOR DE ROSALES, ZACATECAS.
A9: Fecha:
A10: Clave | B10: Concepto | C10: Unidad | D10: Cantidad | E10: Precio Unitario con letra | F10: Precio Unitario | G10: Importe
A12: PARTIDA 1 | B12: EDIFICIO
A13: CONSTRUCCION DE AULA DE COMPUTO ESTRUCTURA REGIONAL 12.00X8.00 M
A14: Subpartida | B14: 01 CIMENTACION
A15: 11064 | B15: TRAZO Y NIVELACIÓN DEL TERRENO ( ÁREA DE EDIFICIOS); INCLUYE: LOCALIZACIÓN DE BANCOS DE NIVEL. | C15: M2 | D15: 137.28
A16: 11074 | B16: EXCAVACIÓN A MANO EN TERRENO INVESTIGADO EN OBRA CUALQUIER PROFUNDIDAD, INCLUYE: AFINE DE TALUD, AFINE DE FONDO, TRASPALEO, RETIRO DE MATERIAL INESTABLE, RETIRO DE MATERIAL ORGANICO, MANO DE OBRA, HERRAMIENTA, EQUIPO, ACARREO DENTRO Y FUERA DE LA OBRA DE MATERIAL NO UTILIZABLE. | C16: M3 | D16: 18.98
A17: 11075 | B17: EXCAVACIÓN CON MAQUINA CUALQUIER TIPO DE TERRENO INVESTIGADO EN OBRA, A CUALQUIER PROFUNDIDAD, INCLUYE: AFINE DE TALUD, ACARREO DEL MATERIAL DENTRO Y FUERA DE LA OBRA; HERRAMIENTA Y EQUIPO. | C17: M3 | D17: 64.07
A18: 11101 | B18: PLANTILLA DE CONCRETO HECHO EN OBRA CON REVOLVEDORA, CONCRETO CON RESISTENCIA F'C= 100 KG/CM2, DE 6 CM DE ESPESOR T.M.A. 19 MM., INCLUYE: PREPARACION DE SUPERFICIE, HUMEDECIDO DEL AREA DE DESPLANTE, NIVELACION, ELABORACIÓN, VACIADO, CURADO, ACARREO, MATERIALES, HERRAMIENTA, EQUIPO Y MANO DE OBRA. | C18: M2 | D18: 69.89
A19: 11121 | B19: RELLENO COMPACTADO, CON MATERIAL PRODUCTO DE EXCAVACIÓN, COMPACTACIÓN CON MEDIOS MECÁNICOS (BAILARINA), EN CAPAS DE 15 CM. DE ESPESOR, AL 90 % DE LA PRUEBA PROCTOR; INCLUYE: SELECCION DE MATERIAL, EQUIPO, MANO DE OBRA, HERRAMIENTA, HUMEDECIDO DEL MATERIAL PARA SU HOMOGENIZACIÓN (HUMEDAD OPTIMA) Y ACARREO DENTRO DE LA OBRA. | C19: M3 | D19: 72.29
A20: 11131 | B20: SUMINISTRO, RELLENO COMPACTADO CON MATERIAL DE BANCO (TEPETATE), COMPACTACIÓN EN CAPAS DE 15 CM. DE ESPESOR CON MEDIOS MECÁNICOS (COMPACTADOR MANUAL), AL 90 % DE PRUEBA PROCTOR; INCLUYE: EXTRACCION Y ACARREOS DEL MATERIAL DE BANCO; EQUIPO, HERRAMIENTA, HUMEDECIDO DEL MATERIAL PARA SU HOMOGENIZACION (HUMEDAD OPTIMA) Y MANO DE OBRA. | C20: M3 | D20: 86.04
A21: 12016 | B21: CONCRETO F'C= 250 KG/CM2 EN CIMENTACIÓN, T.M.A. 19 MM., ELABORADO CON MAQUINA REVOLVEDORA, INCLUYE: MATERIALES, ELABORACION, COLOCACION, ACARREOS, DESPERDICIOS, VIBRADO, CURADO, MANO DE OBRA, HERRAMIENTA, EQUIPO Y PRUEBAS DE LABORATORIO. | C21: M3 | D21: 7.67
A22: 12021 | B22: CIMBRA PARA ELEMENTOS DE CONCRETO EN CIMENTACION CON MADERA DE PINO DE TERCERA, ACABADO COMUN, INCLUYE: PREPARACION DE MADERA CON DESMOLDANTE, CLAVOS, DESPERDICIOS, USOS DE MADERA, CORTES, NIVELACION, TRAZO, MATERIALES, MANO DE OBRA, HERRAMIENTA, CIMBRADO Y DESCIMBRADO; Y TODO LO NECESARIO QUE GARANTICE LA CORRECTA GEOMETRIA, NIVELACION, ALINEACION Y ACABADO DEL ELEMENTO DE CONCRETO. | C22: M2 | D22: 41.36
A23: 12032 | B23: SUMINISTRO, HABILITADO Y COLOCACION DE ACERO DE REFUERZO DEL No. 2 (ALAMBRON) PARA ELEMENTOS DE CONCRETO EN CIMENTACION, F'Y=2530 KG/CM2, INCLUYE: ARMADO, GANCHOS, CORTES, DOBLECES, DESPERDICIOS, AMARRES, ALAMBRE RECOCIDO, ACARREOS, MATERIALES, MANO DE OBRA Y HERRAMIENTA. | C23: KG | D23: 42.64
A24: 12034 | B24: SUMINISTRO, HABILITADO Y COLOCACION DE ACERO DE REFUERZO DE DIÁMETRO No. 3, PARA ELEMENTOS DE CONCRETO EN CIMENTACION, F'Y=4200 KG/CM2, INCLUYE: ARMADO, TRASLAPES, GANCHOS, CORTES, DOBLECES, DESPERDICIOS, AMARRES, ALAMBRE RECOCIDO, ACARREOS, MATERIALES, MANO DE OBRA Y HERRAMIENTA. | C24: KG | D24: 93.85
A25: 12035 | B25: SUMINISTRO, HABILITADO Y COLOCACION DE ACERO DE REFUERZO DE DIÁMETRO No. 4, PARA ELEMENTOS DE CONCRETO EN CIMENTACION, F'Y=4200 KG/CM2, INCLUYE: ARMADO, TRASLAPES, GANCHOS, CORTES, DOBLECES, DESPERDICIOS, AMARRES, ALAMBRE RECOCIDO, ACARREOS, MATERIALES, MANO DE OBRA Y HERRAMIENTA. | C25: KG | D25: 216.13
A26: 12036 | B26: SUMINISTRO, HABILITADO Y COLOCACION DE ACERO DE REFUERZO DE DIÁMETRO No. 5, PARA ELEMENTOS DE CONCRETO EN CIMENTACION, F'Y=4200 KG/CM2, INCLUYE: ARMADO, TRASLAPES, GANCHOS, CORTES, DOBLECES, DESPERDICIOS, AMARRES, ALAMBRE RECOCIDO, ACARREOS, MATERIALES, MANO DE OBRA Y HERRAMIENTA. | C26: KG | D26: 131.98
... A29: 21102 | B29: ANCLAJE DE CASTILLO A MURO DE PIEDRA DE CIMENTACION, A BASE DE CONCRETO F'C= 150 KG/CM2 T.M.A. 19 MM., ARMADO CON 4 VARILLAS DEL No. 3 Y 4 ESTRIBOS DEL No. 2; CON SECCION DE 30X30 CM Y 50 CM DE ALTURA, INCLUYE: CIMBRA COMUN DE CONTACTO, DESCIMBRADO, MATERIAL Y MANO DE OBRA, HERRAMIENTA, COLADO, CURADO, LIMPIEZA Y RETIRO DE MATERIAL SOBRANTE FUERA DE LA OBRA. | C29: PZA | D29: 23
E30: SUBTOTAL
A31: Subpartida | B31: 02 ESTRUCTURA
A32: 21101 | B32: CIMBRA EN COLUMNAS Y MURO APARENTE CON TRIPLAY DE PINO DE 16 MM, UNIDAD DE MEDICION AREA DE CONTACTO, INCLUYE: CIMBRADO, DESCIMBRADO, HABILITADO, DESMOLDANTE, CHAFLANES, DEPRECIACION DE MADERA POR USOS, CORTES, TRAZO, NIVELACION A PLOMO, CLAVOS, ALAMBRE RECOCIDO, MANO DE OBRA Y HERRAMIENTA. | C32: M2 | D32: 8.52
A33: 21110 | B33: CIMBRA PARA LOSA, ACABADO APARENTE CON TRIPLAY DE PINO DE 16 MM., UNIDAD DE MEDICION AREA DE CONTACTO INFERIOR DE LOSA (LA FRONTERA DE LOSA SE INCLUYE EN EL PRECIO UNITARIO), SE CONSIDERAN 2 USOS DEL TRIPLAY, INCLUYE: CIMBRADO, DESCIMBRADO, HABILITADO, CHAFLAN, GOTERO, DESPERDICIOS, DEPRECIACION DE MADERA POR USOS, CORTES, TRAZO, NIVELACION A PLOMO, PREPARACION DE MADERA CON DESMOLDANTE, CLAVOS, ALAMBRE RECOCIDO PARA REFUERZO DE CIMBRA, MANO DE OBRA, HERRAMIENTA Y TODO LO NECESARIO QUE GARANTICE LA CORRECTA GEOMETRIA, NIVELACION, ALINEACION Y ACABADO DEL ELEMENTO DE CONCRETO. | C33: M2 | D33: 133.84
A34: 21115 | B34: CIMBRA APARENTE EN TRABES, CON TRIPLAY DE PINO DE 16 MM., INCLUYE: CIMBRADO, DESCIMBRADO, HABILITADO, CHAFLAN, GOTERO, FRENTES (OCHAVOS), DESPERDICIOS, DEPRECIACION DE MADERA POR USOS, CORTES, NIVELACION, PREPARACION DE MADERA CON DESMOLDANTE, CLAVOS, ALAMBRE RECOCIDO PARA REFUERZO DE CIMBRA, MANO DE OBRA, HERRAMIENTA Y TODO LO NECESARIO QUE GARANTICE LA CORRECTA GEOMETRIA, NIVELACION, ALINEACION Y ACABADO DEL ELEMENTO DE CONCRETO. | C34: M2 | D34: 29.83
A35: 21201 | B35: SUMINISTRO, HABILITADO Y COLOCACION DE ACERO DE REFUERZO DEL No. 2 (ALAMBRON) PARA ELEMENTOS EN ESTRUCTURA, Fy= 2530 KG/CM2, INCLUYE: ARMADO, GANCHOS, SILLETAS, DOBLECES, DESPERDICIOS, AMARRES, ALAMBRE RECOCIDO, ACARREOS, MATERIALES, MANO DE OBRA Y HERRAMIENTA. | C35: KG | D35: 111.5
A36: 21203 | B36: SUMINISTRO, HABILITADO Y COLOCACION DE ACERO DE REFUERZO DEL No. 3 PARA ELEMENTOS EN ESTRUCTURA, Fy= 4200 KG/CM2, INCLUYE: ARMADO, TRASLAPES, GANCHOS, SILLETAS, DOBLECES, DESPERDICIOS, AMARRES, ALAMBRE RECOCIDO, ACARREOS, MATERIALES, MANO DE OBRA Y HERRAMIENTA. | C36: KG | D36: 1162.32
A37: 21204 | B37: SUMINISTRO, HABILITADO Y COLOCACION DE ACERO DE REFUERZO DEL No. 4 PARA ELEMENTOS EN ESTRUCTURA, Fy= 4200 KG/CM2, INCLUYE: ARMADO, TRASLAPES, GANCHOS, SILLETAS, DESPERDICIOS, AMARRES, ALAMBRE RECOCIDO, ACARREOS, MATERIALES, MANO DE OBRA Y HERRAMIENTA. | C37: KG | D37: 594.4
A38: 21205 | B38: SUMINISTRO, HABILITADO Y COLOCACION DE ACERO DE REFUERZO DEL No. 5 PARA ELEMENTOS EN ESTRUCTURA, Fy= 4200 KG/CM2, INCLUYE: ARMADO, TRASLAPES, GANCHOS, SILLETAS, DESPERDICIOS, AMARRES, ALAMBRE RECOCIDO, ACARREOS, MATERIALES, MANO DE OBRA Y HERRAMIENTA. | C38: KG | D38: 77.5
A39: 21206 | B39: SUMINISTRO, HABILITADO Y COLOCACION DE ACERO DE REFUERZO DEL No. 6 AL 12 PARA ELEMENTOS EN ESTRUCTURA, Fy= 4200 KG/CM2, INCLUYE: ARMADO, TRASLAPES, GANCHOS, SILLETAS, DESPERDICIOS, AMARRES, ALAMBRE RECOCIDO, ACARREOS, MATERIALES, MANO DE OBRA Y HERRAMIENTA. | C39: KG | D39: 254.72
A40: 21303 | B40: CONCRETO F'C=250 KG/CM2 EN ESTRUCTURA Y LOSAS T.M.A. 19 MM., ELABORADO CON MAQUINA REVOLVEDORA, INCLUYE: MATERIALES, ELABORACION, VACIADO EN ARTESA DE LAMINA PARA EVITAR CONTAMINACIÓN DEL CONCRETO, ACARREOS, ANDIAMIAJE, MANO DE OBRA, EQUIPO, HERRAMIENTA, COLOCACION, VIBRADO, CURADO, ACABADO EN LOSAS A VUELTA DE PLANA PARA RECIBIR IMPERMEABILIZACION Y PRUEBAS DE LABORATORIO. HASTA UNA ALTURA DE 6.00 M. | C40: M3 | D40: 17.45
E41: SUBTOTAL
A42: Subpartida | B42: 03 ALBAÑILERIA Y ACABADOS
A43: 31008 | B43: CADENA A BASE DE CONCRETO F'c= 150 KG/CM2. DE 14X14 CM DE SECCION, SIN ARMAR, INCLUYE: CIMBRA APARENTE, DESCIMBRADO, COLADO, ACARREOS, DESPERDICIOS, MATERIALES, MANO DE OBRA Y HERRAMIENTA. | C43: ML | D43: 37.72
A44: 31009 | B44: CADENA O CASTILLO DE CONCRETO F´C=150 KG/CM2 SECCION DE 14X15 CM ARMADA CON 4 VARILLAS DEL No. 3, FY=4200 KG/CM2, ESTRIBOS DEL No. 2 A CADA 15 CM., INCLUYE: CIMBRA COMUN, HABILITADO DE ACERO, TRASLAPES, GANCHOS, DOBLECES, CRUCES DE VARILLAS, COLADO, HASTA UNA ALTURA DE 6.00 M, DESCIMBRADO, ACARREOS, DESPERDICIOS, MATERIALES, MANO DE OBRA Y HERRAMIENTA. | C44: ML | D44: 78.14
A45: 31026 | B45: CADENA O CASTILLO DE CONCRETO F'C= 250 KG/CM2 DE SECCION 14X20CM, ARMADA CON 4 VARILLAS DEL No 4 F'Y=4200 KG/CM2, ESTRIBOS DEL No. 2 A CADA 20 CM, INCLUYE: CIMBRA COMUN, HABILITADO DE ACERO, TRASLAPES, GANCHOS, DOBLECES, CRUCES DE VARILLAS, COLADO, HASTA UNA ALTURA DE 6.00 M, DESCIMBRADO, ACARREOS, DESPERDICIOS, MATERIALES, MANO DE OBRA Y HERRAMIENTA. | C45: ML | D45: 16.28
A46: 31025 | B46: CADENA O CASTILLO DE CONCRETO F'C= 150 KG/CM2, DE SECCION 14X20 CM, ARMADA CON 4 VARILLAS DEL No. 3 Y ESTRIBOS DEL No. 2 A CADA 15 CM, INCLUYE: CIMBRA COMUN, HABILITADO DE ACERO, TRASLAPES, GANCHOS, DOBLECES, CRUCES DE VARILLAS, COLADO, HASTA UNA ALTURA DE 6.00 M, DESCIMBRADO, ACARREOS, DESPERDICIOS, MATERIALES, MANO DE OBRA Y HERRAMIENTA. | C46: ML | D46: 19.52
A47: 31105 | B47: MURO DE TABIQUE ROJO COMUN DE 7X14X28CM, DE 14 CM DE ESPESOR ASENTADO CON MORTERO CEMENTO-ARENA 1:5, MURO A PLOMO, CONFINADO EN CADENAS Y CASTILLOS, HASTA UNA ALTURA DE 6.00 M, INCLUYE: CORTE DE BOCA DE PESCADO, MATERIALES, ELABORACION DE MORTERO, ACARREOS, JUNTAS DE 1.5 CM, ANDAMIOS, Y MANO DE OBRA, ACABADO COMUN. | C47: M2 | D47: 64.43
...
