Workbook

Sheet ECO 2
A5: SECRETARÍA DE OBRAS PÚBLICAS
A6: SUBSECRETARIA DE COMUNICACIONES
A7: LICITACIÓN No. EA-932063953-SOP039-2026
A8: SERVICIOS: SERVICIOS DE MANTENIMIENTO PARA LA MAQUINARIA PESADA QUE TRABAJA EN OBRAS POR ADMINISTRACIÓN DEL “PROGRAMA RESCATE CARRETERO 2026”
H9: ECONÓMICO No. 2
B11: Nº | C11: DESCRIPCIÓN | D11: PART. | E11: UNIDAD | F11: CANTIDAD | G11: COSTO UNITARIO CON NÚMERO | H11: COSTO UNITARIO CON LETRA | I11: IMPORTE
B12: 1 | C12: CALIBRACION DE FRENO DE MOTOR PARA TORTON / NO. ECO. 4380 | D12: 3571 | E12: SERVICIO | F12: 1
B13: 2 | C13: CALIBRACION DE MOTOR A DIESEL PARA PETROLIZADORA / NO. ECO. 4383 | D13: 3571 | E13: SERVICIO | F13: 1
B14: 3 | C14: CALIBRACION DE MOTOR A DIESEL PARA PIPA / NO. ECO. 4382 | D14: 3571 | E14: SERVICIO | F14: 1
B15: 4 | C15: CAMBIO DE BANDAS DE CAUCHO A LOS DOS LADOS PARA PAVIMENTADORA / NO. ECO. MP-00224 | D15: 3571 | E15: SERVICIO | F15: 1
B16: 5 | C16: CAMBIO DE BANDAS DE CAUCHO A LOS DOS LADOS PARA PAVIMENTADORA / NO. ECO. MP-00225 | D16: 3571 | E16: SERVICIO | F16: 1
B17: 6 | C17: CAMBIO DE BANDAS DE CAUCHO A LOS DOS LADOS PARA PAVIMENTADORA / NO. ECO. MP-00237 | D17: 3571 | E17: SERVICIO | F17: 1
B18: 7 | C18: CAMBIO DE METALES DE BIELA, (CHECAR PRESIONES DE ACEITE Y CALIBRACION DE MOTOR) PARA TORTON / NO. ECO. 344 | D18: 3571 | E18: SERVICIO | F18: 1
B19: 8 | C19: MANTENIMIENTO A MOTOR 1000HRS PARA BARREDORA (CAMBIO: DE ACEITE DE MOTOR, FILTRO DE ACEITE, TRAMPA DE COMBUSTIBLE, FILTRO SECUNDARIO, FILTRO PRIMARIO DE AIRE, FILTRO SECUNDARIO DE AIRE. VERIFICACIÓN DE NIVELES DE TODA, ESCANEAR EQUIPO Y MANO DE OBRA) PARA NO. ECO. MP-00236 | D19: 3571 | E19: SERVICIO | F19: 1
B20: 9 | C20: MANTENIMIENTO A MOTOR 1000HRS PARA COMPACTADOR - NEUMÁTICO (CAMBIO: DE ACEITE DE MOTOR, FILTRO DE ACEITE, TRAMPA DE COMBUSTIBLE, FILTRO SECUNDARIO, FILTRO PRIMARIO DE AIRE, FILTRO SECUNDARIO DE AIRE. VERIFICACIÓN DE NIVELES DE TODA, ESCANEAR EQUIPO Y MANO DE OBRA) PARA NO. ECO. MP-00231 | D20: 3571 | E20: SERVICIO | F20: 1
B21: 10 | C21: MANTENIMIENTO A MOTOR 1000HRS PARA MOTOCONFORMADORA (CAMBIO: DE ACEITE DE MOTOR, FILTRO DE ACEITE, TRAMPA DE COMBUSTIBLE, FILTRO SECUNDARIO, FILTRO PRIMARIO DE AIRE, FILTRO SECUNDARIO DE AIRE. VERIFICACIÓN DE NIVELES DE TODA, ESCANEAR EQUIPO Y MANO DE OBRA) PARA NO. ECO. MP-00233 | D21: 3571 | E21: SERVICIO | F21: 1
B22: 11 | C22: MANTENIMIENTO A MOTOR 1000HRS PARA PAVIMENTADORA (CAMBIO: DE ACEITE DE MOTOR, FILTRO DE ACEITE, TRAMPA DE COMBUSTIBLE, FILTRO SECUNDARIO, FILTRO PRIMARIO DE AIRE, FILTRO SECUNDARIO DE AIRE. VERIFICACIÓN DE NIVELES DE TODA, ESCANEAR EQUIPO Y MANO DE OBRA) PARA NO. ECO. MP-00224 | D22: 3571 | E22: SERVICIO | F22: 1
B23: 12 | C23: MANTENIMIENTO A MOTOR 1000HRS PARA PAVIMENTADORA (CAMBIO: DE ACEITE DE MOTOR, FILTRO DE ACEITE, TRAMPA DE COMBUSTIBLE, FILTRO SECUNDARIO, FILTRO PRIMARIO DE AIRE, FILTRO SECUNDARIO DE AIRE. VERIFICACIÓN DE NIVELES DE TODA, ESCANEAR EQUIPO Y MANO DE OBRA) PARA NO. ECO. MP-00225 | D23: 3571 | E23: SERVICIO | F23: 1
... B47: 36 | C47: REPARACION Y PROGRAMACION DE INYECTORES, CALIBRACION DE MOTOR PARA BULLDOZER / NO. ECO. MP-00140 | D47: 3571 | E47: SERVICIO | F47: 1
H48: SUBTOTAL DE LOS SERVICIOS
H49: SUBTOTAL
H50: 16 % IVA
H51: TOTAL
A54: NOTA: EN PAPELERIA MEBRETADA DE LA EMPRESA Y FIRMADO POR EL REPRESENTANTE LEGAL

Sheet ECO 3
B7: ='ECO 2'!A5 -> SECRETARÍA DE OBRAS PÚBLICAS
B8: ='ECO 2'!A6 -> SUBSECRETARIA DE COMUNICACIONES
A9: LICITACIÓN No. EA-932063953-SOP039-2026
A10: SERVICIOS: SERVICIOS DE MANTENIMIENTO PARA LA MAQUINARIA PESADA QUE TRABAJA EN OBRAS POR ADMINISTRACIÓN DEL “PROGRAMA RESCATE CARRETERO 2026”
I11: ECONÓMICO No. 3
H12: plazo de entrega 90 dias naturales
C13: PROGRAMA DE PRESTACIÓN DEL SERVICIO
B15: Nº | C15: DESCRIPCIÓN | D15: UNIDAD | E15: CANTIDAD | F15: FECHA INICIO | G15: FECHA ENTREGA | H15: MES
B17: 1 | C17: ='ECO 2'!C12 -> CALIBRACION DE FRENO DE MOTOR PARA TORTON / NO. ECO. 4380
B18: 2 | C18: ='ECO 2'!C13 -> CALIBRACION DE MOTOR A DIESEL PARA PETROLIZADORA / NO. ECO. 4383
B19: 3 | C19: ='ECO 2'!C14 -> CALIBRACION DE MOTOR A DIESEL PARA PIPA / NO. ECO. 4382
B20: 4 | C20: ='ECO 2'!C15 -> CAMBIO DE BANDAS DE CAUCHO A LOS DOS LADOS PARA PAVIMENTADORA / NO. ECO. MP-00224
B21: 5 | C21: ='ECO 2'!C16 -> CAMBIO DE BANDAS DE CAUCHO A LOS DOS LADOS PARA PAVIMENTADORA / NO. ECO. MP-00225
B22: 6 | C22: ='ECO 2'!C17 -> CAMBIO DE BANDAS DE CAUCHO A LOS DOS LADOS PARA PAVIMENTADORA / NO. ECO. MP-00237
B23: 7 | C23: ='ECO 2'!C18 -> CAMBIO DE METALES DE BIELA, (CHECAR PRESIONES DE ACEITE Y CALIBRACION DE MOTOR) PARA TORTON / NO. ECO. 344
B24: 8 | C24: ='ECO 2'!C19 -> MANTENIMIENTO A MOTOR 1000HRS PARA BARREDORA (CAMBIO: DE ACEITE DE MOTOR, FILTRO DE ACEITE, TRAMPA DE COMBUSTIBLE, FILTRO SECUNDARIO, FILTRO PRIMARIO DE AIRE, FILTRO SECUNDARIO DE AIRE. VERIFICACIÓN DE NIVELES DE TODA, ESCANEAR EQUIPO Y MANO DE OBRA) PARA NO. ECO. MP-00236
B25: 9 | C25: ='ECO 2'!C20 -> MANTENIMIENTO A MOTOR 1000HRS PARA COMPACTADOR - NEUMÁTICO (CAMBIO: DE ACEITE DE MOTOR, FILTRO DE ACEITE, TRAMPA DE COMBUSTIBLE, FILTRO SECUNDARIO, FILTRO PRIMARIO DE AIRE, FILTRO SECUNDARIO DE AIRE. VERIFICACIÓN DE NIVELES DE TODA, ESCANEAR EQUIPO Y MANO DE OBRA) PARA NO. ECO. MP-00231
B26: 10 | C26: ='ECO 2'!C21 -> MANTENIMIENTO A MOTOR 1000HRS PARA MOTOCONFORMADORA (CAMBIO: DE ACEITE DE MOTOR, FILTRO DE ACEITE, TRAMPA DE COMBUSTIBLE, FILTRO SECUNDARIO, FILTRO PRIMARIO DE AIRE, FILTRO SECUNDARIO DE AIRE. VERIFICACIÓN DE NIVELES DE TODA, ESCANEAR EQUIPO Y MANO DE OBRA) PARA NO. ECO. MP-00233
B27: 11 | C27: ='ECO 2'!C22 -> MANTENIMIENTO A MOTOR 1000HRS PARA PAVIMENTADORA (CAMBIO: DE ACEITE DE MOTOR, FILTRO DE ACEITE, TRAMPA DE COMBUSTIBLE, FILTRO SECUNDARIO, FILTRO PRIMARIO DE AIRE, FILTRO SECUNDARIO DE AIRE. VERIFICACIÓN DE NIVELES DE TODA, ESCANEAR EQUIPO Y MANO DE OBRA) PARA NO. ECO. MP-00224
B28: 12 | C28: ='ECO 2'!C23 -> MANTENIMIENTO A MOTOR 1000HRS PARA PAVIMENTADORA (CAMBIO: DE ACEITE DE MOTOR, FILTRO DE ACEITE, TRAMPA DE COMBUSTIBLE, FILTRO SECUNDARIO, FILTRO PRIMARIO DE AIRE, FILTRO SECUNDARIO DE AIRE. VERIFICACIÓN DE NIVELES DE TODA, ESCANEAR EQUIPO Y MANO DE OBRA) PARA NO. ECO. MP-00225
... B52: 36 | C52: ='ECO 2'!C47 -> REPARACION Y PROGRAMACION DE INYECTORES, CALIBRACION DE MOTOR PARA BULLDOZER / NO. ECO. MP-00140
B55: NOTA: EN PAPELERIA MEBRETADA DE LA EMPRESA Y FIRMADO POR EL REPRESENTANTE LEGAL

Sheet Hoja1
A1: 1 | B1: REPARACION DE TRANSMISION PARA EQUIPO DE TRANSPORTE DE PERSONAL EXPLORER / NO. ECO. 1123
A2: 2 | B2: REPARACION DE MOTOR PARA EQUIPO DE TRANSPORTE DE PERSONAL / NO. ECO. 1210, 1072, 1075, 1077, 1192, 1212 Y 1201
A3: 3 | B3: ESCANEO DEL SISTEMA PARA EQUIPO DE TRANSPORTE DE PERSONAL TAHOE/ NO.ECO. 366
A4: 4 | B4: REPARACION DE INYECCIÓN Y BATERIA PARA CAMION BACHADOR / NO. ECO. 1158
A5: 5 | B5: CAMBIO DE KIT DE DISTRIBUCION Y BATERIA PARA CAMION BACHADOR / NO. ECO. 1156
A6: 6 | B6: REPARACION DE SISTEMA DE CLUCH PARA CAMIO BACHADOR / NO. ECO. 1160
A7: 7 | B7: REPARACION DE MOTOR PARA CAMION BACHADOR / NO. ECO. 1161
A8: 8 | B8: REPARACION DE SISTEMA ELECTRICO (SENSOR DE CIGÜEÑAL, ARBOL DE LEVAS, BULBO DE ACEITE, BOMBA DE GASOLINA) PARA EQUIPO DE TRANSPORTE DE PERSONAL / NO. ECO. 271
A9: 9 | B9: REPARACION DE DIFERENCIAL (BALEROS, RETENES, CORONA, PIÑON, PERNO Y SEGURO) PARA EQUIPO DE TRANSPORTE DE PERSONAL / NO. ECO. 1203
A10: 10 | B10: REPARACION DE SUSPENSION Y FRENOS PARA EQUIPO DE TRANSPORTE DE PERSONAL /NO. ECO. 1182
A11: 11 | B11: REPARACION DE MARCHA COMPLETA RAPIDA PARA EQUIPO DE TRANSPORTE DE PERSONAL /NO. ECO. 325,2478 Y 2667
A12: 12 | B12: REPARACION DE MOTOR PARA PETROLIZADORA / NO. ECO. 1033
... A43: 43 | B43: SERVICIO DE TORNO PARA VEHICULOS VARIOS

Sheet Hoja3
A1: 120689.66
A2: 163793.1

Sheet Hoja2
A1: Nº | B1: DESCRIPCIÓN | C1: PARTIDA | D1: UNIDAD | E1: CANTIDAD
A2: 1 | B2: REPARACION DE TRANSMISION PARA EQUIPO DE TRANSPORTE DE PERSONAL EXPLORER / NO. ECO. 1123 | C2: 3571 | D2: SERVICIO | E2: 1
A3: 2 | B3: REPARACION DE MOTOR PARA EQUIPO DE TRANSPORTE DE PERSONAL / NO. ECO. 1210, 1072, 1075, 1077, 1192, 1212 Y 1201 | C3: 3571 | D3: SERVICIO | E3: 7
A4: 3 | B4: ESCANEO DEL SISTEMA PARA EQUIPO DE TRANSPORTE DE PERSONAL TAHOE/ NO.ECO. 366 | C4: 3571 | D4: SERVICIO | E4: 1
A5: 4 | B5: REPARACION DE INYECCIÓN Y BATERIA PARA CAMION BACHADOR / NO. ECO. 1158 | C5: 3571 | D5: SERVICIO | E5: 1
A6: 5 | B6: CAMBIO DE KIT DE DISTRIBUCION Y BATERIA PARA CAMION BACHADOR / NO. ECO. 1156 | C6: 3571 | D6: SERVICIO | E6: 1
A7: 6 | B7: REPARACION DE SISTEMA DE CLUCH PARA CAMIO BACHADOR / NO. ECO. 1160 | C7: 3571 | D7: SERVICIO | E7: 1
A8: 7 | B8: REPARACION DE MOTOR PARA CAMION BACHADOR / NO. ECO. 1161 | C8: 3571 | D8: SERVICIO | E8: 1
A9: 8 | B9: REPARACION DE SISTEMA ELECTRICO (SENSOR DE CIGÜEÑAL, ARBOL DE LEVAS, BULBO DE ACEITE, BOMBA DE GASOLINA) PARA EQUIPO DE TRANSPORTE DE PERSONAL / NO. ECO. 271 | C9: 3571 | D9: SERVICIO | E9: 1
A10: 9 | B10: REPARACION DE DIFERENCIAL (BALEROS, RETENES, CORONA, PIÑON, PERNO Y SEGURO) PARA EQUIPO DE TRANSPORTE DE PERSONAL / NO. ECO. 1203 | C10: 3571 | D10: SERVICIO | E10: 1
A11: 10 | B11: REPARACION DE SUSPENSION Y FRENOS PARA EQUIPO DE TRANSPORTE DE PERSONAL /NO. ECO. 1182 | C11: 3571 | D11: SERVICIO | E11: 1
A12: 11 | B12: REPARACION DE MARCHA COMPLETA RAPIDA PARA EQUIPO DE TRANSPORTE DE PERSONAL /NO. ECO. 325,2478 Y 2667 | C12: 3571 | D12: SERVICIO | E12: 3
A13: 12 | B13: REPARACION DE MOTOR PARA PETROLIZADORA / NO. ECO. 1033 | C13: 3571 | D13: SERVICIO | E13: 1
... A44: 43 | B44: SERVICIO DE TORNO PARA VEHICULOS VARIOS | C44: 3571 | D44: SERVICIO | E44: 1

Sheet AÑO
A1: PARTIDA | C1: ENE | D1: FEB | E1: MAR | F1: ABRIL | G1: MAY | H1: JUN | I1: JUL | J1: AGO | K1: SEP | L1: OCT | M1: NOV | N1: DIC
A2: 3571 | B2: AFINACION DE INYECTORES (VOLTEO) | C2: 0 | D2: 1 | E2: 1 | F2: 0 | G2: 0 | H2: 0 | I2: 0 | J2: 0 | K2: 0 | L2: 0 | M2: 0 | N2: 0 | O2: =SUM(C2:N2) -> 2
A3: 3571 | B3: ALINEACION Y BALANCERO (SILVERADO 2008) | C3: 0 | D3: 1 | E3: 0 | F3: 0 | G3: 0 | H3: 0 | I3: 0 | J3: 0 | K3: 0 | L3: 0 | M3: 0 | N3: 0 | O3: =SUM(C3:N3) -> 1
A4: 3571 | B4: CAMBIO DE EJE COMPLETO (RETROEXCAVADORA) | C4: 0 | D4: 0 | E4: 1 | F4: 0 | G4: 0 | H4: 0 | I4: 0 | J4: 0 | K4: 0 | L4: 0 | M4: 0 | N4: 0 | O4: =SUM(C4:N4) -> 1
A5: 3571 | B5: CAMBIO DE VALVULAS Y GATOS DE PLANCHA (PAVIMENTADORA) | C5: 0 | D5: 0 | E5: 1 | F5: 0 | G5: 0 | H5: 0 | I5: 0 | J5: 0 | K5: 0 | L5: 0 | M5: 0 | N5: 0 | O5: =SUM(C5:N5) -> 1
A6: 3571 | B6: MANTENIMIENTO A MOTOR 750HRS PARA BARREDORA (CAMBIO: DE ACEITE DE MOTOR, FILTRO DE ACEITE, TRAMPA DE COMBUSTIBLE, FILTRO SECUNDARIO, FILTRO PRIMARIO DE AIRE, FILTRO SECUNDARIO DE AIRE. VERIFICACIÓN DE NIVELES DE TODA, ESCANEAR EQUIPO Y MANO DE OBRA) | C6: 0 | D6: 0 | E6: 1 | F6: 0 | G6: 0 | H6: 0 | I6: 0 | J6: 0 | K6: 0 | L6: 0 | M6: 0 | N6: 0 | O6: =SUM(C6:N6) -> 1
A7: 3571 | B7: MANTENIMIENTO A MOTOR 750HRS PARA MOTOCONFORMADORA (CAMBIO: DE ACEITE DE MOTOR, FILTRO DE ACEITE, TRAMPA DE COMBUSTIBLE, FILTRO SECUNDARIO, FILTRO PRIMARIO DE AIRE, FILTRO SECUNDARIO DE AIRE. VERIFICACIÓN DE NIVELES DE TODA, ESCANEAR EQUIPO Y MANO DE OBRA) | C7: 0 | D7: 1 | E7: 0 | F7: 0 | G7: 0 | H7: 0 | I7: 0 | J7: 0 | K7: 0 | L7: 0 | M7: 0 | N7: 0 | O7: =SUM(C7:N7) -> 1
A8: 3571 | B8: MANTENIMIENTO A MOTOR 750HRS PARA NEUMÁTICO (CAMBIO: DE ACEITE DE MOTOR, FILTRO DE ACEITE, TRAMPA DE COMBUSTIBLE, FILTRO SECUNDARIO, FILTRO PRIMARIO DE AIRE, FILTRO SECUNDARIO DE AIRE. VERIFICACIÓN DE NIVELES DE TODA, ESCANEAR EQUIPO Y MANO DE OBRA) | C8: 0 | D8: 1 | E8: 0 | F8: 0 | G8: 0 | H8: 0 | I8: 0 | J8: 0 | K8: 0 | L8: 0 | M8: 0 | N8: 0 | O8: =SUM(C8:N8) -> 1
A9: 3571 | B9: MANTENIMIENTO A MOTOR 750HRS PARA PAVIMENTADORA (CAMBIO: DE ACEITE DE MOTOR, FILTRO DE ACEITE, TRAMPA DE COMBUSTIBLE, FILTRO SECUNDARIO, FILTRO PRIMARIO DE AIRE, FILTRO SECUNDARIO DE AIRE. VERIFICACIÓN DE NIVELES DE TODA, ESCANEAR EQUIPO Y MANO DE OBRA) | C9: 0 | D9: 3 | E9: 0 | F9: 0 | G9: 0 | H9: 0 | I9: 0 | J9: 0 | K9: 0 | L9: 0 | M9: 0 | N9: 0 | O9: =SUM(C9:N9) -> 3
A10: 3571 | B10: MANTENIMIENTO A MOTOR 750HRS PARA VIBROCOMPACTADORA (CAMBIO: DE ACEITE DE MOTOR, FILTRO DE ACEITE, TRAMPA DE COMBUSTIBLE, FILTRO SECUNDARIO, FILTRO PRIMARIO DE AIRE, FILTRO SECUNDARIO DE AIRE. VERIFICACIÓN DE NIVELES DE TODA, ESCANEAR EQUIPO Y MANO DE OBRA) | C10: 0 | D10: 3 | E10: 0 | F10: 0 | G10: 0 | H10: 0 | I10: 0 | J10: 0 | K10: 0 | L10: 0 | M10: 0 | N10: 0 | O10: =SUM(C10:N10) -> 3
A11: 3571 | B11: MANTENIMIENTO DE MOTOR Y TRANSMISION (TRACTO CAMION) | C11: 0 | D11: 1 | E11: 1 | F11: 0 | G11: 0 | H11: 0 | I11: 0 | J11: 0 | K11: 0 | L11: 0 | M11: 0 | N11: 0 | O11: =SUM(C11:N11) -> 2
A12: 3571 | B12: REHABILITACION DE MOTOR (CARGADOR FRONTAL) | C12: 0 | D12: 2 | E12: 1 | F12: 0 | G12: 0 | H12: 0 | I12: 0 | J12: 0 | K12: 0 | L12: 0 | M12: 0 | N12: 0 | O12: =SUM(C12:N12) -> 3
A13: 3571 | B13: REHABILITACION DE MOTOR DE BARREDORA | C13: 1 | D13: 0 | E13: 0 | F13: 0 | G13: 0 | H13: 0 | I13: 0 | J13: 0 | K13: 0 | L13: 0 | M13: 0 | N13: 0 | O13: =SUM(C13:N13) -> 1
... A21: 3571 | B21: REVISION DE SENSORES DE ENCENDIDO, ESCANEO Y CAMBIO DE MULTIPLE DE ESCAPE (PAVIMENTADORA) | C21: 0 | D21: 0 | E21: 1 | F21: 0 | G21: 0 | H21: 0 | I21: 0 | J21: 0 | K21: 0 | L21: 0 | M21: 0 | N21: 0 | O21: =SUM(C21:N21) -> 1
A22: 3571 | B22: SERVICIO DE TORNO EN GENERAL | C22: 0 | D22: 3 | E22: 0 | F22: 0 | G22: 0 | H22: 0 | I22: 0 | J22: 0 | K22: 0 | L22: 0 | M22: 0 | N22: 0 | O22: 3

Sheet precio
A2: AFINACION DE INYECTORES (VOLTEO TORTON) | B2: 37700 | C2: 1 | D2: 32500
A3: ALINEACION Y BALANCERO (SILVERADO 2008) | B3: 638 | C3: 1 | D3: 550
A4: CAMBIO DE EJE COMPLETO (RETROEXCAVADORA) | B4: 150000 | C4: 1 | D4: 129310.34
A5: CAMBIO DE VALVULAS Y GATOS DE PLANCHA (PAVIMENTADORA) | B5: 99700 | C5: 1 | D5: 85948.276
A6: MANTENIMIENTO A MOTOR 750HRS (CAMBIO: DE ACEITE DE MOTOR, FILTRO DE ACEITE, TRAMPA DE COMBUSTIBLE, FILTRO SECUNDARIO, FILTRO PRIMARIO DE AIRE, FILTRO SECUNDARIO DE AIRE. VERIFICACIÓN DE NIVELES DE TODA, ESCANEAR EQUIPO Y MANO DE OBRA) PARA BARREDORA | B6: 10241.64 | C6: 1 | D6: 8829
A7: MANTENIMIENTO A MOTOR 750HRS (CAMBIO: DE ACEITE DE MOTOR, FILTRO DE ACEITE, TRAMPA DE COMBUSTIBLE, FILTRO SECUNDARIO, FILTRO PRIMARIO DE AIRE, FILTRO SECUNDARIO DE AIRE. VERIFICACIÓN DE NIVELES DE TODA, ESCANEAR EQUIPO Y MANO DE OBRA) PARA MOTOCONFORMADORA | B7: 21455.36 | C7: 1 | D7: 18496
A8: MANTENIMIENTO A MOTOR 750HRS (CAMBIO: DE ACEITE DE MOTOR, FILTRO DE ACEITE, TRAMPA DE COMBUSTIBLE, FILTRO SECUNDARIO, FILTRO PRIMARIO DE AIRE, FILTRO SECUNDARIO DE AIRE. VERIFICACIÓN DE NIVELES DE TODA, ESCANEAR EQUIPO Y MANO DE OBRA) PARA NEUMÁTICO | B8: 20941.48 | C8: 1 | D8: 18053
A9: MANTENIMIENTO A MOTOR 750HRS (CAMBIO: DE ACEITE DE MOTOR, FILTRO DE ACEITE, TRAMPA DE COMBUSTIBLE, FILTRO SECUNDARIO, FILTRO PRIMARIO DE AIRE, FILTRO SECUNDARIO DE AIRE. VERIFICACIÓN DE NIVELES DE TODA, ESCANEAR EQUIPO Y MANO DE OBRA) PARA PAVIMENTADORA | B9: 25000 | C9: 3 | D9: 21551.724
A10: MANTENIMIENTO A MOTOR 750HRS (CAMBIO: DE ACEITE DE MOTOR, FILTRO DE ACEITE, TRAMPA DE COMBUSTIBLE, FILTRO SECUNDARIO, FILTRO PRIMARIO DE AIRE, FILTRO SECUNDARIO DE AIRE. VERIFICACIÓN DE NIVELES DE TODA, ESCANEAR EQUIPO Y MANO DE OBRA) PARA VIBROCOMPACTADORA | B10: 2000 | C10: 3 | D10: 1724.1379
A11: REHABILITACION DE MOTOR (CARGADOR FRONTAL) | B11: 158000 | C11: 1 | D11: 136206.9
A12: REHABILITACION DE MOTOR DE BARREDORA | B12: 17049.1 | C12: 1 | D12: 14697.5
A13: REPARACION DE BOMBA CEBADORA, BOMBA DE ARRASTE Y ESCANEO (CARGADOR FRONTAL) | B13: 115000 | C13: 1 | D13: 99137.931
... A21: SERVICIO DE TORNO EN GENERAL | B21: 81200 | C21: 3 | D21: 70000

Sheet 1ER
C1: 1 | D1: ENE | E1: 2 | F1: FEB | G1: 3 | H1: MAR | I1: 4 | J1: ABRIL | K1: TOTAL
A2: 2981 | B2: ESPREAS DE RIEGO (COMPACTADOR NEUMATICO) | C2: 0 | D2: 0 | E2: 22620 | F2: 15 | G2: 30160 | H2: 20 | I2: 22620 | J2: 15 | K2: =SUM(D2,F2,H2,J2) -> 50 | L2: =C2/1.16 -> 0 | M2: =E2/1.16 -> 19500 | N2: =G2/1.16 -> 26000 | O2: =I2/1.16 -> 19500
A3: 2961 | B3: ABRAZADERA SINFÍN 3/4 | C3: 0 | D3: 0 | E3: 365.4 | F3: 7 | G3: 365.4 | H3: 7 | I3: 313.2 | J3: 6 | K3: =SUM(D3,F3,H3,J3) -> 20 | L3: =C3/1.16 -> 0 | M3: =E3/1.16 -> 315 | N3: =G3/1.16 -> 315 | O3: =I3/1.16 -> 270
A4: 2961 | B4: ABRAZADERA SINFÍN 5/8 | C4: 0 | D4: 0 | E4: 365.4 | F4: 7 | G4: 365.4 | H4: 7 | I4: 313.2 | J4: 6 | K4: =SUM(D4,F4,H4,J4) -> 20 | L4: =C4/1.16 -> 0 | M4: =E4/1.16 -> 315 | N4: =G4/1.16 -> 315 | O4: =I4/1.16 -> 270
A5: 2961 | B5: ABRAZADERAS PARA CRUCETAS DE CARDAN (PICK UP) | C5: 0 | D5: 0 | E5: 2018.4 | F5: 4 | G5: 2018.4 | H5: 4 | I5: 1009.2 | J5: 2 | K5: =SUM(D5,F5,H5,J5) -> 10 | L5: =C5/1.16 -> 0 | M5: =E5/1.16 -> 1740 | N5: =G5/1.16 -> 1740 | O5: =I5/1.16 -> 870
A6: 2961 | B6: ABRAZADERAS SINFÍN 3/8 | C6: 0 | D6: 0 | E6: 522 | F6: 10 | G6: 261 | H6: 5 | I6: 261 | J6: 5 | K6: =SUM(D6,F6,H6,J6) -> 20 | L6: =C6/1.16 -> 0 | M6: =E6/1.16 -> 450 | N6: =G6/1.16 -> 225 | O6: =I6/1.16 -> 225
A7: 2981 | B7: ACUMUALDORES DE 17 PLACAS DE POSTE | C7: 0 | D7: 0 | E7: 16240 | F7: 4 | G7: 16240 | H7: 4 | I7: 8120 | J7: 2 | K7: =SUM(D7,F7,H7,J7) -> 10 | L7: =C7/1.16 -> 0 | M7: =E7/1.16 -> 14000 | N7: =G7/1.16 -> 14000 | O7: =I7/1.16 -> 7000
A8: 2961 | B8: ACUMULADORES 17 PLACAS CAJA CHICA (PICK UP) | C8: 0 | D8: 0 | E8: 29232 | F8: 7 | G8: 29232 | H8: 7 | I8: 25056 | J8: 6 | K8: =SUM(D8,F8,H8,J8) -> 20 | L8: =C8/1.16 -> 0 | M8: =E8/1.16 -> 25200 | N8: =G8/1.16 -> 25200 | O8: =I8/1.16 -> 21600
A9: 2981 | B9: ACUMULADORES 17 PLACAS CAJA GRANDE DE TORNILLO | C9: 0 | D9: 0 | E9: 9744 | F9: 2 | G9: 9744 | H9: 2 | I9: 4872 | J9: 1 | K9: =SUM(D9,F9,H9,J9) -> 5 | L9: =C9/1.16 -> 0 | M9: =E9/1.16 -> 8400 | N9: =G9/1.16 -> 8400 | O9: =I9/1.16 -> 4200
A10: 2981 | B10: ACUMULADORES DE 23 PLACAS DE POSTE | C10: 0 | D10: 0 | E10: 30160 | F10: 4 | G10: 30160 | H10: 4 | I10: 0 | J10: 0 | K10: =SUM(D10,F10,H10,J10) -> 8 | L10: =C10/1.16 -> 0 | M10: =E10/1.16 -> 26000 | N10: =G10/1.16 -> 26000 | O10: =I10/1.16 -> 0
A11: 2961 | B11: AFLOJATODO (BOTE WD-40) | C11: 0 | D11: 0 | E11: 4036.8 | F11: 20 | G11: 3027.6 | H11: 15 | I11: 3027.6 | J11: 15 | K11: =SUM(D11,F11,H11,J11) -> 50 | L11: =C11/1.16 -> 0 | M11: =E11/1.16 -> 3480 | N11: =G11/1.16 -> 2610 | O11: =I11/1.16 -> 2610
A12: 2981 | B12: ALTERNADOR (FREIGTHLINER) | C12: 0 | D12: 0 | E12: 3248 | F12: 1 | G12: 3248 | H12: 1 | I12: 3248 | J12: 1 | K12: =SUM(D12,F12,H12,J12) -> 3 | L12: =C12/1.16 -> 0 | M12: =E12/1.16 -> 2800 | N12: =G12/1.16 -> 2800 | O12: =I12/1.16 -> 2800
A13: 2981 | B13: ALTERNADOR DELCO 12V (VIBROCOMPACTADORA) | C13: 0 | D13: 0 | E13: 12064 | F13: 2 | G13: 12064 | H13: 2 | I13: 6032 | J13: 1 | K13: =SUM(D13,F13,H13,J13) -> 5 | L13: =C13/1.16 -> 0 | M13: =E13/1.16 -> 10400 | N13: =G13/1.16 -> 10400 | O13: =I13/1.16 -> 5200
... A21: 2981 | B21: ARMADURA 28MT 12V | C21: 0 | D21: 0 | E21: 0 | F21: 0 | G21: 5174.76 | H21: 3 | I21: 3449.84 | J21: 2 | K21: =SUM(D21,F21,H21,J21) -> 5 | L21: =C21/1.16 -> 0 | M21: =E21/1.16 -> 0 | N21: =G21/1.16 -> 4461 | O21: =I21/1.16 -> 2974
A22: 2981 | B22: ARMADURA 29MT 12V | C22: 0 | D22: 0 | E22: 0 | G22: 7656 | H22: 3 | I22: 5104 | J22: 2 | K22: =SUM(D22,F22,H22,J22) -> 5 | L22: =C22/1.16 -> 0 | M22: =E22/1.16 -> 0 | N22: =G22/1.16 -> 6600 | O22: =I22/1.16 -> 4400
A23: 2981 | B23: ARMADURA 42MT 24V | C23: 0 | D23: 0 | E23: 0 | F23: 0 | G23: 15520.8 | H23: 3 | I23: 10347.2 | J23: 2 | K23: =SUM(D23,F23,H23,J23) -> 5 | L23: =C23/1.16 -> 0 | M23: =E23/1.16 -> 0 | N23: =G23/1.16 -> 13380 | O23: =I23/1.16 -> 8920
A24: 2961 | B24: ARMADURAS F-150 | C24: 0 | D24: 0 | E24: 5104 | F24: 4 | G24: 5104 | H24: 4 | I24: 2552 | J24: 2 | K24: =SUM(D24,F24,H24,J24) -> 10 | L24: =C24/1.16 -> 0 | M24: =E24/1.16 -> 4400 | N24: =G24/1.16 -> 4400 | O24: =I24/1.16 -> 2200
A25: 2961 | B25: ARMADURAS F-250 | C25: 0 | D25: 0 | E25: 2784 | F25: 2 | G25: 4176 | H25: 3 | I25: 0 | J25: 0 | K25: =SUM(D25,F25,H25,J25) -> 5 | L25: =C25/1.16 -> 0 | M25: =E25/1.16 -> 2400 | N25: =G25/1.16 -> 3600 | O25: =I25/1.16 -> 0
A26: 2961 | B26: ARMADURAS F-350 | C26: 0 | D26: 0 | E26: 3248 | F26: 2 | G26: 4872 | H26: 3 | I26: 0 | J26: 0 | K26: =SUM(D26,F26,H26,J26) -> 5 | L26: =C26/1.16 -> 0 | M26: =E26/1.16 -> 2800 | N26: =G26/1.16 -> 4200 | O26: =I26/1.16 -> 0
A27: 2961 | B27: ASILENCIADOR (PICK UP) | C27: 0 | D27: 0 | E27: 7569 | F27: 5 | G27: 7569 | H27: 5 | I27: 0 | K27: =SUM(D27,F27,H27,J27) -> 10 | L27: =C27/1.16 -> 0 | M27: =E27/1.16 -> 6525 | N27: =G27/1.16 -> 6525 | O27: =I27/1.16 -> 0
A28: 2981 | B28: BALANCIN DE MUELLES (FREIGTHLINER) | C28: 0 | D28: 0 | E28: 12446.8 | F28: 2 | G28: 12446.8 | H28: 2 | I28: 12446.8 | J28: 2 | K28: =SUM(D28,F28,H28,J28) -> 6 | L28: =C28/1.16 -> 0 | M28: =E28/1.16 -> 10730 | N28: =G28/1.16 -> 10730 | O28: =I28/1.16 -> 10730
A29: 2981 | B29: BALATAS (CAMA BAJA) | C29: 0 | D29: 0 | E29: 7540 | F29: 2 | G29: 7540 | H29: 2 | I29: 7540 | J29: 2 | K29: =SUM(D29,F29,H29,J29) -> 6 | L29: =C29/1.16 -> 0 | M29: =E29/1.16 -> 6500 | N29: =G29/1.16 -> 6500 | O29: =I29/1.16 -> 6500
A30: 2981 | B30: BALATAS TRASERAS (TRACTO CAMION) | C30: 0 | D30: 0 | E30: 26390 | F30: 7 | G30: 26390 | H30: 7 | I30: 22620 | J30: 6 | K30: =SUM(D30,F30,H30,J30) -> 20 | L30: =C30/1.16 -> 0 | M30: =E30/1.16 -> 22750 | N30: =G30/1.16 -> 22750 | O30: =I30/1.16 -> 19500
A31: 2981 | B31: BALERO DE CARGA CON PERNO (RETRO EXCAVADORA 580 K) | C31: 0 | D31: 0 | E31: 1113.6 | F31: 1 | G31: 1113.6 | H31: 1 | I31: 0 | J31: 0 | K31: =SUM(D31,F31,H31,J31) -> 2 | L31: =C31/1.16 -> 0 | M31: =E31/1.16 -> 960 | N31: =G31/1.16 -> 960 | O31: =I31/1.16 -> 0
A32: 2961 | B32: BALERO EXTERIOR (MINI BUS) | C32: 0 | D32: 0 | E32: 0 | F32: 0 | G32: 2354.8 | H32: 2 | I32: 0 | J32: 0 | K32: =SUM(D32,F32,H32,J32) -> 2 | L32: =C32/1.16 -> 0 | M32: =E32/1.16 -> 0 | N32: =G32/1.16 -> 2030 | O32: =I32/1.16 -> 0
A33: 2961 | B33: BALERO EXTERNO PARA RUEDA (PICK UP) | C33: 0 | D33: 0 | E33: 2059 | F33: 5 | G33: 2059 | H33: 5 | I33: 0 | J33: 0 | K33: =SUM(D33,F33,H33,J33) -> 10 | L33: =C33/1.16 -> 0 | M33: =E33/1.16 -> 1775 | N33: =G33/1.16 -> 1775 | O33: =I33/1.16 -> 0
A34: 2961 | B34: BALERO INTERIOR (MINI BUS) | C34: 0 | D34: 0 | E34: 5887 | F34: 5 | G34: 5887 | H34: 5 | I34: 0 | J34: 0 | K34: =SUM(D34,F34,H34,J34) -> 10 | L34: =C34/1.16 -> 0 | M34: =E34/1.16 -> 5075 | N34: =G34/1.16 -> 5075 | O34: =I34/1.16 -> 0
A35: 2961 | B35: BALERO INTERNO PARA RUEDA (PICK UP) | C35: 0 | D35: 0 | E35: 2059 | F35: 5 | G35: 0 | H35: 0 | I35: 2059 | J35: 5 | K35: =SUM(D35,F35,H35,J35) -> 10 | L35: =C35/1.16 -> 0 | M35: =E35/1.16 -> 1775 | N35: =G35/1.16 -> 0 | O35: =I35/1.16 -> 1775
A36: 2961 | B36: BALERO TRASERO EXTERIOR (MINI BUS) | C36: 0 | D36: 0 | E36: 0 | F36: 0 | G36: 5400 | H36: 2 | I36: 0 | J36: 0 | K36: =SUM(D36,F36,H36,J36) -> 2 | L36: =C36/1.16 -> 0 | M36: =E36/1.16 -> 0 | N36: =G36/1.16 -> 4655.1724 | O36: =I36/1.16 -> 0
A37: 2961 | B37: BALERO TRASERO INTERNO (MINI BUS) | C37: 0 | D37: 0 | E37: 0 | F37: 0 | G37: 5400 | H37: 2 | I37: 0 | J37: 0 | K37: =SUM(D37,F37,H37,J37) -> 2 | L37: =C37/1.16 -> 0 | M37: =E37/1.16 -> 0 | N37: =G37/1.16 -> 4655.1724 | O37: =I37/1.16 -> 0
A38: 2961 | B38: BALEROS 6203 (PICK UP) | C38: 0 | D38: 0 | E38: 371.2 | F38: 8 | G38: 278.4 | H38: 6 | I38: 278.4 | J38: 6 | K38: =SUM(D38,F38,H38,J38) -> 20 | L38: =C38/1.16 -> 0 | M38: =E38/1.16 -> 320 | N38: =G38/1.16 -> 240 | O38: =I38/1.16 -> 240
A39: 2981 | B39: BANDA (CARGADOR FRONTAL WA450) | C39: 0 | D39: 0 | E39: 3636.6 | F39: 1 | G39: 0 | H39: 0 | I39: 0 | J39: 0 | K39: =SUM(D39,F39,H39,J39) -> 1 | L39: =C39/1.16 -> 0 | M39: =E39/1.16 -> 3135 | N39: =G39/1.16 -> 0 | O39: =I39/1.16 -> 0
... A94: 2981 | B94: CABEZA PARA COMPRESOR DE AIRE CAMIONES P/FREIGHTLINER 2009 | C94: 0 | D94: 0 | E94: 11101.2 | F94: 2 | G94: 11101.2 | H94: 2 | I94: 0 | J94: 0 | K94: =SUM(D94,F94,H94,J94) -> 4 | L94: =C94/1.16 -> 0 | M94: =E94/1.16 -> 9570 | N94: =G94/1.16 -> 9570 | O94: =I94/1.16 -> 0
A95: 2961 | B95: CABLE CALIBRE 00 (PARA REPARACION DE SISTEMA ELECTRICO) (PICK UP) | C95: 0 | D95: 0 | E95: 2784 | F95: 10 | G95: 2784 | H95: 10 | I95: 0 | K95: =SUM(D95,F95,H95,J95) -> 20 | L95: =C95/1.16 -> 0 | M95: =E95/1.16 -> 2400 | N95: =G95/1.16 -> 2400 | O95: =I95/1.16 -> 0
A96: 2981 | B96: CABLE CALIBRE 1/0 (PARA REPARACION DE SISTEMA ELECTRICO) | C96: 0 | D96: 0 | E96: 17516 | F96: 50 | G96: 17516 | H96: 50 | I96: 0 | J96: 0 | K96: =SUM(D96,F96,H96,J96) -> 100 | L96: =C96/1.16 -> 0 | M96: =E96/1.16 -> 15100 | N96: =G96/1.16 -> 15100 | O96: =I96/1.16 -> 0
A97: 2981 | B97: CABLE CALIBRE 12 (PARA REPARACION DE SISTEMA ELECTRICO) | C97: 0 | D97: 0 | E97: 12180 | F97: 50 | G97: 12180 | H97: 50 | I97: 0 | J97: 0 | K97: =SUM(D97,F97,H97,J97) -> 100 | L97: =C97/1.16 -> 0 | M97: =E97/1.16 -> 10500 | N97: =G97/1.16 -> 10500 | O97: =I97/1.16 -> 0
A98: 2961 | B98: CABLE CALIBRE 16 (PARA REPARACION DE SISTEMA ELECTRICO) (PICK UP) | C98: 0 | D98: 0 | E98: 5800 | F98: 20 | G98: 5800 | H98: 20 | I98: 4350 | J98: 15 | K98: =SUM(D98,F98,H98,J98) -> 55 | L98: =C98/1.16 -> 0 | M98: =E98/1.16 -> 5000 | N98: =G98/1.16 -> 5000 | O98: =I98/1.16 -> 3750
A99: 2961 | B99: CAIMANES CHICOS (CABLE 26 CM) (PICK UP) | C99: 0 | D99: 0 | E99: 338.72 | F99: 4 | G99: 338.72 | H99: 4 | I99: 0 | J99: 0 | K99: =SUM(D99,F99,H99,J99) -> 8 | L99: =C99/1.16 -> 0 | M99: =E99/1.16 -> 292 | N99: =G99/1.16 -> 292 | O99: =I99/1.16 -> 0
A100: 2961 | B100: CAIMANES GRANDES (CABLE 50CM) (PICK UP) | C100: 0 | D100: 0 | E100: 459.36 | F100: 4 | G100: 459.36 | H100: 4 | I100: 0 | J100: 0 | K100: =SUM(D100,F100,H100,J100) -> 8 | L100: =C100/1.16 -> 0 | M100: =E100/1.16 -> 396 | N100: =G100/1.16 -> 396 | O100: =I100/1.16 -> 0
A101: 2981 | B101: CAIMANES REFORZADO (CABLE 50CM, DE USO RUDO) | C101: 0 | D101: 0 | E101: 1740 | F101: 6 | G101: 2320 | H101: 8 | I101: 1740 | J101: 6 | K101: =SUM(D101,F101,H101,J101) -> 20 | L101: =C101/1.16 -> 0 | M101: =E101/1.16 -> 1500 | N101: =G101/1.16 -> 2000 | O101: =I101/1.16 -> 1500
...
