Workbook

Sheet ECO 2
A5: SECRETARÍA DE OBRAS PÚBLICAS
A6: SUBSECRETARIA DE COMUNICACIONES
A7: LICITACIÓN No. EA-932063953-SOP039-2026
A8: SERVICIOS: SERVICIOS DE MANTENIMIENTO PARA LA MAQUINARIA PESADA QUE TRABAJA EN OBRAS POR ADMINISTRACIÓN DEL “PROGRAMA RESCATE CARRETERO 2026”
H9: ECONÓMICO No. 2
B11: Nº | C11: DESCRIPCIÓN | D11: PART. | E11: UNIDAD | F11: CANTIDAD | G11: COSTO UNITARIO CON NÚMERO | H11: COSTO UNITARIO CON LETRA | I11: IMPORTE
B12: 1 | C12: CALIBRACION DE FRENO DE MOTOR PARA TORTON / NO. ECO. 4380 | D12: 3571 | E12: SERVICIO | F12: 1
B13: 2 | C13: CALIBRACION DE MOTOR A DIESEL PARA PETROLIZADORA / NO. ECO. 4383 | D13: 3571 | E13: SERVICIO | F13: 1
B14: 3 | C14: CALIBRACION DE MOTOR A DIESEL PARA PIPA / NO. ECO. 4382 | D14: 3571 | E14: SERVICIO | F14: 1
B15: 4 | C15: CAMBIO DE BANDAS DE CAUCHO A LOS DOS LADOS PARA PAVIMENTADORA / NO. ECO. MP-00224 | D15: 3571 | E15: SERVICIO | F15: 1
B16: 5 | C16: CAMBIO DE BANDAS DE CAUCHO A LOS DOS LADOS PARA PAVIMENTADORA / NO. ECO. MP-00225 | D16: 3571 | E16: SERVICIO | F16: 1
B17: 6 | C17: CAMBIO DE BANDAS DE CAUCHO A LOS DOS LADOS PARA PAVIMENTADORA / NO. ECO. MP-00237 | D17: 3571 | E17: SERVICIO | F17: 1
B18: 7 | C18: CAMBIO DE METALES DE BIELA, (CHECAR PRESIONES DE ACEITE Y CALIBRACION DE MOTOR) PARA TORTON / NO. ECO. 344 | D18: 3571 | E18: SERVICIO | F18: 1
B19: 8 | C19: MANTENIMIENTO A MOTOR 1000HRS PARA BARREDORA (CAMBIO: DE ACEITE DE MOTOR, FILTRO DE ACEITE, TRAMPA DE COMBUSTIBLE, FILTRO SECUNDARIO, FILTRO PRIMARIO DE AIRE, FILTRO SECUNDARIO DE AIRE. VERIFICACIÓN DE NIVELES DE TODA, ESCANEAR EQUIPO Y MANO DE OBRA) PARA NO. ECO. MP-00236 | D19: 3571 | E19: SERVICIO | F19: 1
B20: 9 | C20: MANTENIMIENTO A MOTOR 1000HRS PARA COMPACTADOR - NEUMÁTICO (CAMBIO: DE ACEITE DE MOTOR, FILTRO DE ACEITE, TRAMPA DE COMBUSTIBLE, FILTRO SECUNDARIO, FILTRO PRIMARIO DE AIRE, FILTRO SECUNDARIO DE AIRE. VERIFICACIÓN DE NIVELES DE TODA, ESCANEAR EQUIPO Y MANO DE OBRA) PARA NO. ECO. MP-00231 | D20: 3571 | E20: SERVICIO | F20: 1
B21: 10 | C21: MANTENIMIENTO A MOTOR 1000HRS PARA MOTOCONFORMADORA (CAMBIO: DE ACEITE DE MOTOR, FILTRO DE ACEITE, TRAMPA DE COMBUSTIBLE, FILTRO SECUNDARIO, FILTRO PRIMARIO DE AIRE, FILTRO SECUNDARIO DE AIRE. VERIFICACIÓN DE NIVELES DE TODA, ESCANEAR EQUIPO Y MANO DE OBRA) PARA NO. ECO. MP-00233 | D21: 3571 | E21: SERVICIO | F21: 1
B22: 11 | C22: MANTENIMIENTO A MOTOR 1000HRS PARA PAVIMENTADORA (CAMBIO: DE ACEITE DE MOTOR, FILTRO DE ACEITE, TRAMPA DE COMBUSTIBLE, FILTRO SECUNDARIO, FILTRO PRIMARIO DE AIRE, FILTRO SECUNDARIO DE AIRE. VERIFICACIÓN DE NIVELES DE TODA, ESCANEAR EQUIPO Y MANO DE OBRA) PARA NO. ECO. MP-00224 | D22: 3571 | E22: SERVICIO | F22: 1
B23: 12 | C23: MANTENIMIENTO A MOTOR 1000HRS PARA PAVIMENTADORA (CAMBIO: DE ACEITE DE MOTOR, FILTRO DE ACEITE, TRAMPA DE COMBUSTIBLE, FILTRO SECUNDARIO, FILTRO PRIMARIO DE AIRE, FILTRO SECUNDARIO DE AIRE. VERIFICACIÓN DE NIVELES DE TODA, ESCANEAR EQUIPO Y MANO DE OBRA) PARA NO. ECO. MP-00225 | D23: 3571 | E23: SERVICIO | F23: 1
... B47: 36 | C47: REPARACION Y PROGRAMACION DE INYECTORES, CALIBRACION DE MOTOR PARA BULLDOZER / NO. ECO. MP-00140 | D47: 3571 | E47: SERVICIO | F47: 1
H48: SUBTOTAL DE LOS SERVICIOS
H49: SUBTOTAL
H50: 16 % IVA
H51: TOTAL
A54: NOTA: EN PAPELERIA MEBRETADA DE LA EMPRESA Y FIRMADO POR EL REPRESENTANTE LEGAL

Sheet ECO 3
B7: ='ECO 2'!A5 -> SECRETARÍA DE OBRAS PÚBLICAS
B8: ='ECO 2'!A6 -> SUBSECRETARIA DE COMUNICACIONES
A9: LICITACIÓN No. EA-932063953-SOP039-2026
A10: SERVICIOS: SERVICIOS DE MANTENIMIENTO PARA LA MAQUINARIA PESADA QUE TRABAJA EN OBRAS POR ADMINISTRACIÓN DEL “PROGRAMA RESCATE CARRETERO 2026”
I11: ECONÓMICO No. 3
H12: plazo de entrega 90 dias naturales
C13: PROGRAMA DE PRESTACIÓN DEL SERVICIO
B15: Nº | C15: DESCRIPCIÓN | D15: UNIDAD | E15: CANTIDAD | F15: FECHA INICIO | G15: FECHA ENTREGA | H15: MES
B17: 1 | C17: ='ECO 2'!C12 -> CALIBRACION DE FRENO DE MOTOR PARA TORTON / NO. ECO. 4380
B18: 2 | C18: ='ECO 2'!C13 -> CALIBRACION DE MOTOR A DIESEL PARA PETROLIZADORA / NO. ECO. 4383
B19: 3 | C19: ='ECO 2'!C14 -> CALIBRACION DE MOTOR A DIESEL PARA PIPA / NO. ECO. 4382
B20: 4 | C20: ='ECO 2'!C15 -> CAMBIO DE BANDAS DE CAUCHO A LOS DOS LADOS PARA PAVIMENTADORA / NO. ECO. MP-00224
B21: 5 | C21: ='ECO 2'!C16 -> CAMBIO DE BANDAS DE CAUCHO A LOS DOS LADOS PARA PAVIMENTADORA / NO. ECO. MP-00225
B22: 6 | C22: ='ECO 2'!C17 -> CAMBIO DE BANDAS DE CAUCHO A LOS DOS LADOS PARA PAVIMENTADORA / NO. ECO. MP-00237
B23: 7 | C23: ='ECO 2'!C18 -> CAMBIO DE METALES DE BIELA, (CHECAR PRESIONES DE ACEITE Y CALIBRACION DE MOTOR) PARA TORTON / NO. ECO. 344
B24: 8 | C24: ='ECO 2'!C19 -> MANTENIMIENTO A MOTOR 1000HRS PARA BARREDORA (CAMBIO: DE ACEITE DE MOTOR, FILTRO DE ACEITE, TRAMPA DE COMBUSTIBLE, FILTRO SECUNDARIO, FILTRO PRIMARIO DE AIRE, FILTRO SECUNDARIO DE AIRE. VERIFICACIÓN DE NIVELES DE TODA, ESCANEAR EQUIPO Y MANO DE OBRA) PARA NO. ECO. MP-00236
B25: 9 | C25: ='ECO 2'!C20 -> MANTENIMIENTO A MOTOR 1000HRS PARA COMPACTADOR - NEUMÁTICO (CAMBIO: DE ACEITE DE MOTOR, FILTRO DE ACEITE, TRAMPA DE COMBUSTIBLE, FILTRO SECUNDARIO, FILTRO PRIMARIO DE AIRE, FILTRO SECUNDARIO DE AIRE. VERIFICACIÓN DE NIVELES DE TODA, ESCANEAR EQUIPO Y MANO DE OBRA) PARA NO. ECO. MP-00231
B26: 10 | C26: ='ECO 2'!C21 -> MANTENIMIENTO A MOTOR 1000HRS PARA MOTOCONFORMADORA (CAMBIO: DE ACEITE DE MOTOR, FILTRO DE ACEITE, TRAMPA DE COMBUSTIBLE, FILTRO SECUNDARIO, FILTRO PRIMARIO DE AIRE, FILTRO SECUNDARIO DE AIRE. VERIFICACIÓN DE NIVELES DE TODA, ESCANEAR EQUIPO Y MANO DE OBRA) PARA NO. ECO. MP-00233
B27: 11 | C27: ='ECO 2'!C22 -> MANTENIMIENTO A MOTOR 1000HRS PARA PAVIMENTADORA (CAMBIO: DE ACEITE DE MOTOR, FILTRO DE ACEITE, TRAMPA DE COMBUSTIBLE, FILTRO SECUNDARIO, FILTRO PRIMARIO DE AIRE, FILTRO SECUNDARIO DE AIRE. VERIFICACIÓN DE NIVELES DE TODA, ESCANEAR EQUIPO Y MANO DE OBRA) PARA NO. ECO. MP-00224
B28: 12 | C28: ='ECO 2'!C23 -> MANTENIMIENTO A MOTOR 1000HRS PARA PAVIMENTADORA (CAMBIO: DE ACEITE DE MOTOR, FILTRO DE ACEITE, TRAMPA DE COMBUSTIBLE, FILTRO SECUNDARIO, FILTRO PRIMARIO DE AIRE, FILTRO SECUNDARIO DE AIRE. VERIFICACIÓN DE NIVELES DE TODA, ESCANEAR EQUIPO Y MANO DE OBRA) PARA NO. ECO. MP-00225
... B52: 36 | C52: ='ECO 2'!C47 -> REPARACION Y PROGRAMACION DE INYECTORES, CALIBRACION DE MOTOR PARA BULLDOZER / NO. ECO. MP-00140
B55: NOTA: EN PAPELERIA MEBRETADA DE LA EMPRESA Y FIRMADO POR EL REPRESENTANTE LEGAL

Sheet Hoja1
A1: 1 | B1: REPARACION DE TRANSMISION PARA EQUIPO DE TRANSPORTE DE PERSONAL EXPLORER / NO. ECO. 1123
A2: 2 | B2: REPARACION DE MOTOR PARA EQUIPO DE TRANSPORTE DE PERSONAL / NO. ECO. 1210, 1072, 1075, 1077, 1192, 1212 Y 1201
A3: 3 | B3: ESCANEO DEL SISTEMA PARA EQUIPO DE TRANSPORTE DE PERSONAL TAHOE/ NO.ECO. 366
A4: 4 | B4: REPARACION DE INYECCIÓN Y BATERIA PARA CAMION BACHADOR / NO. ECO. 1158
A5: 5 | B5: CAMBIO DE KIT DE DISTRIBUCION Y BATERIA PARA CAMION BACHADOR / NO. ECO. 1156
A6: 6 | B6: REPARACION DE SISTEMA DE CLUCH PARA CAMIO BACHADOR / NO. ECO. 1160
A7: 7 | B7: REPARACION DE MOTOR PARA CAMION BACHADOR / NO. ECO. 1161
A8: 8 | B8: REPARACION DE SISTEMA ELECTRICO (SENSOR DE CIGÜEÑAL, ARBOL DE LEVAS, BULBO DE ACEITE, BOMBA DE GASOLINA) PARA EQUIPO DE TRANSPORTE DE PERSONAL / NO. ECO. 271
A9: 9 | B9: REPARACION DE DIFERENCIAL (BALEROS, RETENES, CORONA, PIÑON, PERNO Y SEGURO) PARA EQUIPO DE TRANSPORTE DE PERSONAL / NO. ECO. 1203
A10: 10 | B10: REPARACION DE SUSPENSION Y FRENOS PARA EQUIPO DE TRANSPORTE DE PERSONAL /NO. ECO. 1182
A11: 11 | B11: REPARACION DE MARCHA COMPLETA RAPIDA PARA EQUIPO DE TRANSPORTE DE PERSONAL /NO. ECO. 325,2478 Y 2667
A12: 12 | B12: REPARACION DE MOTOR PARA PETROLIZADORA / NO. ECO. 1033
... A43: 43 | B43: SERVICIO DE TORNO PARA VEHICULOS VARIOS

Sheet Hoja3
A1: 120689.66
A2: 163793.1

Sheet Hoja2
A1: Nº | B1: DESCRIPCIÓN | C1: PARTIDA | D1: UNIDAD | E1: CANTIDAD
A2: 1 | B2: REPARACION DE TRANSMISION PARA EQUIPO DE TRANSPORTE DE PERSONAL EXPLORER / NO. ECO. 1123 | C2: 3571 | D2: SERVICIO | E2: 1
A3: 2 | B3: REPARACION DE MOTOR PARA EQUIPO DE TRANSPORTE DE PERSONAL / NO. ECO. 1210, 1072, 1075, 1077, 1192, 1212 Y 1201 | C3: 3571 | D3: SERVICIO | E3: 7
A4: 3 | B4: ESCANEO DEL SISTEMA PARA EQUIPO DE TRANSPORTE DE PERSONAL TAHOE/ NO.ECO. 366 | C4: 3571 | D4: SERVICIO | E4: 1
A5: 4 | B5: REPARACION DE INYECCIÓN Y BATERIA PARA CAMION BACHADOR / NO. ECO. 1158 | C5: 3571 | D5: SERVICIO | E5: 1
A6: 5 | B6: CAMBIO DE KIT DE DISTRIBUCION Y BATERIA PARA CAMION BACHADOR / NO. ECO. 1156 | C6: 3571 | D6: SERVICIO | E6: 1
A7: 6 | B7: REPARACION DE SISTEMA DE CLUCH PARA CAMIO BACHADOR / NO. ECO. 1160 | C7: 3571 | D7: SERVICIO | E7: 1
A8: 7 | B8: REPARACION DE MOTOR PARA CAMION BACHADOR / NO. ECO. 1161 | C8: 3571 | D8: SERVICIO | E8: 1
A9: 8 | B9: REPARACION DE SISTEMA ELECTRICO (SENSOR DE CIGÜEÑAL, ARBOL DE LEVAS, BULBO DE ACEITE, BOMBA DE GASOLINA) PARA EQUIPO DE TRANSPORTE DE PERSONAL / NO. ECO. 271 | C9: 3571 | D9: SERVICIO | E9: 1
A10: 9 | B10: REPARACION DE DIFERENCIAL (BALEROS, RETENES, CORONA, PIÑON, PERNO Y SEGURO) PARA EQUIPO DE TRANSPORTE DE PERSONAL / NO. ECO. 1203 | C10: 3571 | D10: SERVICIO | E10: 1
A11: 10 | B11: REPARACION DE SUSPENSION Y FRENOS PARA EQUIPO DE TRANSPORTE DE PERSONAL /NO. ECO. 1182 | C11: 3571 | D11: SERVICIO | E11: 1
A12: 11 | B12: REPARACION DE MARCHA COMPLETA RAPIDA PARA EQUIPO DE TRANSPORTE DE PERSONAL /NO. ECO. 325,2478 Y 2667 | C12: 3571 | D12: SERVICIO | E12: 3
A13: 12 | B13: REPARACION DE MOTOR PARA PETROLIZADORA / NO. ECO. 1033 | C13: 3571 | D13: SERVICIO | E13: 1
... A44: 43 | B44: SERVICIO DE TORNO PARA VEHICULOS VARIOS | C44: 3571 | D44: SERVICIO | E44: 1

Sheet AÑO
A1: PARTIDA | C1: ENE | D1: FEB | E1: MAR | F1: ABRIL | G1: MAY | H1: JUN | I1: JUL | J1: AGO | K1: SEP | L1: OCT | M1: NOV | N1: DIC
A2: 3571 | B2: AFINACION DE INYECTORES (VOLTEO) | C2: 0 | D2: 1 | E2: 1 | F2: 0 | G2: 0 | H2: 0 | I2: 0 | J2: 0 | K2: 0 | L2: 0 | M2: 0 | N2: 0 | O2: =SUM(C2:N2) -> 2
A3: 3571 | B3: ALINEACION Y BALANCERO (SILVERADO 2008) | C3: 0 | D3: 1 | E3: 0 | F3: 0 | G3: 0 | H3: 0 | I3: 0 | J3: 0 | K3: 0 | L3: 0 | M3: 0 | N3: 0 | O3: =SUM(C3:N3) -> 1
A4: 3571 | B4: CAMBIO DE EJE COMPLETO (RETROEXCAVADORA) | C4: 0 | D4: 0 | E4: 1 | F4: 0 | G4: 0 | H4: 0 | I4: 0 | J4: 0 | K4: 0 | L4: 0 | M4: 0 | N4: 0 | O4: =SUM(C4:N4) -> 1
A5: 3571 | B5: CAMBIO DE VALVULAS Y GATOS DE PLANCHA (PAVIMENTADORA) | C5: 0 | D5: 0 | E5: 1 | F5: 0 | G5: 0 | H5: 0 | I5: 0 | J5: 0 | K5: 0 | L5: 0 | M5: 0 | N5: 0 | O5: =SUM(C5:N5) -> 1
A6: 3571 | B6: MANTENIMIENTO A MOTOR 750HRS PARA BARREDORA (CAMBIO: DE ACEITE DE MOTOR, FILTRO DE ACEITE, TRAMPA DE COMBUSTIBLE, FILTRO SECUNDARIO, FILTRO PRIMARIO DE AIRE, FILTRO SECUNDARIO DE AIRE. VERIFICACIÓN DE NIVELES DE TODA, ESCANEAR EQUIPO Y MANO DE OBRA) | C6: 0 | D6: 0 | E6: 1 | F6: 0 | G6: 0 | H6: 0 | I6: 0 | J6: 0 | K6: 0 | L6: 0 | M6: 0 | N6: 0 | O6: =SUM(C6:N6) -> 1
A7: 3571 | B7: MANTENIMIENTO A MOTOR 750HRS PARA MOTOCONFORMADORA (CAMBIO: DE ACEITE DE MOTOR, FILTRO DE ACEITE, TRAMPA DE COMBUSTIBLE, FILTRO SECUNDARIO, FILTRO PRIMARIO DE AIRE, FILTRO SECUNDARIO DE AIRE. VERIFICACIÓN DE NIVELES DE TODA, ESCANEAR EQUIPO Y MANO DE OBRA) | C7: 0 | D7: 1 | E7: 0 | F7: 0 | G7: 0 | H7: 0 | I7: 0 | J7: 0 | K7: 0 | L7: 0 | M7: 0 | N7: 0 | O7: =SUM(C7:N7) -> 1
A8: 3571 | B8: MANTENIMIENTO A MOTOR 750HRS PARA NEUMÁTICO (CAMBIO: DE ACEITE DE MOTOR, FILTRO DE ACEITE, TRAMPA DE COMBUSTIBLE, FILTRO SECUNDARIO, FILTRO PRIMARIO DE AIRE, FILTRO SECUNDARIO DE AIRE. VERIFICACIÓN DE NIVELES DE TODA, ESCANEAR EQUIPO Y MANO DE OBRA) | C8: 0 | D8: 1 | E8: 0 | F8: 0 | G8: 0 | H8: 0 | I8: 0 | J8: 0 | K8: 0 | L8: 0 | M8: 0 | N8: 0 | O8: =SUM(C8:N8) -> 1
A9: 3571 | B9: MANTENIMIENTO A MOTOR 750HRS PARA PAVIMENTADORA (CAMBIO: DE ACEITE DE MOTOR, FILTRO DE ACEITE, TRAMPA DE COMBUSTIBLE, FILTRO SECUNDARIO, FILTRO PRIMARIO DE AIRE, FILTRO SECUNDARIO DE AIRE. VERIFICACIÓN DE NIVELES DE TODA, ESCANEAR EQUIPO Y MANO DE OBRA) | C9: 0 | D9: 3 | E9: 0 | F9: 0 | G9: 0 | H9: 0 | I9: 0 | J9: 0 | K9: 0 | L9: 0 | M9: 0 | N9: 0 | O9: =SUM(C9:N9) -> 3
A10: 3571 | B10: MANTENIMIENTO A MOTOR 750HRS PARA VIBROCOMPACTADORA (CAMBIO: DE ACEITE DE MOTOR, FILTRO DE ACEITE, TRAMPA DE COMBUSTIBLE, FILTRO SECUNDARIO, FILTRO PRIMARIO DE AIRE, FILTRO SECUNDARIO DE AIRE. VERIFICACIÓN DE NIVELES DE TODA, ESCANEAR EQUIPO Y MANO DE OBRA) | C10: 0 | D10: 3 | E10: 0 | F10: 0 | G10: 0 | H10: 0 | I10: 0 | J10: 0 | K10: 0 | L10: 0 | M10: 0 | N10: 0 | O10: =SUM(C10:N10) -> 3
A11: 3571 | B11: MANTENIMIENTO DE MOTOR Y TRANSMISION (TRACTO CAMION) | C11: 0 | D11: 1 | E11: 1 | F11: 0 | G11: 0 | H11: 0 | I11: 0 | J11: 0 | K11: 0 | L11: 0 | M11: 0 | N11: 0 | O11: =SUM(C11:N11) -> 2
A12: 3571 | B12: REHABILITACION DE MOTOR (CARGADOR FRONTAL) | C12: 0 | D12: 2 | E12: 1 | F12: 0 | G12: 0 | H12: 0 | I12: 0 | J12: 0 | K12: 0 | L12: 0 | M12: 0 | N12: 0 | O12: =SUM(C12:N12) -> 3
A13: 3571 | B13: REHABILITACION DE MOTOR DE BARREDORA | C13: 1 | D13: 0 | E13: 0 | F13: 0 | G13: 0 | H13: 0 | I13: 0 | J13: 0 | K13: 0 | L13: 0 | M13: 0 | N13: 0 | O13: =SUM(C13:N13) -> 1
... A21: 3571 | B21: REVISION DE SENSORES DE ENCENDIDO, ESCANEO Y CAMBIO DE MULTIPLE DE ESCAPE (PAVIMENTADORA) | C21: 0 | D21: 0 | E21: 1 | F21: 0 | G21: 0 | H21: 0 | I21: 0 | J21: 0 | K21: 0 | L21: 0 | M21: 0 | N21: 0 | O21: =SUM(C21:N21) -> 1
A22: 3571 | B22: SERVICIO DE TORNO EN GENERAL | C22: 0 | D22: 3 | E22: 0 | F22: 0 | G22: 0 | H22: 0 | I22: 0 | J22: 0 | K22: 0 | L22: 0 | M22: 0 | N22: 0 | O22: 3

Sheet precio
A2: AFINACION DE INYECTORES (VOLTEO TORTON) | B2: 37700 | C2: 1 | D2: 32500
A3: ALINEACION Y BALANCERO (SILVERADO 2008) | B3: 638 | C3: 1 | D3: 550
A4: CAMBIO DE EJE COMPLETO (RETROEXCAVADORA) | B4: 150000 | C4: 1 | D4: 129310.34
A5: CAMBIO DE VALVULAS Y GATOS DE PLANCHA (PAVIMENTADORA) | B5: 99700 | C5: 1 | D5: 85948.276
A6: MANTENIMIENTO A MOTOR 750HRS (CAMBIO: DE ACEITE DE MOTOR, FILTRO DE ACEITE, TRAMPA DE COMBUSTIBLE, FILTRO SECUNDARIO, FILTRO PRIMARIO DE AIRE, FILTRO SECUNDARIO DE AIRE. VERIFICACIÓN DE NIVELES DE TODA, ESCANEAR EQUIPO Y MANO DE OBRA) PARA BARREDORA | B6: 10241.64 | C6: 1 | D6: 8829
A7: MANTENIMIENTO A MOTOR 750HRS (CAMBIO: DE ACEITE DE MOTOR, FILTRO DE ACEITE, TRAMPA DE COMBUSTIBLE, FILTRO SECUNDARIO, FILTRO PRIMARIO DE AIRE, FILTRO SECUNDARIO DE AIRE. VERIFICACIÓN DE NIVELES DE TODA, ESCANEAR EQUIPO Y MANO DE OBRA) PARA MOTOCONFORMADORA | B7: 21455.36 | C7: 1 | D7: 18496
A8: MANTENIMIENTO A MOTOR 750HRS (CAMBIO: DE ACEITE DE MOTOR, FILTRO DE ACEITE, TRAMPA DE COMBUSTIBLE, FILTRO SECUNDARIO, FILTRO PRIMARIO DE AIRE, FILTRO SECUNDARIO DE AIRE. VERIFICACIÓN DE NIVELES DE TODA, ESCANEAR EQUIPO Y MANO DE OBRA) PARA NEUMÁTICO | B8: 20941.48 | C8: 1 | D8: 18053
A9: MANTENIMIENTO A MOTOR 750HRS (CAMBIO: DE ACEITE DE MOTOR, FILTRO DE ACEITE, TRAMPA DE COMBUSTIBLE, FILTRO SECUNDARIO, FILTRO PRIMARIO DE AIRE, FILTRO SECUNDARIO DE AIRE. VERIFICACIÓN DE NIVELES DE TODA, ESCANEAR EQUIPO Y MANO DE OBRA) PARA PAVIMENTADORA | B9: 25000 | C9: 3 | D9: 21551.724
A10: MANTENIMIENTO A MOTOR 750HRS (CAMBIO: DE ACEITE DE MOTOR, FILTRO DE ACEITE, TRAMPA DE COMBUSTIBLE, FILTRO SECUNDARIO, FILTRO PRIMARIO DE AIRE, FILTRO SECUNDARIO DE AIRE. VERIFICACIÓN DE NIVELES DE TODA, ESCANEAR EQUIPO Y MANO DE OBRA) PARA VIBROCOMPACTADORA | B10: 2000 | C10: 3 | D10: 1724.1379
A11: REHABILITACION DE MOTOR (CARGADOR FRONTAL) | B11: 158000 | C11: 1 | D11: 136206.9
A12: REHABILITACION DE MOTOR DE BARREDORA | B12: 17049.1 | C12: 1 | D12: 14697.5
A13: REPARACION DE BOMBA CEBADORA, BOMBA DE ARRASTE Y ESCANEO (CARGADOR FRONTAL) | B13: 115000 | C13: 1 | D13: 99137.931
... A21: SERVICIO DE TORNO EN GENERAL | B21: 81200 | C21: 3 | D21: 70000

Sheet 1ER
C1: 1 | D1: ENE | E1: 2 | F1: FEB | G1: 3 | H1: MAR | I1: 4 | J1: ABRIL | K1: TOTAL
A2: 2981 | B2: ESPREAS DE RIEGO (COMPACTADOR NEUMATICO) | C2: 0 | D2: 0 | E2: 22620 | F2: 15 | G2: 30160 | H2: 20 | I2: 22620 | J2: 15 | K2: =SUM(D2,F2,H2,J2) -> 50 | L2: =C2/1.16 -> 0 | M2: =E2/1.16 -> 19500 | N2: =G2/1.16 -> 26000 | O2: =I2/1.16 -> 19500
A3: 2961 | B3: ABRAZADERA SINFÍN 3/4 | C3: 0 | D3: 0 | E3: 365.4 | F3: 7 | G3: 365.4 | H3: 7 | I3: 313.2 | J3: 6 | K3: =SUM(D3,F3,H3,J3) -> 20 | L3: =C3/1.16 -> 0 | M3: =E3/1.16 -> 315 | N3: =G3/1.16 -> 315 | O3: =I3/1.16 -> 270
A4: 2961 | B4: ABRAZADERA SINFÍN 5/8 | C4: 0 | D4: 0 | E4: 365.4 | F4: 7 | G4: 365.4 | H4: 7 | I4: 313.2 | J4: 6 | K4: =SUM(D4,F4,H4,J4) -> 20 | L4: =C4/1.16 -> 0 | M4: =E4/1.16 -> 315 | N4: =G4/1.16 -> 315 | O4: =I4/1.16 -> 270
A5: 2961 | B5: ABRAZADERAS PARA CRUCETAS DE CARDAN (PICK UP) | C5: 0 | D5: 0 | E5: 2018.4 | F5: 4 | G5: 2018.4 | H5: 4 | I5: 1009.2 | J5: 2 | K5: =SUM(D5,F5,H5,J5) -> 10 | L5: =C5/1.16 -> 0 | M5: =E5/1.16 -> 1740 | N5: =G5/1.16 -> 1740 | O5: =I5/1.16 -> 870
A6: 2961 | B6: ABRAZADERAS SINFÍN 3/8 | C6: 0 | D6: 0 | E6: 522 | F6: 10 | G6: 261 | H6: 5 | I6: 261 | J6: 5 | K6: =SUM(D6,F6,H6,J6) -> 20 | L6: =C6/1.16 -> 0 | M6: =E6/1.16 -> 450 | N6: =G6/1.16 -> 225 | O6: =I6/1.16 -> 225
A7: 2981 | B7: ACUMUALDORES DE 17 PLACAS DE POSTE | C7: 0 | D7: 0 | E7: 16240 | F7: 4 | G7: 16240 | H7: 4 | I7: 8120 | J7: 2 | K7: =SUM(D7,F7,H7,J7) -> 10 | L7: =C7/1.16 -> 0 | M7: =E7/1.16 -> 14000 | N7: =G7/1.16 -> 14000 | O7: =I7/1.16 -> 7000
A8: 2961 | B8: ACUMULADORES 17 PLACAS CAJA CHICA (PICK UP) | C8: 0 | D8: 0 | E8: 29232 | F8: 7 | G8: 29232 | H8: 7 | I8: 25056 | J8: 6 | K8: =SUM(D8,F8,H8,J8) -> 20 | L8: =C8/1.16 -> 0 | M8: =E8/1.16 -> 25200 | N8: =G8/1.16 -> 25200 | O8: =I8/1.16 -> 21600
A9: 2981 | B9: ACUMULADORES 17 PLACAS CAJA GRANDE DE TORNILLO | C9: 0 | D9: 0 | E9: 9744 | F9: 2 | G9: 9744 | H9: 2 | I9: 4872 | J9: 1 | K9: =SUM(D9,F9,H9,J9) -> 5 | L9: =C9/1.16 -> 0 | M9: =E9/1.16 -> 8400 | N9: =G9/1.16 -> 8400 | O9: =I9/1.16 -> 4200
A10: 2981 | B10: ACUMULADORES DE 23 PLACAS DE POSTE | C10: 0 | D10: 0 | E10: 30160 | F10: 4 | G10: 30160 | H10: 4 | I10: 0 | J10: 0 | K10: =SUM(D10,F10,H10,J10) -> 8 | L10: =C10/1.16 -> 0 | M10: =E10/1.16 -> 26000 | N10: =G10/1.16 -> 26000 | O10: =I10/1.16 -> 0
A11: 2961 | B11: AFLOJATODO (BOTE WD-40) | C11: 0 | D11: 0 | E11: 4036.8 | F11: 20 | G11: 3027.6 | H11: 15 | I11: 3027.6 | J11: 15 | K11: =SUM(D11,F11,H11,J11) -> 50 | L11: =C11/1.16 -> 0 | M11: =E11/1.16 -> 3480 | N11: =G11/1.16 -> 2610 | O11: =I11/1.16 -> 2610
A12: 2981 | B12: ALTERNADOR (FREIGTHLINER) | C12: 0 | D12: 0 | E12: 3248 | F12: 1 | G12: 3248 | H12: 1 | I12: 3248 | J12: 1 | K12: =SUM(D12,F12,H12,J12) -> 3 | L12: =C12/1.16 -> 0 | M12: =E12/1.16 -> 2800 | N12: =G12/1.16 -> 2800 | O12: =I12/1.16 -> 2800
A13: 2981 | B13: ALTERNADOR DELCO 12V (VIBROCOMPACTADORA) | C13: 0 | D13: 0 | E13: 12064 | F13: 2 | G13: 12064 | H13: 2 | I13: 6032 | J13: 1 | K13: =SUM(D13,F13,H13,J13) -> 5 | L13: =C13/1.16 -> 0 | M13: =E13/1.16 -> 10400 | N13: =G13/1.16 -> 10400 | O13: =I13/1.16 -> 5200
... A21: 2981 | B21: ARMADURA 28MT 12V | C21: 0 | D21: 0 | E21: 0 | F21: 0 | G21: 5174.76 | H21: 3 | I21: 3449.84 | J21: 2 | K21: =SUM(D21,F21,H21,J21) -> 5 | L21: =C21/1.16 -> 0 | M21: =E21/1.16 -> 0 | N21: =G21/1.16 -> 4461 | O21: =I21/1.16 -> 2974
A22: 2981 | B22: ARMADURA 29MT 12V | C22: 0 | D22: 0 | E22: 0 | G22: 7656 | H22: 3 | I22: 5104 | J22: 2 | K22: =SUM(D22,F22,H22,J22) -> 5 | L22: =C22/1.16 -> 0 | M22: =E22/1.16 -> 0 | N22: =G22/1.16 -> 6600 | O22: =I22/1.16 -> 4400
A23: 2981 | B23: ARMADURA 42MT 24V | C23: 0 | D23: 0 | E23: 0 | F23: 0 | G23: 15520.8 | H23: 3 | I23: 10347.2 | J23: 2 | K23: =SUM(D23,F23,H23,J23) -> 5 | L23: =C23/1.16 -> 0 | M23: =E23/1.16 -> 0 | N23: =G23/1.16 -> 13380 | O23: =I23/1.16 -> 8920
A24: 2961 | B24: ARMADURAS F-150 | C24: 0 | D24: 0 | E24: 5104 | F24: 4 | G24: 5104 | H24: 4 | I24: 2552 | J24: 2 | K24: =SUM(D24,F24,H24,J24) -> 10 | L24: =C24/1.16 -> 0 | M24: =E24/1.16 -> 4400 | N24: =G24/1.16 -> 4400 | O24: =I24/1.16 -> 2200
A25: 2961 | B25: ARMADURAS F-250 | C25: 0 | D25: 0 | E25: 2784 | F25: 2 | G25: 4176 | H25: 3 | I25: 0 | J25: 0 | K25: =SUM(D25,F25,H25,J25) -> 5 | L25: =C25/1.16 -> 0 | M25: =E25/1.16 -> 2400 | N25: =G25/1.16 -> 3600 | O25: =I25/1.16 -> 0
A26: 2961 | B26: ARMADURAS F-350 | C26: 0 | D26: 0 | E26: 3248 | F26: 2 | G26: 4872 | H26: 3 | I26: 0 | J26: 0 | K26: =SUM(D26,F26,H26,J26) -> 5 | L26: =C26/1.16 -> 0 | M26: =E26/1.16 -> 2800 | N26: =G26/1.16 -> 4200 | O26: =I26/1.16 -> 0
A27: 2961 | B27: ASILENCIADOR (PICK UP) | C27: 0 | D27: 0 | E27: 7569 | F27: 5 | G27: 7569 | H27: 5 | I27: 0 | K27: =SUM(D27,F27,H27,J27) -> 10 | L27: =C27/1.16 -> 0 | M27: =E27/1.16 -> 6525 | N27: =G27/1.16 -> 6525 | O27: =I27/1.16 -> 0
A28: 2981 | B28: BALANCIN DE MUELLES (FREIGTHLINER) | C28: 0 | D28: 0 | E28: 12446.8 | F28: 2 | G28: 12446.8 | H28: 2 | I28: 12446.8 | J28: 2 | K28: =SUM(D28,F28,H28,J28) -> 6 | L28: =C28/1.16 -> 0 | M28: =E28/1.16 -> 10730 | N28: =G28/1.16 -> 10730 | O28: =I28/1.16 -> 10730
A29: 2981 | B29: BALATAS (CAMA BAJA) | C29: 0 | D29: 0 | E29: 7540 | F29: 2 | G29: 7540 | H29: 2 | I29: 7540 | J29: 2 | K29: =SUM(D29,F29,H29,J29) -> 6 | L29: =C29/1.16 -> 0 | M29: =E29/1.16 -> 6500 | N29: =G29/1.16 -> 6500 | O29: =I29/1.16 -> 6500
A30: 2981 | B30: BALATAS TRASERAS (TRACTO CAMION) | C30: 0 | D30: 0 | E30: 26390 | F30: 7 | G30: 26390 | H30: 7 | I30: 22620 | J30: 6 | K30: =SUM(D30,F30,H30,J30) -> 20 | L30: =C30/1.16 -> 0 | M30: =E30/1.16 -> 22750 | N30: =G30/1.16 -> 22750 | O30: =I30/1.16 -> 19500
A31: 2981 | B31: BALERO DE CARGA CON PERNO (RETRO EXCAVADORA 580 K) | C31: 0 | D31: 0 | E31: 1113.6 | F31: 1 | G31: 1113.6 | H31: 1 | I31: 0 | J31: 0 | K31: =SUM(D31,F31,H31,J31) -> 2 | L31: =C31/1.16 -> 0 | M31: =E31/1.16 -> 960 | N31: =G31/1.16 -> 960 | O31: =I31/1.16 -> 0
A32: 2961 | B32: BALERO EXTERIOR (MINI BUS) | C32: 0 | D32: 0 | E32: 0 | F32: 0 | G32: 2354.8 | H32: 2 | I32: 0 | J32: 0 | K32: =SUM(D32,F32,H32,J32) -> 2 | L32: =C32/1.16 -> 0 | M32: =E32/1.16 -> 0 | N32: =G32/1.16 -> 2030 | O32: =I32/1.16 -> 0
A33: 2961 | B33: BALERO EXTERNO PARA RUEDA (PICK UP) | C33: 0 | D33: 0 | E33: 2059 | F33: 5 | G33: 2059 | H33: 5 | I33: 0 | J33: 0 | K33: =SUM(D33,F33,H33,J33) -> 10 | L33: =C33/1.16 -> 0 | M33: =E33/1.16 -> 1775 | N33: =G33/1.16 -> 1775 | O33: =I33/1.16 -> 0
A34: 2961 | B34: BALERO INTERIOR (MINI BUS) | C34: 0 | D34: 0 | E34: 5887 | F34: 5 | G34: 5887 | H34: 5 | I34: 0 | J34: 0 | K34: =SUM(D34,F34,H34,J34) -> 10 | L34: =C34/1.16 -> 0 | M34: =E34/1.16 -> 5075 | N34: =G34/1.16 -> 5075 | O34: =I34/1.16 -> 0
A35: 2961 | B35: BALERO INTERNO PARA RUEDA (PICK UP) | C35: 0 | D35: 0 | E35: 2059 | F35: 5 | G35: 0 | H35: 0 | I35: 2059 | J35: 5 | K35: =SUM(D35,F35,H35,J35) -> 10 | L35: =C35/1.16 -> 0 | M35: =E35/1.16 -> 1775 | N35: =G35/1.16 -> 0 | O35: =I35/1.16 -> 1775
A36: 2961 | B36: BALERO TRASERO EXTERIOR (MINI BUS) | C36: 0 | D36: 0 | E36: 0 | F36: 0 | G36: 5400 | H36: 2 | I36: 0 | J36: 0 | K36: =SUM(D36,F36,H36,J36) -> 2 | L36: =C36/1.16 -> 0 | M36: =E36/1.16 -> 0 | N36: =G36/1.16 -> 4655.1724 | O36: =I36/1.16 -> 0
A37: 2961 | B37: BALERO TRASERO INTERNO (MINI BUS) | C37: 0 | D37: 0 | E37: 0 | F37: 0 | G37: 5400 | H37: 2 | I37: 0 | J37: 0 | K37: =SUM(D37,F37,H37,J37) -> 2 | L37: =C37/1.16 -> 0 | M37: =E37/1.16 -> 0 | N37: =G37/1.16 -> 4655.1724 | O37: =I37/1.16 -> 0
A38: 2961 | B38: BALEROS 6203 (PICK UP) | C38: 0 | D38: 0 | E38: 371.2 | F38: 8 | G38: 278.4 | H38: 6 | I38: 278.4 | J38: 6 | K38: =SUM(D38,F38,H38,J38) -> 20 | L38: =C38/1.16 -> 0 | M38: =E38/1.16 -> 320 | N38: =G38/1.16 -> 240 | O38: =I38/1.16 -> 240
A39: 2981 | B39: BANDA (CARGADOR FRONTAL WA450) | C39: 0 | D39: 0 | E39: 3636.6 | F39: 1 | G39: 0 | H39: 0 | I39: 0 | J39: 0 | K39: =SUM(D39,F39,H39,J39) -> 1 | L39: =C39/1.16 -> 0 | M39: =E39/1.16 -> 3135 | N39: =G39/1.16 -> 0 | O39: =I39/1.16 -> 0
... A94: 2981 | B94: CABEZA PARA COMPRESOR DE AIRE CAMIONES P/FREIGHTLINER 2009 | C94: 0 | D94: 0 | E94: 11101.2 | F94: 2 | G94: 11101.2 | H94: 2 | I94: 0 | J94: 0 | K94: =SUM(D94,F94,H94,J94) -> 4 | L94: =C94/1.16 -> 0 | M94: =E94/1.16 -> 9570 | N94: =G94/1.16 -> 9570 | O94: =I94/1.16 -> 0
A95: 2961 | B95: CABLE CALIBRE 00 (PARA REPARACION DE SISTEMA ELECTRICO) (PICK UP) | C95: 0 | D95: 0 | E95: 2784 | F95: 10 | G95: 2784 | H95: 10 | I95: 0 | K95: =SUM(D95,F95,H95,J95) -> 20 | L95: =C95/1.16 -> 0 | M95: =E95/1.16 -> 2400 | N95: =G95/1.16 -> 2400 | O95: =I95/1.16 -> 0
A96: 2981 | B96: CABLE CALIBRE 1/0 (PARA REPARACION DE SISTEMA ELECTRICO) | C96: 0 | D96: 0 | E96: 17516 | F96: 50 | G96: 17516 | H96: 50 | I96: 0 | J96: 0 | K96: =SUM(D96,F96,H96,J96) -> 100 | L96: =C96/1.16 -> 0 | M96: =E96/1.16 -> 15100 | N96: =G96/1.16 -> 15100 | O96: =I96/1.16 -> 0
A97: 2981 | B97: CABLE CALIBRE 12 (PARA REPARACION DE SISTEMA ELECTRICO) | C97: 0 | D97: 0 | E97: 12180 | F97: 50 | G97: 12180 | H97: 50 | I97: 0 | J97: 0 | K97: =SUM(D97,F97,H97,J97) -> 100 | L97: =C97/1.16 -> 0 | M97: =E97/1.16 -> 10500 | N97: =G97/1.16 -> 10500 | O97: =I97/1.16 -> 0
A98: 2961 | B98: CABLE CALIBRE 16 (PARA REPARACION DE SISTEMA ELECTRICO) (PICK UP) | C98: 0 | D98: 0 | E98: 5800 | F98: 20 | G98: 5800 | H98: 20 | I98: 4350 | J98: 15 | K98: =SUM(D98,F98,H98,J98) -> 55 | L98: =C98/1.16 -> 0 | M98: =E98/1.16 -> 5000 | N98: =G98/1.16 -> 5000 | O98: =I98/1.16 -> 3750
A99: 2961 | B99: CAIMANES CHICOS (CABLE 26 CM) (PICK UP) | C99: 0 | D99: 0 | E99: 338.72 | F99: 4 | G99: 338.72 | H99: 4 | I99: 0 | J99: 0 | K99: =SUM(D99,F99,H99,J99) -> 8 | L99: =C99/1.16 -> 0 | M99: =E99/1.16 -> 292 | N99: =G99/1.16 -> 292 | O99: =I99/1.16 -> 0
A100: 2961 | B100: CAIMANES GRANDES (CABLE 50CM) (PICK UP) | C100: 0 | D100: 0 | E100: 459.36 | F100: 4 | G100: 459.36 | H100: 4 | I100: 0 | J100: 0 | K100: =SUM(D100,F100,H100,J100) -> 8 | L100: =C100/1.16 -> 0 | M100: =E100/1.16 -> 396 | N100: =G100/1.16 -> 396 | O100: =I100/1.16 -> 0
A101: 2981 | B101: CAIMANES REFORZADO (CABLE 50CM, DE USO RUDO) | C101: 0 | D101: 0 | E101: 1740 | F101: 6 | G101: 2320 | H101: 8 | I101: 1740 | J101: 6 | K101: =SUM(D101,F101,H101,J101) -> 20 | L101: =C101/1.16 -> 0 | M101: =E101/1.16 -> 1500 | N101: =G101/1.16 -> 2000 | O101: =I101/1.16 -> 1500
A102: 2981 | B102: CAJA DE DIRECCIÓN (TRACTO CAMIÓN) | C102: 0 | D102: 0 | E102: 33387.12 | F102: 1 | G102: 0 | H102: 0 | I102: 0 | J102: 0 | K102: =SUM(D102,F102,H102,J102) -> 1 | L102: =C102/1.16 -> 0 | M102: =E102/1.16 -> 28782 | N102: =G102/1.16 -> 0 | O102: =I102/1.16 -> 0
A103: 2961 | B103: CALAVERAS TRASERAS DERECHA (PICK UP F-150) | C103: 0 | D103: 0 | E103: 7906.56 | F103: 6 | G103: 5271.04 | H103: 4 | I103: 5271.04 | J103: 4 | K103: =SUM(D103,F103,H103,J103) -> 14 | L103: =C103/1.16 -> 0 | M103: =E103/1.16 -> 6816 | N103: =G103/1.16 -> 4544 | O103: =I103/1.16 -> 4544
A104: 2961 | B104: CALAVERAS TRASERAS IZQUIERDA (PICK UP F-150) | C104: 0 | D104: 0 | E104: 7906.56 | F104: 6 | G104: 5271.04 | H104: 4 | I104: 5271.04 | J104: 4 | K104: =SUM(D104,F104,H104,J104) -> 14 | L104: =C104/1.16 -> 0 | M104: =E104/1.16 -> 6816 | N104: =G104/1.16 -> 4544 | O104: =I104/1.16 -> 4544
A105: 2981 | B105: CAMARA 14.00-24 (MOTOCONFORMADORA) | C105: 0 | D105: 0 | E105: 7911.2 | F105: 8 | G105: 5933.4 | H105: 6 | I105: 5933.4 | J105: 6 | K105: =SUM(D105,F105,H105,J105) -> 20 | L105: =C105/1.16 -> 0 | M105: =E105/1.16 -> 6820 | N105: =G105/1.16 -> 5115 | O105: =I105/1.16 -> 5115
A106: 2981 | B106: CAMARA 16.00-24 (MOTOCONFORMADORA) | C106: 0 | D106: 0 | E106: 7395 | F106: 6 | G106: 7395 | H106: 6 | I106: 4930 | J106: 4 | K106: =SUM(D106,F106,H106,J106) -> 16 | L106: =C106/1.16 -> 0 | M106: =E106/1.16 -> 6375 | N106: =G106/1.16 -> 6375 | O106: =I106/1.16 -> 4250
A107: 2981 | B107: CEPILLO DE ALAMBRE 10 X 32" (BARREDORA) | C107: 0 | D107: 0 | E107: 5742 | F107: 10 | G107: 5742 | H107: 10 | I107: 5742 | J107: 10 | K107: =SUM(D107,F107,H107,J107) -> 30 | L107: =C107/1.16 -> 0 | M107: =E107/1.16 -> 4950 | N107: =G107/1.16 -> 4950 | O107: =I107/1.16 -> 4950
... A113: 2961 | B113: CINTA DE AISLAR (PROTEGE LAS CONEXIONES ELÉCTRICAS Y EVITA CORTOCIRCUITOS CON LA CINTA DE AISLAR 3M TEMFLEX 1600) | C113: 0 | D113: 0 | E113: 464 | F113: 20 | G113: 464 | H113: 20 | I113: 232 | J113: 10 | K113: =SUM(D113,F113,H113,J113) -> 50 | L113: =C113/1.16 -> 0 | M113: =E113/1.16 -> 400 | N113: =G113/1.16 -> 400 | O113: =I113/1.16 -> 200
A114: 2961 | B114: CINTA DE TEFLON 1/2" (ENVUELVE FÁCILMENTE ALREDEDOR DE LAS ROSCAS PARA SELLAR LAS CONEXIONES DE LAS TUBERÍAS) | C114: 0 | D114: 0 | E114: 510.4 | F114: 10 | G114: 510.4 | H114: 10 | I114: 0 | K114: =SUM(D114,F114,H114,J114) -> 20 | L114: =C114/1.16 -> 0 | M114: =E114/1.16 -> 440 | N114: =G114/1.16 -> 440 | O114: =I114/1.16 -> 0
A115: 2981 | B115: COMPRESOR COMPLETO (FREIGTHLINER) | C115: 0 | D115: 0 | E115: 27551.16 | F115: 1 | G115: 27551.16 | H115: 1 | I115: 0 | J115: 0 | K115: =SUM(D115,F115,H115,J115) -> 2 | L115: =C115/1.16 -> 0 | M115: =E115/1.16 -> 23751 | N115: =G115/1.16 -> 23751 | O115: =I115/1.16 -> 0
A116: 2981 | B116: CRUCETA DE FLECHA CARDAN (TRACTO CAMIÓN) (ACOPLE QUE TRANSMITE EL MOVIMIENTO DE ROTACIÓN ENTRE DOS EJES NO COINCIDENTES EN UN TRACTOCAMIÓN) | C116: 0 | D116: 0 | E116: 3004.4 | F116: 2 | G116: 3004.4 | H116: 2 | I116: 0 | J116: 0 | K116: =SUM(D116,F116,H116,J116) -> 4 | L116: =C116/1.16 -> 0 | M116: =E116/1.16 -> 2590 | N116: =G116/1.16 -> 2590 | O116: =I116/1.16 -> 0
A117: 2981 | B117: CRUCETAS (CARGADOR FRONTAL WA450) (ACOPLE QUE TRANSMITE EL MOVIMIENTO DE ROTACIÓN ENTRE DOS EJES NO COINCIDENTES EN UN CARGADOR FRONTAL) | C117: 0 | D117: 0 | E117: 2246.92 | F117: 1 | G117: 2246.92 | H117: 1 | I117: 0 | J117: 0 | K117: =SUM(D117,F117,H117,J117) -> 2 | L117: =C117/1.16 -> 0 | M117: =E117/1.16 -> 1937 | N117: =G117/1.16 -> 1937 | O117: =I117/1.16 -> 0
A118: 2961 | B118: CRUCETAS (PICK UP) | C118: 0 | D118: 0 | E118: 3920.8 | F118: 10 | G118: 3920.8 | H118: 10 | I118: 3920.8 | J118: 10 | K118: =SUM(D118,F118,H118,J118) -> 30 | L118: =C118/1.16 -> 0 | M118: =E118/1.16 -> 3380 | N118: =G118/1.16 -> 3380 | O118: =I118/1.16 -> 3380
A119: 2981 | B119: CUCHILLA 144-70-11131 | C119: 0 | D119: 0 | E119: 0 | F119: 0 | G119: 27968.629 | H119: 3 | I119: 27968.629 | J119: 3 | K119: =SUM(D119,F119,H119,J119) -> 6 | L119: =C119/1.16 -> 0 | M119: =E119/1.16 -> 0 | N119: =G119/1.16 -> 24110.887 | O119: =I119/1.16 -> 24110.887
A120: 2981 | B120: CUCHILLA 175-70-26310 | C120: 0 | D120: 0 | E120: 0 | F120: 0 | G120: 29636.941 | H120: 3 | I120: 29636.941 | J120: 3 | K120: =SUM(D120,F120,H120,J120) -> 6 | L120: =C120/1.16 -> 0 | M120: =E120/1.16 -> 0 | N120: =G120/1.16 -> 25549.087 | O120: =I120/1.16 -> 25549.087
A121: 2981 | B121: CUCHILLA 6 PIES 13 ORIFICIOS 5D-9558 | C121: 0 | D121: 0 | E121: 0 | F121: 0 | G121: 17800.2 | H121: 3 | I121: 17800.2 | J121: 3 | K121: =SUM(D121,F121,H121,J121) -> 6 | L121: =C121/1.16 -> 0 | M121: =E121/1.16 -> 0 | N121: =G121/1.16 -> 15345 | O121: =I121/1.16 -> 15345
A122: 2981 | B122: CUCHILLA 7 PIES 5D-9559 | C122: 0 | D122: 0 | E122: 0 | F122: 0 | G122: 20671.2 | H122: 3 | I122: 20671.2 | J122: 3 | K122: =SUM(D122,F122,H122,J122) -> 6 | L122: =C122/1.16 -> 0 | M122: =E122/1.16 -> 0 | N122: =G122/1.16 -> 17820 | O122: =I122/1.16 -> 17820
A123: 2981 | B123: CUCHILLA 7T-6589 | C123: 0 | D123: 0 | E123: 0 | F123: 0 | G123: 26413.2 | H123: 3 | I123: 26413.2 | J123: 3 | K123: =SUM(D123,F123,H123,J123) -> 6 | L123: =C123/1.16 -> 0 | M123: =E123/1.16 -> 0 | N123: =G123/1.16 -> 22770 | O123: =I123/1.16 -> 22770
A124: 2981 | B124: CUCHILLA 7T-6936 | C124: 0 | D124: 0 | E124: 0 | F124: 0 | G124: 22393.8 | H124: 3 | I124: 22393.8 | J124: 3 | K124: =SUM(D124,F124,H124,J124) -> 6 | L124: =C124/1.16 -> 0 | M124: =E124/1.16 -> 0 | N124: =G124/1.16 -> 19305 | O124: =I124/1.16 -> 19305
A125: 2981 | B125: CUCHILLA 8 PIES 5D-9371 (14G) | C125: 0 | D125: 0 | E125: 0 | F125: 0 | G125: 23002.8 | H125: 3 | I125: 23002.8 | J125: 3 | K125: =SUM(D125,F125,H125,J125) -> 6 | L125: =C125/1.16 -> 0 | M125: =E125/1.16 -> 0 | N125: =G125/1.16 -> 19830 | O125: =I125/1.16 -> 19830
A126: 2981 | B126: CUÑA PARA POLEA DE CINGÜEÑAL (CARGADOR FRONTAL WA 420) | C126: 0 | D126: 0 | E126: 460.52 | F126: 1 | G126: 0 | H126: 0 | I126: 0 | J126: 0 | K126: =SUM(D126,F126,H126,J126) -> 1 | L126: =C126/1.16 -> 0 | M126: =E126/1.16 -> 397 | N126: =G126/1.16 -> 0 | O126: =I126/1.16 -> 0
... A205: 2981 | B205: LLANTA 245/75 R-17 (MINIBUS 21 PASAJEROS) | C205: 0 | D205: 0 | E205: 11600 | F205: 4 | G205: 11600 | H205: 4 | I205: 11600 | J205: 4 | K205: =SUM(D205,F205,H205,J205) -> 12 | L205: =C205/1.16 -> 0 | M205: =E205/1.16 -> 10000 | N205: =G205/1.16 -> 10000 | O205: =I205/1.16 -> 10000
A206: 2981 | B206: LLANTA 255/70 R22.5 (CAMA BAJA) | C206: 0 | D206: 0 | E206: 16820 | F206: 4 | G206: 16820 | H206: 4 | I206: 0 | K206: =SUM(D206,F206,H206,J206) -> 8 | L206: =C206/1.16 -> 0 | M206: =E206/1.16 -> 14500 | N206: =G206/1.16 -> 14500 | O206: =I206/1.16 -> 0
A207: 2981 | B207: LLANTA 28L-26 TRASERA PARA RETRO RECUPERADORA | C207: 0 | D207: 0 | E207: 0 | F207: 0 | G207: 101685.6 | H207: 2 | I207: 0 | J207: 0 | K207: =SUM(D207,F207,H207,J207) -> 2 | L207: =C207/1.16 -> 0 | M207: =E207/1.16 -> 0 | N207: =G207/1.16 -> 87660 | O207: =I207/1.16 -> 0
A208: 2981 | B208: LLANTA 6R1197 Ó 22 X 7 X 17 3/4 DIRECCIONAL (PAVIMENTADORA) | C208: 0 | D208: 0 | E208: 41296 | F208: 4 | G208: 41296 | H208: 4 | I208: 20648 | J208: 2 | K208: =SUM(D208,F208,H208,J208) -> 10 | L208: =C208/1.16 -> 0 | M208: =E208/1.16 -> 35600 | N208: =G208/1.16 -> 35600 | O208: =I208/1.16 -> 17800
A209: 2981 | B209: LLANTA 7.50-17 (REDILAS) | C209: 0 | D209: 0 | E209: 24128 | F209: 4 | G209: 24128 | H209: 4 | I209: 24128 | J209: 4 | K209: =SUM(D209,F209,H209,J209) -> 12 | L209: =C209/1.16 -> 0 | M209: =E209/1.16 -> 20800 | N209: =G209/1.16 -> 20800 | O209: =I209/1.16 -> 20800
A210: 2981 | B210: LLANTAS 17.5-25 (MOTOCONFORMADORA) | C210: 0 | D210: 0 | E210: 47212 | F210: 2 | G210: 47212 | H210: 2 | I210: 47212 | J210: 2 | K210: =SUM(D210,F210,H210,J210) -> 6 | L210: =C210/1.16 -> 0 | M210: =E210/1.16 -> 40700 | N210: =G210/1.16 -> 40700 | O210: =I210/1.16 -> 40700
A211: 2961 | B211: LLANTAS 235/70 R16 (PICK UP) | C211: 0 | D211: 0 | E211: 60320 | F211: 20 | G211: 60320 | H211: 20 | I211: 60320 | J211: 20 | K211: =SUM(D211,F211,H211,J211) -> 60 | L211: =C211/1.16 -> 0 | M211: =E211/1.16 -> 52000 | N211: =G211/1.16 -> 52000 | O211: =I211/1.16 -> 52000
A212: 2961 | B212: LLANTAS 265/70 R-17 (TRANSPORTE DE PERSONAL) | C212: 0 | D212: 0 | E212: 6032 | F212: 2 | G212: 6032 | H212: 2 | I212: 0 | J212: 0 | K212: =SUM(D212,F212,H212,J212) -> 4 | L212: =C212/1.16 -> 0 | M212: =E212/1.16 -> 5200 | N212: =G212/1.16 -> 5200 | O212: =I212/1.16 -> 0
A213: 2981 | B213: MANGUERA 07063-51018 (CARGADOR FRONTAL) | C213: 487.2 | D213: 1 | E213: 0 | F213: 0 | G213: 0 | H213: 0 | I213: 0 | J213: 0 | K213: =SUM(D213,F213,H213,J213) -> 1 | L213: =C213/1.16 -> 420 | M213: =E213/1.16 -> 0 | N213: =G213/1.16 -> 0 | O213: =I213/1.16 -> 0
A214: 2981 | B214: MANGUERA 8100 M (PINTA RAYAS) | C214: 350 | D214: 10 | E214: 0 | F214: 0 | G214: 0 | H214: 0 | I214: 0 | J214: 0 | K214: =SUM(D214,F214,H214,J214) -> 10 | L214: =C214/1.16 -> 301.72414 | M214: =E214/1.16 -> 0 | N214: =G214/1.16 -> 0 | O214: =I214/1.16 -> 0
A215: 2981 | B215: MANGUERA BP50 (PINTA RAYAS) | C215: 1370 | D215: 10 | E215: 0 | F215: 0 | G215: 0 | H215: 0 | I215: 0 | J215: 0 | K215: =SUM(D215,F215,H215,J215) -> 10 | L215: =C215/1.16 -> 1181.0345 | M215: =E215/1.16 -> 0 | N215: =G215/1.16 -> 0 | O215: =I215/1.16 -> 0
A216: 2981 | B216: MANGUERA CON TUERCAS ENRROSCABLES (PINTA RAYAS) | C216: 939.6 | D216: 0.8 | E216: 0 | F216: 0 | G216: 0 | H216: 0 | I216: 0 | J216: 0 | K216: =SUM(D216,F216,H216,J216) -> 0.8 | L216: =C216/1.16 -> 810 | M216: =E216/1.16 -> 0 | N216: =G216/1.16 -> 0 | O216: =I216/1.16 -> 0
A217: 2981 | B217: MANGUERA DE CODO | C217: 0 | D217: 0 | E217: 232 | F217: 1 | G217: 696 | H217: 3 | I217: 232 | J217: 1 | K217: =SUM(D217,F217,H217,J217) -> 5 | L217: =C217/1.16 -> 0 | M217: =E217/1.16 -> 200 | N217: =G217/1.16 -> 600 | O217: =I217/1.16 -> 200
A218: 2961 | B218: MANGUERA DE LLENADO DE TANQUE (PICK UP) | C218: 0 | D218: 0 | E218: 0 | G218: 9245.2 | H218: 5 | I218: 0 | K218: =SUM(D218,F218,H218,J218) -> 5 | L218: =C218/1.16 -> 0 | M218: =E218/1.16 -> 0 | N218: =G218/1.16 -> 7970 | O218: =I218/1.16 -> 0
A219: 2981 | B219: MANGUERA DE SUCCIÓN DEL TURBO (PAVIMENTADORA AP555E) | C219: 0 | D219: 0 | E219: 3248 | F219: 1 | G219: 0 | H219: 0 | I219: 0 | J219: 0 | K219: =SUM(D219,F219,H219,J219) -> 1 | L219: =C219/1.16 -> 0 | M219: =E219/1.16 -> 2800 | N219: =G219/1.16 -> 0 | O219: =I219/1.16 -> 0
A220: 2981 | B220: MANGUERA HIDRAULICA (LOTE DIFERENTES MEDIDAS, PARA MAQUINARIA PESADA) | C220: 0 | D220: 0 | E220: 200000 | F220: 1 | G220: 0 | H220: 0 | I220: 0 | J220: 0 | K220: =SUM(D220,F220,H220,J220) -> 1 | L220: =C220/1.16 -> 0 | M220: =E220/1.16 -> 172413.79 | N220: =G220/1.16 -> 0 | O220: =I220/1.16 -> 0
A221: 2961 | B221: MANGUERA PARA GASOLINA 1/2" (MANGUERA DE BLOQUEO DE PRESIÓN DE ALTA PRESIÓN 300 PSI PARA MOTORES DE SISTEMAS DE COMBUSTIBLE AUTOMOTRICES) | C221: 0 | D221: 0 | E221: 2018.4 | F221: 5 | G221: 0 | I221: 0 | J221: 0 | K221: =SUM(D221,F221,H221,J221) -> 5 | L221: =C221/1.16 -> 0 | M221: =E221/1.16 -> 1740 | N221: =G221/1.16 -> 0 | O221: =I221/1.16 -> 0
A222: 2961 | B222: MANGUERA PARA GASOLINA 3/4" (MANGUERA DE BLOQUEO DE PRESIÓN DE ALTA PRESIÓN 300 PSI PARA MOTORES DE SISTEMAS DE COMBUSTIBLE AUTOMOTRICES) | C222: 0 | D222: 0 | E222: 2018.4 | F222: 5 | G222: 0 | I222: 0 | J222: 0 | K222: =SUM(D222,F222,H222,J222) -> 5 | L222: =C222/1.16 -> 0 | M222: =E222/1.16 -> 1740 | N222: =G222/1.16 -> 0 | O222: =I222/1.16 -> 0
A223: 2961 | B223: MANGUERA PARA GASOLINA 3/8" (MANGUERA DE BLOQUEO DE PRESIÓN DE ALTA PRESIÓN 300 PSI PARA MOTORES DE SISTEMAS DE COMBUSTIBLE AUTOMOTRICES) | C223: 0 | D223: 0 | E223: 2018.4 | F223: 5 | G223: 0 | I223: 0 | J223: 0 | K223: =SUM(D223,F223,H223,J223) -> 5 | L223: =C223/1.16 -> 0 | M223: =E223/1.16 -> 1740 | N223: =G223/1.16 -> 0 | O223: =I223/1.16 -> 0
A224: 2961 | B224: MANGUERA PARA GASOLINA 5/16" (MANGUERA DE BLOQUEO DE PRESIÓN DE ALTA PRESIÓN 300 PSI PARA MOTORES DE SISTEMAS DE COMBUSTIBLE AUTOMOTRICES) | C224: 0 | D224: 0 | E224: 2018.4 | F224: 5 | G224: 0 | I224: 0 | J224: 0 | K224: =SUM(D224,F224,H224,J224) -> 5 | L224: =C224/1.16 -> 0 | M224: =E224/1.16 -> 1740 | N224: =G224/1.16 -> 0 | O224: =I224/1.16 -> 0
A225: 2961 | B225: MANGUERA PARA RADIADOR (PICK UP) | C225: 0 | D225: 0 | E225: 5312.8 | F225: 4 | G225: 5312.8 | H225: 4 | I225: 2656.4 | J225: 2 | K225: =SUM(D225,F225,H225,J225) -> 10 | L225: =C225/1.16 -> 0 | M225: =E225/1.16 -> 4580 | N225: =G225/1.16 -> 4580 | O225: =I225/1.16 -> 2290
A226: 2981 | B226: MARCHA (FREIGTHLINER) | C226: 0 | D226: 0 | E226: 5718.8 | F226: 1 | G226: 17156.4 | H226: 3 | I226: 5718.8 | J226: 1 | K226: =SUM(D226,F226,H226,J226) -> 5 | L226: =C226/1.16 -> 0 | M226: =E226/1.16 -> 4930 | N226: =G226/1.16 -> 14790 | O226: =I226/1.16 -> 4930
A227: 2981 | B227: MARCHA (KODIAK) | C227: 0 | D227: 0 | E227: 8468 | F227: 1 | G227: 16936 | H227: 2 | I227: 0 | J227: 0 | K227: =SUM(D227,F227,H227,J227) -> 3 | L227: =C227/1.16 -> 0 | M227: =E227/1.16 -> 7300 | N227: =G227/1.16 -> 14600 | O227: =I227/1.16 -> 0
A228: 2981 | B228: MARCHA 28 MT 12 V (VIBROCOMPACTADORA) | C228: 0 | D228: 0 | E228: 16901.2 | F228: 2 | G228: 16901.2 | H228: 2 | I228: 16901.2 | J228: 2 | K228: =SUM(D228,F228,H228,J228) -> 6 | L228: =C228/1.16 -> 0 | M228: =E228/1.16 -> 14570 | N228: =G228/1.16 -> 14570 | O228: =I228/1.16 -> 14570
A229: 2981 | B229: MARCHA 29MT 12V | C229: 0 | D229: 0 | E229: 10782.2 | F229: 1 | G229: 32346.6 | H229: 3 | I229: 10782.2 | J229: 1 | K229: =SUM(D229,F229,H229,J229) -> 5 | L229: =C229/1.16 -> 0 | M229: =E229/1.16 -> 9295 | N229: =G229/1.16 -> 27885 | O229: =I229/1.16 -> 9295
A230: 2981 | B230: MARCHA 42 MT 24 V (MOTOCONFORMADORA) | C230: 0 | D230: 0 | E230: 19082 | F230: 1 | G230: 57246 | H230: 3 | I230: 19082 | J230: 1 | K230: =SUM(D230,F230,H230,J230) -> 5 | L230: =C230/1.16 -> 0 | M230: =E230/1.16 -> 16450 | N230: =G230/1.16 -> 49350 | O230: =I230/1.16 -> 16450
A231: 2961 | B231: MARCHA FORD F-350 | C231: 0 | D231: 0 | E231: 0 | F231: 0 | G231: 13456 | H231: 2 | I231: 0 | J231: 0 | K231: =SUM(D231,F231,H231,J231) -> 2 | L231: =C231/1.16 -> 0 | M231: =E231/1.16 -> 0 | N231: =G231/1.16 -> 11600 | O231: =I231/1.16 -> 0
A232: 2961 | B232: MARCHAS F-150 | C232: 0 | D232: 0 | E232: 26007.2 | F232: 4 | G232: 26007.2 | H232: 4 | I232: 13003.6 | J232: 2 | K232: =SUM(D232,F232,H232,J232) -> 10 | L232: =C232/1.16 -> 0 | M232: =E232/1.16 -> 22420 | N232: =G232/1.16 -> 22420 | O232: =I232/1.16 -> 11210
A233: 2961 | B233: MARCHAS F-250 | C233: 0 | D233: 0 | E233: 19836 | F233: 3 | G233: 13224 | H233: 2 | I233: 0 | K233: =SUM(D233,F233,H233,J233) -> 5 | L233: =C233/1.16 -> 0 | M233: =E233/1.16 -> 17100 | N233: =G233/1.16 -> 11400 | O233: =I233/1.16 -> 0
A234: 2981 | B234: MODULO 792421 (FREIGTHLINER) | C234: 0 | D234: 0 | E234: 2273.6 | F234: 2 | G234: 2273.6 | H234: 2 | I234: 2273.6 | J234: 2 | K234: =SUM(D234,F234,H234,J234) -> 6 | L234: =C234/1.16 -> 0 | M234: =E234/1.16 -> 1960 | N234: =G234/1.16 -> 1960 | O234: =I234/1.16 -> 1960
A235: 2981 | B235: NIPPE 5404-8 (PINTA RAYAS) | C235: 160.08 | D235: 1 | E235: 0 | F235: 0 | G235: 0 | H235: 0 | I235: 0 | J235: 0 | K235: =SUM(D235,F235,H235,J235) -> 1 | L235: =C235/1.16 -> 138 | M235: =E235/1.16 -> 0 | N235: =G235/1.16 -> 0 | O235: =I235/1.16 -> 0
A236: 2981 | B236: NUCLEOS COMPLETOS (BULLDOZER D7R) | C236: 0 | D236: 0 | E236: 18183 | F236: 1 | G236: 36366 | H236: 2 | I236: 0 | J236: 0 | K236: =SUM(D236,F236,H236,J236) -> 3 | L236: =C236/1.16 -> 0 | M236: =E236/1.16 -> 15675 | N236: =G236/1.16 -> 31350 | O236: =I236/1.16 -> 0
A237: 2981 | B237: OLBITROLES (MOTOCONFORMADORA) | C237: 0 | D237: 0 | E237: 16000 | F237: 1 | G237: 16000 | H237: 1 | I237: 0 | J237: 0 | K237: =SUM(D237,F237,H237,J237) -> 2 | L237: =C237/1.16 -> 0 | M237: =E237/1.16 -> 13793.103 | N237: =G237/1.16 -> 13793.103 | O237: =I237/1.16 -> 0
A238: 2981 | B238: PASADOR 114-0258 (PUNTAS) | C238: 0 | D238: 0 | E238: 1740 | F238: 10 | G238: 1740 | H238: 10 | I238: 1740 | J238: 10 | K238: =SUM(D238,F238,H238,J238) -> 30 | L238: =C238/1.16 -> 0 | M238: =E238/1.16 -> 1500 | N238: =G238/1.16 -> 1500 | O238: =I238/1.16 -> 1500
A239: 2981 | B239: PASTA PARA SOLDAR COBRE (PASTA FUNDENTE SIN PLOMO DE 48 GRAMOS OATEY) | C239: 0 | D239: 0 | E239: 8.7 | F239: 0.25 | G239: 8.7 | H239: 0.25 | I239: 0 | J239: 0 | K239: =SUM(D239,F239,H239,J239) -> 0.5 | L239: =C239/1.16 -> 0 | M239: =E239/1.16 -> 7.5 | N239: =G239/1.16 -> 7.5 | O239: =I239/1.16 -> 0
A240: 2981 | B240: PERNO 114-0358 | C240: 0 | D240: 0 | E240: 1252.8 | F240: 10 | G240: 1252.8 | H240: 10 | I240: 1252.8 | J240: 10 | K240: =SUM(D240,F240,H240,J240) -> 30 | L240: =C240/1.16 -> 0 | M240: =E240/1.16 -> 1080 | N240: =G240/1.16 -> 1080 | O240: =I240/1.16 -> 1080
A241: 2981 | B241: PERNO 175-50-21131 | C241: 0 | D241: 0 | E241: 0 | F241: 0 | G241: 2900 | H241: 5 | I241: 2900 | J241: 5 | K241: =SUM(D241,F241,H241,J241) -> 10 | L241: =C241/1.16 -> 0 | M241: =E241/1.16 -> 0 | N241: =G241/1.16 -> 2500 | O241: =I241/1.16 -> 2500
A242: 2981 | B242: PERNO 2G81617 | C242: 0 | D242: 0 | E242: 0 | F242: 0 | G242: 4785 | H242: 5 | I242: 4785 | J242: 5 | K242: =SUM(D242,F242,H242,J242) -> 10 | L242: =C242/1.16 -> 0 | M242: =E242/1.16 -> 0 | N242: =G242/1.16 -> 4125 | O242: =I242/1.16 -> 4125
A243: 2981 | B243: PERNO 4675 | C243: 0 | D243: 0 | E243: 0 | F243: 0 | G243: 1392 | H243: 5 | I243: 1392 | J243: 5 | K243: =SUM(D243,F243,H243,J243) -> 10 | L243: =C243/1.16 -> 0 | M243: =E243/1.16 -> 0 | N243: =G243/1.16 -> 1200 | O243: =I243/1.16 -> 1200
A244: 2981 | B244: PERNO 4J-2179 | C244: 0 | D244: 0 | E244: 0 | F244: 0 | G244: 765.6 | H244: 5 | I244: 765.6 | J244: 5 | K244: =SUM(D244,F244,H244,J244) -> 10 | L244: =C244/1.16 -> 0 | M244: =E244/1.16 -> 0 | N244: =G244/1.16 -> 660 | O244: =I244/1.16 -> 660
...
