Workbook

Sheet ECO No. 2
A5: SECRETARÍA DE OBRAS PÚBLICAS
A6: SUBSECRETARIA DE COMUNICACIONES
B7: LICITACIÓN No. EA-932063953-SOP040-2026
B9: ADQUISICIÓN DE REFACCIONES PARA MAQUINARIA PESADA Y EQUIPO DE TRANSPORTE QUE TRABAJAN EN OBRAS POR ADMINISTRACIÓN DEL “PROGRAMA RESCATE CARRETERO” 2026
H10: ECONÓMICO No. 2
B12: Nº | C12: DESCRIPCIÓN | D12: PARTIDA | E12: UNIDAD | F12: CANTIDAD | G12: COSTO UNITARIO CON NÚMERO | H12: COSTO UNITARIO CON LETRA | I12: IMPORTE
B13: 1 | C13: ABRAZADERA PARA CRUCETAS DE CARDANDE FIERRO VACIADO PARA FORD F-150 EQUIPO DE TRANSPORTE / No. Eco. 1203, 1192, 1186, 1180 | D13: 2961 | E13: PIEZA | F13: 10
B14: 2 | C14: ABRAZADERA SINFÍN 1/2 DE ACERO INOXIDABLE PARA SUJETAR MANGUERA PARA TRACTO CAMION / No. Eco. 1132, 1162, 212, 4381, 4380 | D14: 2981 | E14: PIEZA | F14: 20
B15: 3 | C15: ABRAZADERA SINFÍN 3/4 DE ACERO INOXIDABLE PARA SUJETAR MANGUERA PARA TRACTO CAMION / No. Eco.1132, 1162, 212, 4381, 4380 | D15: 2981 | E15: PIEZA | F15: 20
B16: 4 | C16: ABRAZADERA SINFÍN 3/8 DE ACERO INOXIDABLE PARA SUJETAR MANGUERA EN TRACTO CAMION/ No. Eco. 1132, 1162, 212, 4381, 4380 | D16: 2981 | E16: PIEZA | F16: 20
B17: 5 | C17: ABRAZADERA SINFÍN 5/8 DE ACERO INOXIDABLE PARA SUJETAR MANGUERA PARA TRACTO CAMION / No. Eco. 1132, 1162, 212, 4381, 4380 | D17: 2981 | E17: PIEZA | F17: 20
B18: 6 | C18: AFLOJATODO (BOTE WD-40) BOTE EN AEROSOL AKRON 450ml PARA PERMITE AFLOJAR PIEZAS METALICAS. VEHICULOS VARIOS / No. Eco.1192, 1197, 1198, 1213, 1207, 1211, 1208,1217,1219,1181,1182, 1196, 1203, 1205, 1195, 1188, 1180, 1216, 1202, 1212 | D18: 2981 | E18: PIEZA | F18: 30
B19: 7 | C19: ALTERNADOR (FREIGTHLINER) ALIMENTA LOS SISTEMAS ELECTRICOS DE UN CAMION PARA GENERADOR DE CORRIENTE PARA CAMION TORTON / No. Eco. 1142, 1143 | D19: 2981 | E19: PIEZA | F19: 2
B20: 8 | C20: ALTERNADOR CHEVROLET SILVERADO DE ACERO PARA GENERAR CORRIENTE AL SISTEMA ELECTRICO DE EQUIPO DE TRANSPORTE / No. Eco. 2530, 368, 271 | D20: 2961 | E20: PIEZA | F20: 3
B21: 9 | C21: ALTERNADOR DELCO 12V, ALIMENTA LOS SISTEMAS ELECTRICOS DE LA MAQUINA PARA GENERADOR DE CORRIENTE PARA VIBROCOMPACTADORA / No. Eco. MP-00142, MP-00117, MP-00194, MP-00187 | D21: 2981 | E21: PIEZA | F21: 2
B22: 10 | C22: ALTERNADOR DELCO 24V, ALIMENTA LOS SISTEMAS ELECTRICOS DE LA MAQUINA PARA GENERADOR DE CORRIENTE PARA MOTOCONFORMADORA / No. Eco. MP-00073, MP-00079, MP-00080, MP-00081 | D22: 2981 | E22: PIEZA | F22: 2
B23: 11 | C23: ALTERNADOR F-150, ALIMENTA LOS SISTEMAS ELECTRICOS DE UNA CAMIONETA PARA GENERADOR DE CORRIENTE EN EQUIPO DE TRANSPORTE. / No. Eco. 1203, 1192, 1186, 1211 | D23: 2961 | E23: PIEZA | F23: 5
B24: 12 | C24: ALTERNADOR F-250, ALIMENTA LOS SISTEMAS ELECTRICOS DE UNA CAMIONETA PARA GENERADOR DE CORRIENTE EN EQUIPO DE TRANSPORTE / No. Eco. 1076, 1074 | D24: 2961 | E24: PIEZA | F24: 3
... B435: 423 | C435: ZANCO 9W7382, RIPPER D7R, HERRAMIENTA QUE SIRVE PARA DESGARRAR, ROMPER Y ESCARIFICAR TERRENOS DUROS PARA MOTOCONFORMADORA / No. Eco. MP-00163, MP-00165 | D435: 2981 | E435: PIEZA | F435: 1
H436: SUBTOTAL DE REFACCIONES
H437: SUBTOTAL
H438: 16 % IVA
H439: TOTAL
A442: NOTA: EN PAPELERIA MEBRETADA DE LA EMPRESA Y FIRMADO POR EL REPRESENTANTE LEGAL

Sheet ECO No. 3
B5: ='ECO No. 2'!A5 -> SECRETARÍA DE OBRAS PÚBLICAS
B6: ='ECO No. 2'!A6 -> SUBSECRETARIA DE COMUNICACIONES
B7: LICITACIÓN No. EA-932063953-SOP040-2026
B9: ADQUISICIÓN DE REFACCIONES PARA MAQUINARIA PESADA Y EQUIPO DE TRANSPORTE QUE TRABAJAN EN OBRAS POR ADMINISTRACIÓN DEL “PROGRAMA RESCATE CARRETERO” 2026
J10: ECONÓMICO No. 3
G12: plazo de entrega 90 dias naturales
B14: Nº | C14: DESCRIPCIÓN | D14: UNIDAD | E14: CANTIDAD | F14: FECHA INICIO | G14: FECHA TERMINO | H14: MES
H15: 1 | I15: 2 | J15: 3 | K15: TOTAL
B16: 1 | C16: ='ECO No. 2'!C13 -> ABRAZADERA PARA CRUCETAS DE CARDANDE FIERRO VACIADO PARA FORD F-150 EQUIPO DE TRANSPORTE / No. Eco. 1203, 1192, 1186, 1180
B17: 2 | C17: ='ECO No. 2'!C14 -> ABRAZADERA SINFÍN 1/2 DE ACERO INOXIDABLE PARA SUJETAR MANGUERA PARA TRACTO CAMION / No. Eco. 1132, 1162, 212, 4381, 4380
B18: 3 | C18: ='ECO No. 2'!C15 -> ABRAZADERA SINFÍN 3/4 DE ACERO INOXIDABLE PARA SUJETAR MANGUERA PARA TRACTO CAMION / No. Eco.1132, 1162, 212, 4381, 4380
B19: 4 | C19: ='ECO No. 2'!C16 -> ABRAZADERA SINFÍN 3/8 DE ACERO INOXIDABLE PARA SUJETAR MANGUERA EN TRACTO CAMION/ No. Eco. 1132, 1162, 212, 4381, 4380
B20: 5 | C20: ='ECO No. 2'!C17 -> ABRAZADERA SINFÍN 5/8 DE ACERO INOXIDABLE PARA SUJETAR MANGUERA PARA TRACTO CAMION / No. Eco. 1132, 1162, 212, 4381, 4380
B21: 6 | C21: ='ECO No. 2'!C18 -> AFLOJATODO (BOTE WD-40) BOTE EN AEROSOL AKRON 450ml PARA PERMITE AFLOJAR PIEZAS METALICAS. VEHICULOS VARIOS / No. Eco.1192, 1197, 1198, 1213, 1207, 1211, 1208,1217,1219,1181,1182, 1196, 1203, 1205, 1195, 1188, 1180, 1216, 1202, 1212
B22: 7 | C22: ='ECO No. 2'!C19 -> ALTERNADOR (FREIGTHLINER) ALIMENTA LOS SISTEMAS ELECTRICOS DE UN CAMION PARA GENERADOR DE CORRIENTE PARA CAMION TORTON / No. Eco. 1142, 1143
B23: 8 | C23: ='ECO No. 2'!C20 -> ALTERNADOR CHEVROLET SILVERADO DE ACERO PARA GENERAR CORRIENTE AL SISTEMA ELECTRICO DE EQUIPO DE TRANSPORTE / No. Eco. 2530, 368, 271
B24: 9 | C24: ='ECO No. 2'!C21 -> ALTERNADOR DELCO 12V, ALIMENTA LOS SISTEMAS ELECTRICOS DE LA MAQUINA PARA GENERADOR DE CORRIENTE PARA VIBROCOMPACTADORA / No. Eco. MP-00142, MP-00117, MP-00194, MP-00187
B25: 10 | C25: ='ECO No. 2'!C22 -> ALTERNADOR DELCO 24V, ALIMENTA LOS SISTEMAS ELECTRICOS DE LA MAQUINA PARA GENERADOR DE CORRIENTE PARA MOTOCONFORMADORA / No. Eco. MP-00073, MP-00079, MP-00080, MP-00081
B26: 11 | C26: ='ECO No. 2'!C23 -> ALTERNADOR F-150, ALIMENTA LOS SISTEMAS ELECTRICOS DE UNA CAMIONETA PARA GENERADOR DE CORRIENTE EN EQUIPO DE TRANSPORTE. / No. Eco. 1203, 1192, 1186, 1211
B27: 12 | C27: ='ECO No. 2'!C24 -> ALTERNADOR F-250, ALIMENTA LOS SISTEMAS ELECTRICOS DE UNA CAMIONETA PARA GENERADOR DE CORRIENTE EN EQUIPO DE TRANSPORTE / No. Eco. 1076, 1074
... B438: 423 | C438: ='ECO No. 2'!C435 -> ZANCO 9W7382, RIPPER D7R, HERRAMIENTA QUE SIRVE PARA DESGARRAR, ROMPER Y ESCARIFICAR TERRENOS DUROS PARA MOTOCONFORMADORA / No. Eco. MP-00163, MP-00165

Sheet Prog 6
B7: ='ECO No. 2'!A5 -> SECRETARÍA DE OBRAS PÚBLICAS
B8: ='ECO No. 2'!A6 -> SUBSECRETARIA DE COMUNICACIONES
B9: PROGRAMACIÓN DE ENTREGA DE ADQUISICIONES, ARRENDAMIENTOS Y/O SERVICIOS
B11: ='ECO No. 2'!B9 -> ADQUISICIÓN DE REFACCIONES PARA MAQUINARIA PESADA Y EQUIPO DE TRANSPORTE QUE TRABAJAN EN OBRAS POR ADMINISTRACIÓN DEL “PROGRAMA RESCATE CARRETERO” 2026
B13: Nº | C13: DESCRIPCIÓN | D13: MES | K13: UNIDAD
D14: 1 | E14: 2 | F14: 3 | G14: 4 | H14: 5 | I14: 6 | J14: TOTAL
B15: 1 | C15: ='ECO No. 2'!C13 -> ABRAZADERA PARA CRUCETAS DE CARDANDE FIERRO VACIADO PARA FORD F-150 EQUIPO DE TRANSPORTE / No. Eco. 1203, 1192, 1186, 1180 | D15: 2 | E15: 2 | F15: 2 | G15: 2 | H15: 1 | I15: 1 | J15: =SUM(D15:I15) -> 10 | K15: ='ECO No. 2'!E13 -> PIEZA
B16: 2 | C16: ='ECO No. 2'!C14 -> ABRAZADERA SINFÍN 1/2 DE ACERO INOXIDABLE PARA SUJETAR MANGUERA PARA TRACTO CAMION / No. Eco. 1132, 1162, 212, 4381, 4380 | D16: 4 | E16: 4 | F16: 3 | G16: 3 | H16: 3 | I16: 3 | J16: =SUM(D16:I16) -> 20 | K16: ='ECO No. 2'!E14 -> PIEZA
B17: 3 | C17: ='ECO No. 2'!C15 -> ABRAZADERA SINFÍN 3/4 DE ACERO INOXIDABLE PARA SUJETAR MANGUERA PARA TRACTO CAMION / No. Eco.1132, 1162, 212, 4381, 4380 | D17: 4 | E17: 4 | F17: 3 | G17: 3 | H17: 3 | I17: 3 | J17: =SUM(D17:I17) -> 20 | K17: ='ECO No. 2'!E15 -> PIEZA
B18: 4 | C18: ='ECO No. 2'!C16 -> ABRAZADERA SINFÍN 3/8 DE ACERO INOXIDABLE PARA SUJETAR MANGUERA EN TRACTO CAMION/ No. Eco. 1132, 1162, 212, 4381, 4380 | D18: 4 | E18: 4 | F18: 3 | G18: 3 | H18: 3 | I18: 3 | J18: =SUM(D18:I18) -> 20 | K18: ='ECO No. 2'!E16 -> PIEZA
B19: 5 | C19: ='ECO No. 2'!C17 -> ABRAZADERA SINFÍN 5/8 DE ACERO INOXIDABLE PARA SUJETAR MANGUERA PARA TRACTO CAMION / No. Eco. 1132, 1162, 212, 4381, 4380 | D19: 4 | E19: 4 | F19: 3 | G19: 3 | H19: 3 | I19: 3 | J19: =SUM(D19:I19) -> 20 | K19: ='ECO No. 2'!E17 -> PIEZA
B20: 6 | C20: ='ECO No. 2'!C18 -> AFLOJATODO (BOTE WD-40) BOTE EN AEROSOL AKRON 450ml PARA PERMITE AFLOJAR PIEZAS METALICAS. VEHICULOS VARIOS / No. Eco.1192, 1197, 1198, 1213, 1207, 1211, 1208,1217,1219,1181,1182, 1196, 1203, 1205, 1195, 1188, 1180, 1216, 1202, 1212 | D20: 5 | E20: 5 | F20: 5 | G20: 5 | H20: 5 | I20: 5 | J20: =SUM(D20:I20) -> 30 | K20: ='ECO No. 2'!E18 -> PIEZA
B21: 7 | C21: ='ECO No. 2'!C19 -> ALTERNADOR (FREIGTHLINER) ALIMENTA LOS SISTEMAS ELECTRICOS DE UN CAMION PARA GENERADOR DE CORRIENTE PARA CAMION TORTON / No. Eco. 1142, 1143 | D21: 1 | E21: 0 | F21: 1 | G21: 0 | H21: 0 | I21: 0 | J21: =SUM(D21:I21) -> 2 | K21: ='ECO No. 2'!E19 -> PIEZA
B22: 8 | C22: ='ECO No. 2'!C20 -> ALTERNADOR CHEVROLET SILVERADO DE ACERO PARA GENERAR CORRIENTE AL SISTEMA ELECTRICO DE EQUIPO DE TRANSPORTE / No. Eco. 2530, 368, 271 | D22: 1 | E22: 0 | F22: 1 | G22: 0 | H22: 1 | I22: 0 | J22: =SUM(D22:I22) -> 3 | K22: ='ECO No. 2'!E20 -> PIEZA
B23: 9 | C23: ='ECO No. 2'!C21 -> ALTERNADOR DELCO 12V, ALIMENTA LOS SISTEMAS ELECTRICOS DE LA MAQUINA PARA GENERADOR DE CORRIENTE PARA VIBROCOMPACTADORA / No. Eco. MP-00142, MP-00117, MP-00194, MP-00187 | D23: 0 | E23: 1 | F23: 0 | G23: 1 | H23: 0 | I23: 0 | J23: =SUM(D23:I23) -> 2 | K23: ='ECO No. 2'!E21 -> PIEZA
B24: 10 | C24: ='ECO No. 2'!C22 -> ALTERNADOR DELCO 24V, ALIMENTA LOS SISTEMAS ELECTRICOS DE LA MAQUINA PARA GENERADOR DE CORRIENTE PARA MOTOCONFORMADORA / No. Eco. MP-00073, MP-00079, MP-00080, MP-00081 | D24: 0 | E24: 0 | F24: 1 | G24: 0 | H24: 1 | I24: 0 | J24: =SUM(D24:I24) -> 2 | K24: ='ECO No. 2'!E22 -> PIEZA
B25: 11 | C25: ='ECO No. 2'!C23 -> ALTERNADOR F-150, ALIMENTA LOS SISTEMAS ELECTRICOS DE UNA CAMIONETA PARA GENERADOR DE CORRIENTE EN EQUIPO DE TRANSPORTE. / No. Eco. 1203, 1192, 1186, 1211 | D25: 1 | E25: 0 | F25: 1 | G25: 1 | H25: 1 | I25: 1 | J25: =SUM(D25:I25) -> 5 | K25: ='ECO No. 2'!E23 -> PIEZA
B26: 12 | C26: ='ECO No. 2'!C24 -> ALTERNADOR F-250, ALIMENTA LOS SISTEMAS ELECTRICOS DE UNA CAMIONETA PARA GENERADOR DE CORRIENTE EN EQUIPO DE TRANSPORTE / No. Eco. 1076, 1074 | D26: 1 | E26: 0 | F26: 1 | G26: 0 | H26: 1 | I26: 0 | J26: =SUM(D26:I26) -> 3 | K26: ='ECO No. 2'!E24 -> PIEZA
... B437: 423 | C437: ='ECO No. 2'!C435 -> ZANCO 9W7382, RIPPER D7R, HERRAMIENTA QUE SIRVE PARA DESGARRAR, ROMPER Y ESCARIFICAR TERRENOS DUROS PARA MOTOCONFORMADORA / No. Eco. MP-00163, MP-00165 | D437: 1 | E437: 0 | F437: 0 | G437: 0 | H437: 0 | I437: 0 | J437: =SUM(D437:I437) -> 1 | K437: ='ECO No. 2'!E435 -> PIEZA

Sheet Hoja1
A2: 2961 | B2: ABRAZADERA SINFÍN 3/4 | C2: 0 | D2: 7 | E2: 7 | F2: =SUM(C2:E2) -> 14
A3: 2961 | B3: ABRAZADERA SINFÍN 5/8 | C3: 0 | D3: 7 | E3: 7 | F3: =SUM(C3:E3) -> 14
A4: 2961 | B4: ABRAZADERAS PARA CRUCETAS DE CARDAN (PICK UP) | C4: 0 | D4: 4 | E4: 4 | F4: =SUM(C4:E4) -> 8
A5: 2961 | B5: ABRAZADERAS SINFÍN 3/8 | C5: 0 | D5: 10 | E5: 5 | F5: =SUM(C5:E5) -> 15
A6: 2981 | B6: ACUMUALDORES DE 17 PLACAS DE POSTE | C6: 0 | D6: 4 | E6: 4 | F6: =SUM(C6:E6) -> 8
A7: 2961 | B7: ACUMULADORES 17 PLACAS CAJA CHICA (PICK UP) | C7: 0 | D7: 7 | E7: 7 | F7: =SUM(C7:E7) -> 14
A8: 2981 | B8: ACUMULADORES 17 PLACAS CAJA GRANDE DE TORNILLO | C8: 0 | D8: 2 | E8: 2 | F8: =SUM(C8:E8) -> 4
A9: 2981 | B9: ACUMULADORES DE 23 PLACAS DE POSTE | C9: 0 | D9: 4 | E9: 4 | F9: =SUM(C9:E9) -> 8
A10: 2961 | B10: AFLOJATODO (BOTE WD-40) | C10: 0 | D10: 20 | E10: 15 | F10: =SUM(C10:E10) -> 35
A11: 2981 | B11: ALTERNADOR (FREIGTHLINER) | C11: 0 | D11: 1 | E11: 1 | F11: =SUM(C11:E11) -> 2
A12: 2981 | B12: ALTERNADOR DELCO 12V (VIBROCOMPACTADORA) | C12: 0 | D12: 2 | E12: 2 | F12: =SUM(C12:E12) -> 4
A13: 2981 | B13: ALTERNADOR DELCO 24V (MOTOCONFORMADORA) | C13: 0 | D13: 2 | E13: 2 | F13: =SUM(C13:E13) -> 4
... A20: 2981 | B20: ARMADURA 28MT 12V | C20: 0 | D20: 0 | E20: 3 | F20: =SUM(C20:E20) -> 3
A21: 2981 | B21: ARMADURA 29MT 12V | C21: 0 | E21: 3 | F21: =SUM(C21:E21) -> 3
A22: 2981 | B22: ARMADURA 42MT 24V | C22: 0 | D22: 0 | E22: 3 | F22: =SUM(C22:E22) -> 3
A23: 2961 | B23: ARMADURAS F-150 | C23: 0 | D23: 4 | E23: 4 | F23: =SUM(C23:E23) -> 8
A24: 2961 | B24: ARMADURAS F-250 | C24: 0 | D24: 2 | E24: 3 | F24: =SUM(C24:E24) -> 5
A25: 2961 | B25: ARMADURAS F-350 | C25: 0 | D25: 2 | E25: 3 | F25: =SUM(C25:E25) -> 5
A26: 2961 | B26: ASILENCIADOR (PICK UP) | C26: 0 | D26: 5 | E26: 5 | F26: =SUM(C26:E26) -> 10
A27: 2981 | B27: BALANCIN DE MUELLES (FREIGTHLINER) | C27: 0 | D27: 2 | E27: 2 | F27: =SUM(C27:E27) -> 4
A28: 2981 | B28: BALATAS (CAMA BAJA) | C28: 0 | D28: 2 | E28: 2 | F28: =SUM(C28:E28) -> 4
B29: BALATAS DELANTERAS | D29: 2 | E29: 2 | F29: 4
B30: BALATAS TRASERAS | D30: 2 | E30: 2 | F30: 4
A31: 2981 | B31: BALATAS TRASERAS (TRACTO CAMION) | C31: 0 | D31: 7 | E31: 7 | F31: =SUM(C31:E31) -> 14
A32: 2981 | B32: BALERO DE CARGA CON PERNO (RETRO EXCAVADORA 580 K) | C32: 0 | D32: 1 | E32: 1 | F32: =SUM(C32:E32) -> 2
A33: 2961 | B33: BALERO EXTERIOR (MINI BUS) | C33: 0 | D33: 0 | E33: 2 | F33: =SUM(C33:E33) -> 2
A34: 2961 | B34: BALERO EXTERNO PARA RUEDA (PICK UP) | C34: 0 | D34: 5 | E34: 5 | F34: =SUM(C34:E34) -> 10
A35: 2961 | B35: BALERO INTERIOR (MINI BUS) | C35: 0 | D35: 5 | E35: 5 | F35: =SUM(C35:E35) -> 10
A36: 2961 | B36: BALERO INTERNO PARA RUEDA (PICK UP) | C36: 0 | D36: 5 | E36: 0 | F36: =SUM(C36:E36) -> 5
A37: 2961 | B37: BALERO TRASERO EXTERIOR (MINI BUS) | C37: 0 | D37: 0 | E37: 2 | F37: =SUM(C37:E37) -> 2
A38: 2961 | B38: BALERO TRASERO INTERNO (MINI BUS) | C38: 0 | D38: 0 | E38: 2 | F38: =SUM(C38:E38) -> 2
A39: 2961 | B39: BALEROS 6203 (PICK UP) | C39: 0 | D39: 8 | E39: 6 | F39: =SUM(C39:E39) -> 14
A40: 2981 | B40: BANDA (CARGADOR FRONTAL WA450) | C40: 0 | D40: 1 | E40: 0 | F40: =SUM(C40:E40) -> 1
A41: 2961 | B41: BANDA (BULLDOZER D7R) | C41: 0 | D41: 2 | E41: 2 | F41: =SUM(C41:E41) -> 4
A42: 2981 | B42: BANDA (BULLDOZER D8T) | C42: 0 | D42: 1 | E42: 0 | F42: =SUM(C42:E42) -> 1
... A83: 2981 | B83: BOMBA DE TRANSFERENCIA DE COMBUSTIBLE | C83: 0 | D83: 1 | E83: 0 | F83: =SUM(C83:E83) -> 1
B84: BOMBA DE TRANSFERENCIA DE COMBUSTIBLE CON CUENTALITROS | D84: 1 | E84: 1 | F84: 2
A85: 2961 | B85: BRAZO PRIMARIO PIGMAN (PICK UP) | C85: 0 | D85: 4 | E85: 4 | F85: =SUM(C85:E85) -> 8
A86: 2961 | B86: BRAZO SECUNDARIO (PICK UP) | C86: 0 | D86: 4 | E86: 4 | F86: =SUM(C86:E86) -> 8
A87: 2981 | B87: BRONCE 4461524 (DESLIZADORES DE LA CUCHILLA) | C87: 0 | D87: 0 | E87: 10 | F87: =SUM(C87:E87) -> 10
...

Sheet 1ER
C1: 1 | D1: ENE | E1: 2 | F1: FEB | G1: 3 | H1: MAR | I1: 4 | J1: ABRIL | K1: TOTAL
A2: 2981 | B2: ESPREAS DE RIEGO (COMPACTADOR NEUMATICO) | C2: 0 | D2: 0 | E2: 22620 | F2: 15 | G2: 30160 | H2: 20 | I2: 22620 | J2: 15 | K2: =SUM(D2,F2,H2,J2) -> 50 | L2: =C2/1.16 -> 0 | M2: =E2/1.16 -> 19500 | N2: =G2/1.16 -> 26000 | O2: =I2/1.16 -> 19500
A3: 2961 | B3: ABRAZADERA SINFÍN 3/4 | C3: 0 | D3: 0 | E3: 365.4 | F3: 7 | G3: 365.4 | H3: 7 | I3: 313.2 | J3: 6 | K3: =SUM(D3,F3,H3,J3) -> 20 | L3: =C3/1.16 -> 0 | M3: =E3/1.16 -> 315 | N3: =G3/1.16 -> 315 | O3: =I3/1.16 -> 270
A4: 2961 | B4: ABRAZADERA SINFÍN 5/8 | C4: 0 | D4: 0 | E4: 365.4 | F4: 7 | G4: 365.4 | H4: 7 | I4: 313.2 | J4: 6 | K4: =SUM(D4,F4,H4,J4) -> 20 | L4: =C4/1.16 -> 0 | M4: =E4/1.16 -> 315 | N4: =G4/1.16 -> 315 | O4: =I4/1.16 -> 270
A5: 2961 | B5: ABRAZADERAS PARA CRUCETAS DE CARDAN (PICK UP) | C5: 0 | D5: 0 | E5: 2018.4 | F5: 4 | G5: 2018.4 | H5: 4 | I5: 1009.2 | J5: 2 | K5: =SUM(D5,F5,H5,J5) -> 10 | L5: =C5/1.16 -> 0 | M5: =E5/1.16 -> 1740 | N5: =G5/1.16 -> 1740 | O5: =I5/1.16 -> 870
A6: 2961 | B6: ABRAZADERAS SINFÍN 3/8 | C6: 0 | D6: 0 | E6: 522 | F6: 10 | G6: 261 | H6: 5 | I6: 261 | J6: 5 | K6: =SUM(D6,F6,H6,J6) -> 20 | L6: =C6/1.16 -> 0 | M6: =E6/1.16 -> 450 | N6: =G6/1.16 -> 225 | O6: =I6/1.16 -> 225
A7: 2981 | B7: ACUMUALDORES DE 17 PLACAS DE POSTE | C7: 0 | D7: 0 | E7: 16240 | F7: 4 | G7: 16240 | H7: 4 | I7: 8120 | J7: 2 | K7: =SUM(D7,F7,H7,J7) -> 10 | L7: =C7/1.16 -> 0 | M7: =E7/1.16 -> 14000 | N7: =G7/1.16 -> 14000 | O7: =I7/1.16 -> 7000
A8: 2961 | B8: ACUMULADORES 17 PLACAS CAJA CHICA (PICK UP) | C8: 0 | D8: 0 | E8: 29232 | F8: 7 | G8: 29232 | H8: 7 | I8: 25056 | J8: 6 | K8: =SUM(D8,F8,H8,J8) -> 20 | L8: =C8/1.16 -> 0 | M8: =E8/1.16 -> 25200 | N8: =G8/1.16 -> 25200 | O8: =I8/1.16 -> 21600
A9: 2981 | B9: ACUMULADORES 17 PLACAS CAJA GRANDE DE TORNILLO | C9: 0 | D9: 0 | E9: 9744 | F9: 2 | G9: 9744 | H9: 2 | I9: 4872 | J9: 1 | K9: =SUM(D9,F9,H9,J9) -> 5 | L9: =C9/1.16 -> 0 | M9: =E9/1.16 -> 8400 | N9: =G9/1.16 -> 8400 | O9: =I9/1.16 -> 4200
A10: 2981 | B10: ACUMULADORES DE 23 PLACAS DE POSTE | C10: 0 | D10: 0 | E10: 30160 | F10: 4 | G10: 30160 | H10: 4 | I10: 0 | J10: 0 | K10: =SUM(D10,F10,H10,J10) -> 8 | L10: =C10/1.16 -> 0 | M10: =E10/1.16 -> 26000 | N10: =G10/1.16 -> 26000 | O10: =I10/1.16 -> 0
A11: 2961 | B11: AFLOJATODO (BOTE WD-40) | C11: 0 | D11: 0 | E11: 4036.8 | F11: 20 | G11: 3027.6 | H11: 15 | I11: 3027.6 | J11: 15 | K11: =SUM(D11,F11,H11,J11) -> 50 | L11: =C11/1.16 -> 0 | M11: =E11/1.16 -> 3480 | N11: =G11/1.16 -> 2610 | O11: =I11/1.16 -> 2610
A12: 2981 | B12: ALTERNADOR (FREIGTHLINER) | C12: 0 | D12: 0 | E12: 3248 | F12: 1 | G12: 3248 | H12: 1 | I12: 3248 | J12: 1 | K12: =SUM(D12,F12,H12,J12) -> 3 | L12: =C12/1.16 -> 0 | M12: =E12/1.16 -> 2800 | N12: =G12/1.16 -> 2800 | O12: =I12/1.16 -> 2800
A13: 2981 | B13: ALTERNADOR DELCO 12V (VIBROCOMPACTADORA) | C13: 0 | D13: 0 | E13: 12064 | F13: 2 | G13: 12064 | H13: 2 | I13: 6032 | J13: 1 | K13: =SUM(D13,F13,H13,J13) -> 5 | L13: =C13/1.16 -> 0 | M13: =E13/1.16 -> 10400 | N13: =G13/1.16 -> 10400 | O13: =I13/1.16 -> 5200
... A21: 2981 | B21: ARMADURA 28MT 12V | C21: 0 | D21: 0 | E21: 0 | F21: 0 | G21: 5174.76 | H21: 3 | I21: 3449.84 | J21: 2 | K21: =SUM(D21,F21,H21,J21) -> 5 | L21: =C21/1.16 -> 0 | M21: =E21/1.16 -> 0 | N21: =G21/1.16 -> 4461 | O21: =I21/1.16 -> 2974
A22: 2981 | B22: ARMADURA 29MT 12V | C22: 0 | D22: 0 | E22: 0 | G22: 7656 | H22: 3 | I22: 5104 | J22: 2 | K22: =SUM(D22,F22,H22,J22) -> 5 | L22: =C22/1.16 -> 0 | M22: =E22/1.16 -> 0 | N22: =G22/1.16 -> 6600 | O22: =I22/1.16 -> 4400
A23: 2981 | B23: ARMADURA 42MT 24V | C23: 0 | D23: 0 | E23: 0 | F23: 0 | G23: 15520.8 | H23: 3 | I23: 10347.2 | J23: 2 | K23: =SUM(D23,F23,H23,J23) -> 5 | L23: =C23/1.16 -> 0 | M23: =E23/1.16 -> 0 | N23: =G23/1.16 -> 13380 | O23: =I23/1.16 -> 8920
A24: 2961 | B24: ARMADURAS F-150 | C24: 0 | D24: 0 | E24: 5104 | F24: 4 | G24: 5104 | H24: 4 | I24: 2552 | J24: 2 | K24: =SUM(D24,F24,H24,J24) -> 10 | L24: =C24/1.16 -> 0 | M24: =E24/1.16 -> 4400 | N24: =G24/1.16 -> 4400 | O24: =I24/1.16 -> 2200
A25: 2961 | B25: ARMADURAS F-250 | C25: 0 | D25: 0 | E25: 2784 | F25: 2 | G25: 4176 | H25: 3 | I25: 0 | J25: 0 | K25: =SUM(D25,F25,H25,J25) -> 5 | L25: =C25/1.16 -> 0 | M25: =E25/1.16 -> 2400 | N25: =G25/1.16 -> 3600 | O25: =I25/1.16 -> 0
A26: 2961 | B26: ARMADURAS F-350 | C26: 0 | D26: 0 | E26: 3248 | F26: 2 | G26: 4872 | H26: 3 | I26: 0 | J26: 0 | K26: =SUM(D26,F26,H26,J26) -> 5 | L26: =C26/1.16 -> 0 | M26: =E26/1.16 -> 2800 | N26: =G26/1.16 -> 4200 | O26: =I26/1.16 -> 0
A27: 2961 | B27: ASILENCIADOR (PICK UP) | C27: 0 | D27: 0 | E27: 7569 | F27: 5 | G27: 7569 | H27: 5 | I27: 0 | K27: =SUM(D27,F27,H27,J27) -> 10 | L27: =C27/1.16 -> 0 | M27: =E27/1.16 -> 6525 | N27: =G27/1.16 -> 6525 | O27: =I27/1.16 -> 0
A28: 2981 | B28: BALANCIN DE MUELLES (FREIGTHLINER) | C28: 0 | D28: 0 | E28: 12446.8 | F28: 2 | G28: 12446.8 | H28: 2 | I28: 12446.8 | J28: 2 | K28: =SUM(D28,F28,H28,J28) -> 6 | L28: =C28/1.16 -> 0 | M28: =E28/1.16 -> 10730 | N28: =G28/1.16 -> 10730 | O28: =I28/1.16 -> 10730
A29: 2981 | B29: BALATAS (CAMA BAJA) | C29: 0 | D29: 0 | E29: 7540 | F29: 2 | G29: 7540 | H29: 2 | I29: 7540 | J29: 2 | K29: =SUM(D29,F29,H29,J29) -> 6 | L29: =C29/1.16 -> 0 | M29: =E29/1.16 -> 6500 | N29: =G29/1.16 -> 6500 | O29: =I29/1.16 -> 6500
A30: 2981 | B30: BALATAS TRASERAS (TRACTO CAMION) | C30: 0 | D30: 0 | E30: 26390 | F30: 7 | G30: 26390 | H30: 7 | I30: 22620 | J30: 6 | K30: =SUM(D30,F30,H30,J30) -> 20 | L30: =C30/1.16 -> 0 | M30: =E30/1.16 -> 22750 | N30: =G30/1.16 -> 22750 | O30: =I30/1.16 -> 19500
A31: 2981 | B31: BALERO DE CARGA CON PERNO (RETRO EXCAVADORA 580 K) | C31: 0 | D31: 0 | E31: 1113.6 | F31: 1 | G31: 1113.6 | H31: 1 | I31: 0 | J31: 0 | K31: =SUM(D31,F31,H31,J31) -> 2 | L31: =C31/1.16 -> 0 | M31: =E31/1.16 -> 960 | N31: =G31/1.16 -> 960 | O31: =I31/1.16 -> 0
A32: 2961 | B32: BALERO EXTERIOR (MINI BUS) | C32: 0 | D32: 0 | E32: 0 | F32: 0 | G32: 2354.8 | H32: 2 | I32: 0 | J32: 0 | K32: =SUM(D32,F32,H32,J32) -> 2 | L32: =C32/1.16 -> 0 | M32: =E32/1.16 -> 0 | N32: =G32/1.16 -> 2030 | O32: =I32/1.16 -> 0
A33: 2961 | B33: BALERO EXTERNO PARA RUEDA (PICK UP) | C33: 0 | D33: 0 | E33: 2059 | F33: 5 | G33: 2059 | H33: 5 | I33: 0 | J33: 0 | K33: =SUM(D33,F33,H33,J33) -> 10 | L33: =C33/1.16 -> 0 | M33: =E33/1.16 -> 1775 | N33: =G33/1.16 -> 1775 | O33: =I33/1.16 -> 0
A34: 2961 | B34: BALERO INTERIOR (MINI BUS) | C34: 0 | D34: 0 | E34: 5887 | F34: 5 | G34: 5887 | H34: 5 | I34: 0 | J34: 0 | K34: =SUM(D34,F34,H34,J34) -> 10 | L34: =C34/1.16 -> 0 | M34: =E34/1.16 -> 5075 | N34: =G34/1.16 -> 5075 | O34: =I34/1.16 -> 0
A35: 2961 | B35: BALERO INTERNO PARA RUEDA (PICK UP) | C35: 0 | D35: 0 | E35: 2059 | F35: 5 | G35: 0 | H35: 0 | I35: 2059 | J35: 5 | K35: =SUM(D35,F35,H35,J35) -> 10 | L35: =C35/1.16 -> 0 | M35: =E35/1.16 -> 1775 | N35: =G35/1.16 -> 0 | O35: =I35/1.16 -> 1775
A36: 2961 | B36: BALERO TRASERO EXTERIOR (MINI BUS) | C36: 0 | D36: 0 | E36: 0 | F36: 0 | G36: 5400 | H36: 2 | I36: 0 | J36: 0 | K36: =SUM(D36,F36,H36,J36) -> 2 | L36: =C36/1.16 -> 0 | M36: =E36/1.16 -> 0 | N36: =G36/1.16 -> 4655.1724 | O36: =I36/1.16 -> 0
A37: 2961 | B37: BALERO TRASERO INTERNO (MINI BUS) | C37: 0 | D37: 0 | E37: 0 | F37: 0 | G37: 5400 | H37: 2 | I37: 0 | J37: 0 | K37: =SUM(D37,F37,H37,J37) -> 2 | L37: =C37/1.16 -> 0 | M37: =E37/1.16 -> 0 | N37: =G37/1.16 -> 4655.1724 | O37: =I37/1.16 -> 0
A38: 2961 | B38: BALEROS 6203 (PICK UP) | C38: 0 | D38: 0 | E38: 371.2 | F38: 8 | G38: 278.4 | H38: 6 | I38: 278.4 | J38: 6 | K38: =SUM(D38,F38,H38,J38) -> 20 | L38: =C38/1.16 -> 0 | M38: =E38/1.16 -> 320 | N38: =G38/1.16 -> 240 | O38: =I38/1.16 -> 240
A39: 2981 | B39: BANDA (CARGADOR FRONTAL WA450) | C39: 0 | D39: 0 | E39: 3636.6 | F39: 1 | G39: 0 | H39: 0 | I39: 0 | J39: 0 | K39: =SUM(D39,F39,H39,J39) -> 1 | L39: =C39/1.16 -> 0 | M39: =E39/1.16 -> 3135 | N39: =G39/1.16 -> 0 | O39: =I39/1.16 -> 0
... A94: 2981 | B94: CABEZA PARA COMPRESOR DE AIRE CAMIONES P/FREIGHTLINER 2009 | C94: 0 | D94: 0 | E94: 11101.2 | F94: 2 | G94: 11101.2 | H94: 2 | I94: 0 | J94: 0 | K94: =SUM(D94,F94,H94,J94) -> 4 | L94: =C94/1.16 -> 0 | M94: =E94/1.16 -> 9570 | N94: =G94/1.16 -> 9570 | O94: =I94/1.16 -> 0
A95: 2961 | B95: CABLE CALIBRE 00 (PARA REPARACION DE SISTEMA ELECTRICO) (PICK UP) | C95: 0 | D95: 0 | E95: 2784 | F95: 10 | G95: 2784 | H95: 10 | I95: 0 | K95: =SUM(D95,F95,H95,J95) -> 20 | L95: =C95/1.16 -> 0 | M95: =E95/1.16 -> 2400 | N95: =G95/1.16 -> 2400 | O95: =I95/1.16 -> 0
A96: 2981 | B96: CABLE CALIBRE 1/0 (PARA REPARACION DE SISTEMA ELECTRICO) | C96: 0 | D96: 0 | E96: 17516 | F96: 50 | G96: 17516 | H96: 50 | I96: 0 | J96: 0 | K96: =SUM(D96,F96,H96,J96) -> 100 | L96: =C96/1.16 -> 0 | M96: =E96/1.16 -> 15100 | N96: =G96/1.16 -> 15100 | O96: =I96/1.16 -> 0
A97: 2981 | B97: CABLE CALIBRE 12 (PARA REPARACION DE SISTEMA ELECTRICO) | C97: 0 | D97: 0 | E97: 12180 | F97: 50 | G97: 12180 | H97: 50 | I97: 0 | J97: 0 | K97: =SUM(D97,F97,H97,J97) -> 100 | L97: =C97/1.16 -> 0 | M97: =E97/1.16 -> 10500 | N97: =G97/1.16 -> 10500 | O97: =I97/1.16 -> 0
A98: 2961 | B98: CABLE CALIBRE 16 (PARA REPARACION DE SISTEMA ELECTRICO) (PICK UP) | C98: 0 | D98: 0 | E98: 5800 | F98: 20 | G98: 5800 | H98: 20 | I98: 4350 | J98: 15 | K98: =SUM(D98,F98,H98,J98) -> 55 | L98: =C98/1.16 -> 0 | M98: =E98/1.16 -> 5000 | N98: =G98/1.16 -> 5000 | O98: =I98/1.16 -> 3750
A99: 2961 | B99: CAIMANES CHICOS (CABLE 26 CM) (PICK UP) | C99: 0 | D99: 0 | E99: 338.72 | F99: 4 | G99: 338.72 | H99: 4 | I99: 0 | J99: 0 | K99: =SUM(D99,F99,H99,J99) -> 8 | L99: =C99/1.16 -> 0 | M99: =E99/1.16 -> 292 | N99: =G99/1.16 -> 292 | O99: =I99/1.16 -> 0
A100: 2961 | B100: CAIMANES GRANDES (CABLE 50CM) (PICK UP) | C100: 0 | D100: 0 | E100: 459.36 | F100: 4 | G100: 459.36 | H100: 4 | I100: 0 | J100: 0 | K100: =SUM(D100,F100,H100,J100) -> 8 | L100: =C100/1.16 -> 0 | M100: =E100/1.16 -> 396 | N100: =G100/1.16 -> 396 | O100: =I100/1.16 -> 0
A101: 2981 | B101: CAIMANES REFORZADO (CABLE 50CM, DE USO RUDO) | C101: 0 | D101: 0 | E101: 1740 | F101: 6 | G101: 2320 | H101: 8 | I101: 1740 | J101: 6 | K101: =SUM(D101,F101,H101,J101) -> 20 | L101: =C101/1.16 -> 0 | M101: =E101/1.16 -> 1500 | N101: =G101/1.16 -> 2000 | O101: =I101/1.16 -> 1500
...
